This page was generated on 2020-01-16 14:00:11 -0500 (Thu, 16 Jan 2020).
| malbec2 |
Linux (Ubuntu 18.04.3 LTS) / x86_64 | | | | | |
| tokay2 |
Windows Server 2012 R2 Standard / x64 | | | | | |
| [celaya2] |
OS X 10.11.6 El Capitan / x86_64 | | | | | |
|
|
| |
| a4 1.35.0 | Tobias Verbeke | OK | OK | WARNINGS | OK |  |
| a4Base 1.35.0 | Tobias Verbeke | OK | OK | WARNINGS | OK |  |
| a4Classif 1.35.0 | Tobias Verbeke | OK | OK | OK | OK |  |
| a4Core 1.35.0 | Tobias Verbeke | OK | OK | OK | OK |  |
| a4Preproc 1.35.0 | Tobias Verbeke | OK | OK | OK | OK |  |
| a4Reporting 1.35.0 | Tobias Verbeke , Willem Ligtenberg | OK | OK | WARNINGS | OK |  |
| ABAEnrichment 1.17.0 | Steffi Grote | OK | OK | OK | OK |  |
| ABarray 1.55.0 | Yongming Andrew Sun | OK | OK | OK | OK |  |
| abseqR 1.5.0 | JiaHong Fong | OK | OK | OK | OK |  |
| ABSSeq 1.41.0 | Wentao Yang | OK | OK | OK | OK |  |
| acde 1.17.0 | Juan Pablo Acosta | OK | OK | OK | OK |  |
| ACE 1.5.0 | Jos B Poell | OK | OK | OK | OK |  |
| aCGH 1.65.1 | Peter Dimitrov | OK | OK | OK | OK |  |
| ACME 2.43.0 | Sean Davis | OK | OK | OK | OK |  |
| ADaCGH2 2.27.0 | Ramon Diaz-Uriarte | OK | OK | OK | OK |  |
| ADAM 1.3.0 | Jose Luiz Rybarczyk Filho | OK | OK | OK | OK |  |
| ADAMgui 1.3.0 | Jose Luiz Rybarczyk Filho | OK | OK | OK | OK |  |
| adaptest 1.7.1 | Weixin Cai | OK | OK | OK | OK |  |
| adductomicsR 1.3.0 | Josie Hayes | OK | OK | OK | OK |  |
| adSplit 1.57.0 | Claudio Lottaz | OK | OK | WARNINGS | OK |  |
| AffiXcan 1.5.0 | Alessandro Lussana | OK | OK | OK | OK |  |
| affxparser 1.59.0 | Kasper Daniel Hansen | OK | OK | WARNINGS | OK |  |
| affy 1.65.1 | Rafael A. Irizarry | OK | OK | WARNINGS | OK |  |
| affycomp 1.63.0 | Rafael A. Irizarry | OK | OK | OK | OK |  |
| AffyCompatible 1.47.0 | Martin Morgan | OK | OK | OK | OK |  |
| affyContam 1.45.0 | V. Carey | OK | OK | OK | OK |  |
| affycoretools 1.59.4 | James W. MacDonald | OK | OK | OK | OK |  |
| AffyExpress 1.53.0 | Xuejun Arthur Li | OK | OK | OK | OK |  |
| affyILM 1.39.0 | Myriam Kroll and Fabrice Berger | OK | OK | OK | OK |  |
| affyio 1.57.0 | Ben Bolstad | OK | OK | OK | OK |  |
| affylmGUI 1.61.0 | Gordon Smyth | OK | OK | OK | OK |  |
| affyPara 1.47.0 | Markus Schmidberger | OK | OK | OK | OK |  |
affypdnn 1.61.1 | Laurent Gautier | OK | OK | ERROR | OK | |
| affyPLM 1.63.0 | Ben Bolstad | OK | OK | OK | OK |  |
| affyQCReport 1.65.0 | Craig Parman | OK | OK | OK | OK |  |
| AffyRNADegradation 1.33.0 | Mario Fasold | OK | OK | OK | OK |  |
| AGDEX 1.35.0 | Cuilan lani Gao | OK | OK | OK | OK |  |
| agilp 3.19.0 | Benny Chain | OK | OK | OK | OK |  |
| AgiMicroRna 2.37.0 | Pedro Lopez-Romero | OK | OK | OK | OK |  |
| AIMS 1.19.0 | Eric R Paquet | OK | OK | OK | OK |  |
| ALDEx2 1.19.1 | Greg Gloor | OK | OK | OK | OK |  |
| alevinQC 1.3.0 | Charlotte Soneson | OK | OK | OK | OK |  |
| AllelicImbalance 1.25.0 | Jesper R Gadin | OK | OK | OK | OK |  |
| AlphaBeta 1.1.0 | Yadollah Shahryary Dizaji | OK | OK | OK | OK |  |
| alpine 1.13.0 | Michael Love | OK | OK | OK | OK |  |
| ALPS 1.1.0 | Venu Thatikonda | OK | OK | OK | OK |  |
| alsace 1.23.1 | Ron Wehrens | OK | OK | OK | OK |  |
| altcdfenvs 2.49.0 | Laurent Gautier | OK | OK | OK | OK |  |
| AMARETTO 1.3.0 | Olivier Gevaert | OK | OK | OK | OK |  |
| AMOUNTAIN 1.13.0 | Dong Li | OK | OK | OK | OK |  |
| amplican 1.9.2 | Eivind Valen | OK | OK | OK | OK |  |
| AnalysisPageServer 1.21.0 | Brad Friedman | OK | OK | OK | OK |  |
anamiR 1.15.1 | Ti-Tai Wang | OK | ERROR | skipped | skipped | |
| Anaquin 2.11.0 | Ted Wong | OK | OK | OK | OK |  |
| AneuFinder 1.15.0 | Aaron Taudt | OK | OK | OK | OK |  |
| ANF 1.9.0 | Tianle Ma | OK | OK | OK | OK |  |
| animalcules 1.3.4 | Yue Zhao | OK | OK | OK | OK |  |
| annaffy 1.59.0 | Colin A. Smith | OK | OK | WARNINGS | OK |  |
| annmap 1.29.0 | Chris Wirth | OK | OK | WARNINGS | OK |  |
| annotate 1.65.0 | Bioconductor Package Maintainer | OK | OK | OK | OK |  |
| AnnotationDbi 1.49.0 | Bioconductor Package Maintainer | OK | OK | OK | OK |  |
| AnnotationFilter 1.11.0 | Bioconductor Package Maintainer | OK | OK | OK | OK |  |
| AnnotationForge 1.29.2 | Bioconductor Package Maintainer | OK | OK | OK | OK |  |
| AnnotationFuncs 1.37.0 | Stefan McKinnon Edwards | OK | OK | OK | OK |  |
| AnnotationHub 2.19.4 | Bioconductor Package Maintainer | OK | OK | WARNINGS | OK |  |
| AnnotationHubData 1.17.0 | Bioconductor Package Maintainer | OK | OK | WARNINGS | OK |  |
| annotationTools 1.61.0 | Alexandre Kuhn | OK | OK | OK | OK |  |
| annotatr 1.13.1 | Raymond G. Cavalcante | OK | OK | OK | OK |  |
| anota 1.35.0 | Ola Larsson | OK | OK | OK | OK |  |
| anota2seq 1.9.0 | Christian Oertlin , Julie Lorent | OK | OK | OK | OK |  |
| antiProfiles 1.27.0 | Hector Corrada Bravo | OK | OK | OK | OK |  |
| APAlyzer 1.1.0 | Ruijia Wang | OK | OK | OK | OK |  |
| apComplex 2.53.0 | Denise Scholtens | OK | OK | OK | OK |  |
| apeglm 1.9.0 | Anqi Zhu | OK | OK | OK | OK |  |
| appreci8R 1.5.1 | Sarah Sandmann | OK | OK | OK | OK |  |
| aroma.light 3.17.1 | Henrik Bengtsson | OK | OK | OK | OK |  |
| ArrayExpress 1.47.0 | Suhaib Mohammed | OK | ERROR | skipped | skipped | |
| ArrayExpressHTS 1.37.0 | Angela Goncalves , Andrew Tikhonov | OK | OK | OK | OK |  |
| arrayMvout 1.45.0 | V. Carey | OK | OK | OK | OK |  |
| arrayQuality 1.65.0 | Agnes Paquet | OK | OK | WARNINGS | OK |  |
| arrayQualityMetrics 3.43.0 | Mike Smith | OK | OK | OK | OK |  |
| ArrayTools 1.47.0 | Arthur Li | OK | OK | OK | OK |  |
| ArrayTV 1.25.0 | Eitan Halper-Stromberg | OK | OK | OK | OK |  |
| ARRmNormalization 1.27.0 | Jean-Philippe Fortin | OK | OK | OK | OK |  |
| artMS 1.5.1 | David Jimenez-Morales | OK | OK | OK | OK |  |
| ASAFE 1.13.0 | Qian Zhang | OK | OK | OK | OK |  |
| ASEB 1.31.0 | Likun Wang | OK | OK | OK | OK |  |
| ASGSCA 1.21.0 | Hela Romdhani | OK | OK | OK | OK |  |
| ASICS 2.3.0 | Gaëlle Lefort | OK | OK | WARNINGS | OK |  |
| ASpediaFI 1.1.1 | Doyeong Yu | OK | OK | OK | OK |  |
| ASpli 1.13.0 | Estefania Mancini | OK | OK | OK | OK |  |
| AssessORF 1.5.0 | Deepank Korandla | OK | OK | OK | OK |  |
| ASSET 2.5.0 | Samsiddhi Bhattacharjee | OK | OK | WARNINGS | OK |  |
| ASSIGN 1.23.0 | Ying Shen , W. Evan Johnson | OK | OK | OK | OK |  |
| ATACseqQC 1.11.1 | Jianhong Ou | OK | OK | OK | OK |  |
| atSNP 1.3.0 | Sunyoung Shin | OK | OK | OK | OK |  |
| attract 1.39.0 | Samuel Zimmerman | OK | OK | OK | OK |  |
| AUCell 1.9.0 | Sara Aibar | OK | OK | WARNINGS | OK |  |
| Autotuner 1.1.0 | Craig McLean | OK | OK | OK | OK |  |
| AWFisher 1.1.0 | Zhiguang Huo | OK | OK | OK | OK |  |
|
| |
| BaalChIP 1.13.0 | Ines de Santiago | OK | OK | WARNINGS | OK |  |
| BAC 1.47.0 | Raphael Gottardo | OK | OK | OK | OK |  |
| bacon 1.15.0 | Maarten van Iterson | OK | ERROR | skipped | skipped | |
| BADER 1.25.0 | Andreas Neudecker | OK | OK | OK | OK |  |
| BadRegionFinder 1.15.0 | Sarah Sandmann | OK | OK | OK | OK |  |
| BAGS 2.27.0 | Alejandro Quiroz-Zarate | OK | OK | OK | OK |  |
| ballgown 2.19.0 | Jack Fu | OK | OK | OK | OK |  |
| bamsignals 1.19.0 | Johannes Helmuth | OK | OK | OK | OK |  |
| BANDITS 1.3.2 | Simone Tiberi | OK | OK | OK | OK |  |
| banocc 1.11.0 | George Weingart | OK | OK | OK | OK |  |
| basecallQC 1.11.0 | Thomas Carroll | OK | OK | OK | OK |  |
| BaseSpaceR 1.31.0 | Jared O'Connell | OK | OK | OK | OK |  |
| Basic4Cseq 1.23.0 | Carolin Walter | OK | OK | OK | OK |  |
| BASiCS 1.9.10 | Catalina Vallejos | OK | OK | OK | OK |  |
| BasicSTARRseq 1.15.0 | Annika Buerger | OK | OK | OK | OK |  |
| batchelor 1.3.9 | Aaron Lun | OK | OK | OK | OK |  |
| BatchQC 1.15.0 | Solaiappan Manimaran | OK | OK | OK | OK |  |
| BayesKnockdown 1.13.0 | William Chad Young | OK | OK | OK | OK |  |
BayesPeak 1.39.1 | Jonathan Cairns | OK | ERROR | skipped | skipped | |
| bayNorm 1.5.14 | Wenhao Tang | OK | OK | OK | OK |  |
| baySeq 2.21.0 | Thomas J. Hardcastle | OK | OK | OK | OK |  |
| BBCAnalyzer 1.17.0 | Sarah Sandmann | OK | OK | OK | OK |  |
| BCRANK 1.49.0 | Adam Ameur | OK | OK | OK | OK |  |
| bcSeq 1.9.0 | Jiaxing Lin | OK | OK | OK | OK |  |
| BDMMAcorrect 1.5.0 | ZHENWEI DAI | OK | OK | OK | OK |  |
| beachmat 2.3.1 | Aaron Lun | OK | OK | OK | OK |  |
| beadarray 2.37.0 | Mark Dunning | OK | OK | OK | OK |  |
| beadarraySNP 1.53.0 | Jan Oosting | OK | OK | OK | OK |  |
| BeadDataPackR 1.39.0 | Mike Smith | OK | OK | OK | OK |  |
| BEARscc 1.7.0 | Benjamin Schuster-Boeckler | OK | OK | WARNINGS | OK |  |
| BEAT 1.25.0 | Kemal Akman | OK | OK | OK | OK |  |
| BEclear 2.3.0 | David Rasp | OK | OK | OK | OK |  |
| bgafun 1.49.0 | Iain Wallace | OK | OK | OK | OK |  |
| BgeeDB 2.13.0 | Julien Wollbrett , Julien Roux , Andrea Komljenovic , Frederic Bastian | OK | OK | OK | OK |  |
| BGmix 1.47.0 | Alex Lewin | OK | OK | OK | OK |  |
| bgx 1.53.0 | Ernest Turro | OK | OK | WARNINGS | OK |  |
| BHC 1.39.0 | Rich Savage | OK | OK | OK | OK |  |
| BicARE 1.45.0 | Pierre Gestraud | OK | OK | OK | OK |  |
| BiFET 1.7.0 | Ahrim Youn | OK | OK | OK | OK |  |
| BiGGR 1.23.0 | Anand K. Gavai | OK | ERROR | skipped | skipped | |
| bigmelon 1.13.4 | Tyler J. Gorrie-Stone | OK | OK | OK | OK |  |
| bigmemoryExtras 1.35.0 | Peter M. Haverty | OK | OK | WARNINGS | OK |  |
| bigPint 1.3.0 | Lindsay Rutter | OK | OK | OK | OK |  |
| bioassayR 1.25.0 | Tyler Backman | OK | OK | OK | OK |  |
| Biobase 2.47.2 | Bioconductor Package Maintainer | OK | OK | OK | OK |  |
| biobroom 1.19.0 | John D. Storey and Andrew J. Bass | OK | OK | OK | OK |  |
| biobtreeR 0.99.22 | Tamer Gur | OK | OK | OK | OK |  |
| bioCancer 1.15.0 | Karim Mezhoud | OK | OK | OK | OK |  |
| BiocCaseStudies 1.49.0 | Bioconductor Package Maintainer | OK | OK | OK | OK |  |
| BiocCheck 1.23.0 | Bioconductor Package Maintainer | OK | OK | OK | OK |  |
| BiocFileCache 1.11.4 | Lori Shepherd | OK | OK | OK | OK |  |
| BiocGenerics 0.33.0 | Bioconductor Package Maintainer | OK | OK | WARNINGS | OK |  |
| biocGraph 1.49.0 | Florian Hahne | OK | OK | OK | OK |  |
| BiocNeighbors 1.5.1 | Aaron Lun | OK | OK | WARNINGS | OK |  |
| BiocOncoTK 1.7.1 | VJ Carey | OK | OK | OK | OK |  |
| BioCor 1.11.0 | Lluís Revilla Sancho | OK | OK | OK | OK |  |
| BiocParallel 1.21.2 | Bioconductor Package Maintainer | OK | OK | OK | OK |  |
| BiocPkgTools 1.5.0 | Sean Davis | OK | OK | OK | OK |  |
| BiocSet 1.1.2 | Kayla Morrell | OK | OK | OK | OK |  |
| BiocSingular 1.3.1 | Aaron Lun | OK | OK | OK | OK |  |
| BiocSklearn 1.9.1 | VJ Carey | OK | OK | OK | OK |  |
| BiocStyle 2.15.5 | Bioconductor Package Maintainer | OK | OK | OK | OK |  |
| BiocVersion 3.11.1 | Bioconductor Package Maintainer | OK | OK | OK | OK |  |
| biocViews 1.55.3 | Bioconductor Package Maintainer | OK | OK | OK | OK |  |
| BiocWorkflowTools 1.13.0 | Mike Smith | OK | OK | OK | OK |  |
| bioDist 1.59.0 | Bioconductor Package Maintainer | OK | OK | OK | OK |  |
| biomaRt 2.43.1 | Mike Smith | OK | OK | ERROR | OK | |
| biomformat 1.15.0 | Paul J. McMurdie | OK | OK | WARNINGS | OK |  |
| BioMM 1.3.0 | Junfang Chen | OK | OK | OK | OK |  |
| BioMVCClass 1.55.0 | Elizabeth Whalen | OK | OK | OK | OK |  |
| biomvRCNS 1.27.0 | Yang Du | OK | OK | OK | OK |  |
| BioNet 1.47.0 | Marcus Dittrich | OK | ERROR | skipped | skipped | |
| BioNetStat 1.7.0 | Vinicius Jardim | OK | OK | OK | OK |  |
| BioQC 1.15.4 | Jitao David Zhang | OK | OK | OK | OK |  |
| BioSeqClass 1.45.0 | Li Hong | OK | ERROR | skipped | skipped | |
| biosigner 1.15.0 | Philippe Rinaudo , Etienne Thevenot | OK | OK | OK | OK |  |
| Biostrings 2.55.4 | H. Pagès | OK | OK | WARNINGS | OK |  |
| biosvd 2.23.0 | Anneleen Daemen , Matthew Brauer | OK | OK | OK | OK |  |
| BioTIP 1.1.0 | Zhezhen Wang , X Holly Yang < xyang2@uchicago> and Yuxi (Jennifer) Sun | OK | OK | OK | OK |  |
| biotmle 1.11.0 | Nima Hejazi | OK | OK | OK | OK |  |
| biovizBase 1.35.1 | Michael Lawrence | OK | OK | WARNINGS | OK |  |
| BiRewire 3.19.0 | Andrea Gobbi | OK | OK | OK | OK |  |
| birta 1.31.0 | Benedikt Zacher | OK | OK | OK | OK |  |
| biscuiteer 1.1.0 | "Tim Triche, Jr." | OK | OK | OK | OK |  |
BiSeq 1.27.1 | Katja Hebestreit | ERROR | ERROR | skipped | skipped | |
| BitSeq 1.31.0 | Antti Honkela , Panagiotis Papastamoulis | OK | OK | WARNINGS | OK |  |
| blacksheepr 1.1.0 | RugglesLab | OK | OK | OK | OK |  |
| blima 1.21.0 | Vojtěch Kulvait | OK | OK | WARNINGS | OK |  |
| BLMA 1.11.0 | Tin Nguyen | OK | OK | OK | OK |  |
| bnbc 1.9.0 | Kipper Fletez-Brant | OK | OK | OK | OK |  |
| BPRMeth 1.13.0 | Chantriolnt-Andreas Kapourani | OK | OK | OK | OK |  |
| BRAIN 1.33.0 | Piotr Dittwald | OK | OK | WARNINGS | OK |  |
| brainflowprobes 1.1.0 | Amanda Price | OK | OK | OK | OK |  |
| BrainStars 1.31.0 | Itoshi NIKAIDO | OK | OK | OK | OK |  |
| branchpointer 1.13.0 | Beth Signal | OK | OK | OK | OK |  |
| breakpointR 1.5.0 | David Porubsky | OK | OK | OK | OK |  |
| brendaDb 1.1.0 | Yi Zhou | OK | OK | OK | OK |  |
| bridge 1.51.0 | Raphael Gottardo | OK | OK | OK | OK |  |
| BridgeDbR 1.21.0 | Egon Willighagen | OK | ERROR | skipped | skipped | |
| BrowserViz 2.9.1 | Paul Shannon | OK | OK | OK | OK |  |
| BSgenome 1.55.2 | H. Pagès | OK | OK | WARNINGS | OK |  |
| bsseq 1.23.0 | Kasper Daniel Hansen | OK | OK | OK | OK |  |
| BubbleTree 2.17.0 | Todd Creasy , Wei Zhu | OK | OK | OK | OK |  |
| BufferedMatrix 1.51.0 | Ben Bolstad | OK | OK | OK | OK |  |
| BufferedMatrixMethods 1.51.0 | Ben Bolstad | OK | OK | OK | OK |  |
| BUMHMM 1.11.0 | Alina Selega | OK | OK | OK | OK |  |
| bumphunter 1.29.0 | Rafael A. Irizarry | OK | OK | OK | OK |  |
| BUS 1.43.0 | Yuanhua Liu | OK | OK | OK | OK |  |
| BUScorrect 1.5.0 | Xiangyu Luo | OK | OK | OK | OK |  |
| BUSpaRse 1.1.0 | Lambda Moses | OK | OK | OK | OK |  |
|
| |
| CAFE 1.23.0 | Sander Bollen | OK | OK | WARNINGS | OK |  |
| CAGEfightR 1.7.0 | Malte Thodberg | OK | OK | OK | OK |  |
| CAGEr 1.29.0 | Vanja Haberle , Charles Plessy , Damir Baranasic , Sarvesh Nikumbh | OK | OK | OK | OK |  |
CALIB 1.53.1 | Hui Zhao | OK | OK | ERROR | OK | |
| calm 1.1.0 | Kun Liang | OK | OK | OK | OK |  |
| CAMERA 1.43.0 | Steffen Neumann | OK | OK | WARNINGS | OK |  |
CAMTHC 1.5.0 | Lulu Chen | OK | OK | WARNINGS | OK |  |
| canceR 1.21.0 | Karim Mezhoud | OK | OK | OK | OK |  |
| cancerclass 1.31.0 | Daniel Kosztyla | OK | OK | WARNINGS | OK |  |
| CancerInSilico 2.7.0 | Thomas D. Sherman | OK | OK | OK | OK |  |
| CancerMutationAnalysis 1.29.0 | Simina M. Boca | OK | OK | OK | OK |  |
| CancerSubtypes 1.13.0 | Taosheng Xu | OK | OK | OK | OK |  |
| CAnD 1.19.0 | Caitlin McHugh | OK | OK | OK | OK |  |
| caOmicsV 1.17.0 | Henry Zhang | OK | OK | WARNINGS | OK |  |
| Cardinal 2.5.0 | Kylie A. Bemis | OK | OK | OK | OK |  |
| casper 2.21.0 | David Rossell | OK | OK | WARNINGS | OK |  |
| CATALYST 1.11.0 | Helena L. Crowell | OK | OK | OK | OK |  |
| Category 2.53.1 | Bioconductor Package Maintainer | OK | OK | OK | OK |  |
| categoryCompare 1.31.0 | Robert M. Flight | OK | OK | OK | OK |  |
| CausalR 1.19.0 | Glyn Bradley , Steven Barrett | OK | OK | OK | OK |  |
| cbaf 1.9.1 | Arman Shahrisa | OK | OK | OK | OK |  |
| ccfindR 1.7.0 | Jun Woo | OK | OK | OK | OK |  |
| ccmap 1.13.0 | Alex Pickering | OK | OK | OK | OK |  |
| CCPROMISE 1.13.0 | Xueyuan Cao | OK | OK | WARNINGS | OK |  |
| ccrepe 1.23.0 | Emma Schwager ,Craig Bielski, George Weingart | OK | OK | OK | OK |  |
| celaref 1.5.0 | Sarah Williams | OK | OK | OK | OK |  |
| celda 1.3.2 | Joshua Campbell | OK | ERROR | skipped | skipped | |
| cellbaseR 1.11.0 | Mohammed OE Abdallah | OK | OK | OK | OK |  |
| CellBench 1.3.1 | Shian Su | OK | OK | OK | OK |  |
cellGrowth 1.31.1 | Julien Gagneur | ERROR | ERROR | skipped | skipped | |
| cellHTS2 2.51.0 | Joseph Barry | OK | OK | WARNINGS | OK |  |
| cellity 1.15.0 | Tomislav Ilicic | OK | OK | OK | OK |  |
| CellMapper 1.13.0 | Brad Nelms | OK | ERROR | skipped | skipped | |
| CellMixS 1.3.2 | Almut Lütge | OK | OK | OK | OK |  |
| CellNOptR 1.33.0 | A.Gabor | OK | OK | WARNINGS | OK |  |
| cellscape 1.11.0 | Maia Smith | OK | OK | WARNINGS | OK |  |
| CellScore 1.7.0 | Nancy Mah | OK | OK | OK | OK |  |
| CellTrails 1.5.0 | Daniel Ellwanger | OK | OK | WARNINGS | OK |  |
| cellTree 1.17.0 | David duVerle | OK | OK | OK | OK |  |
| CEMiTool 1.11.1 | Helder Nakaya | OK | OK | OK | OK |  |
| ceRNAnetsim 0.99.24 | Selcen Ari Yuka | OK | OK | OK | OK |  |
| CeTF 0.99.12 | Carlos Alberto Oliveira de Biagi Junior | OK | OK | OK | OK |  |
| CexoR 1.25.0 | Pedro Madrigal | OK | OK | OK | OK |  |
| CFAssay 1.21.1 | Herbert Braselmann | OK | OK | OK | OK |  |
| CGEN 3.23.0 | William Wheeler | OK | OK | OK | OK |  |
| CGHbase 1.47.0 | Mark van de Wiel | OK | OK | OK | OK |  |
| CGHcall 2.49.0 | Mark van de Wiel | OK | OK | OK | OK |  |
| cghMCR 1.45.0 | J. Zhang | OK | OK | WARNINGS | OK |  |
| CGHnormaliter 1.41.0 | Bart P.P. van Houte | OK | OK | OK | OK |  |
| CGHregions 1.45.0 | Sjoerd Vosse | OK | OK | OK | OK |  |
| ChAMP 2.17.1 | Yuan Tian | OK | OK | WARNINGS | OK |  |
| CHARGE 1.7.0 | Benjamin Mayne | OK | OK | OK | OK |  |
| ChemmineOB 1.25.0 | Thomas Girke | OK | OK | WARNINGS | OK |  |
| ChemmineR 3.39.0 | Thomas Girke | OK | OK | WARNINGS | OK |  |
| CHETAH 1.3.0 | Jurrian de Kanter | OK | OK | OK | OK |  |
| ChIC 1.7.0 | Carmen Maria Livi | OK | OK | OK | OK |  |
| Chicago 1.15.0 | Mikhail Spivakov | OK | OK | OK | OK |  |
| chimera 1.29.0 | Raffaele A Calogero | OK | OK | OK | OK |  |
| chimeraviz 1.13.0 | Stian Lågstad | OK | OK | OK | OK |  |
| ChIPanalyser 1.9.1 | Patrick C.N. Martin | OK | OK | OK | OK |  |
| ChIPComp 1.17.0 | Li Chen | OK | OK | OK | OK |  |
| chipenrich 2.11.0 | Raymond G. Cavalcante | OK | OK | OK | OK |  |
| ChIPexoQual 1.11.0 | Rene Welch | OK | OK | OK | OK |  |
| ChIPpeakAnno 3.21.2 | Lihua Julie Zhu | OK | OK | OK | OK |  |
| ChIPQC 1.23.0 | Tom Carroll , Rory Stark | OK | OK | WARNINGS | OK |  |
| ChIPseeker 1.23.0 | Guangchuang Yu | OK | OK | OK | OK |  |
| chipseq 1.37.0 | Bioconductor Package Maintainer | OK | OK | WARNINGS | OK |  |
| ChIPseqR 1.41.0 | Peter Humburg | OK | OK | WARNINGS | OK |  |
| ChIPSeqSpike 1.7.0 | Nicolas Descostes | OK | OK | OK | OK |  |
| ChIPsim 1.41.0 | Peter Humburg | OK | OK | OK | OK |  |
| ChIPXpress 1.31.0 | George Wu | OK | OK | OK | OK |  |
| chopsticks 1.53.0 | Hin-Tak Leung | OK | OK | WARNINGS | OK |  |
chroGPS 2.5.1 | Oscar Reina | ERROR | ERROR | skipped | skipped | |
| chromDraw 2.17.0 | Jan Janecka | OK | OK | WARNINGS | OK |  |
| ChromHeatMap 1.41.0 | Tim F. Rayner | OK | OK | OK | OK |  |
| chromPlot 1.15.0 | Karen Y. Orostica | OK | OK | OK | OK |  |
| chromstaR 1.13.0 | Aaron Taudt | OK | OK | OK | OK |  |
| chromswitch 1.9.0 | Selin Jessa | OK | OK | OK | OK |  |
| chromVAR 1.9.0 | Alicia Schep | OK | OK | OK | OK |  |
| CHRONOS 1.15.0 | Panos Balomenos | OK | OK | OK | OK |  |
| cicero 1.5.1 | Hannah Pliner | OK | OK | OK | OK |  |
| CINdex 1.15.0 | Yuriy Gusev | OK | OK | OK | OK |  |
| circRNAprofiler 1.1.0 | Simona Aufiero | OK | OK | OK | OK |  |
| cisPath 1.27.0 | Likun Wang | OK | OK | WARNINGS | OK |  |
| ClassifyR 2.7.0 | Dario Strbenac | OK | OK | OK | OK |  |
| cleanUpdTSeq 1.25.0 | Jianhong Ou ; Lihua Julie Zhu | OK | OK | OK | OK |  |
| cleaver 1.25.1 | Sebastian Gibb | OK | OK | OK | OK |  |
| clippda 1.37.0 | Stephen Nyangoma | OK | OK | WARNINGS | OK |  |
| clipper 1.27.0 | Paolo Martini | OK | OK | OK | OK |  |
| cliqueMS 1.1.1 | Oriol Senan Campos | OK | OK | OK | OK |  |
| Clomial 1.23.0 | Habil Zare | OK | OK | OK | OK |  |
| Clonality 1.35.0 | Irina Ostrovnaya | OK | OK | OK | OK |  |
| clonotypeR 1.25.0 | Charles Plessy | OK | OK | OK | OK |  |
| clst 1.35.0 | Noah Hoffman | OK | OK | WARNINGS | OK |  |
| clstutils 1.35.0 | Noah Hoffman | OK | OK | WARNINGS | OK |  |
| CluMSID 1.3.0 | Tobias Depke | OK | ERROR | skipped | skipped | |
| clustComp 1.15.0 | Aurora Torrente | OK | OK | OK | OK |  |
| clusterExperiment 2.7.0 | Elizabeth Purdom | OK | OK | WARNINGS | OK |  |
| ClusterJudge 1.9.0 | Adrian Pasculescu | OK | OK | OK | OK |  |
| clusterProfiler 3.15.2 | Guangchuang Yu | ERROR | ERROR | skipped | skipped | |
| clusterSeq 1.11.0 | Thomas J. Hardcastle | OK | OK | OK | OK |  |
| ClusterSignificance 1.15.0 | Jason T Serviss | OK | OK | OK | OK |  |
| clusterStab 1.59.0 | James W. MacDonald | OK | OK | OK | OK |  |
| CMA 1.45.0 | Roman Hornung | OK | OK | OK | OK |  |
| cn.farms 1.35.0 | Andreas Mitterecker | OK | OK | OK | OK |  |
| cn.mops 1.33.0 | Guenter Klambauer | OK | OK | OK | OK |  |
| CNAnorm 1.33.0 | Stefano Berri | OK | OK | OK | OK |  |
| CNEr 1.23.0 | Ge Tan | OK | OK | WARNINGS | OK |  |
| CNORdt 1.29.0 | A. MacNamara | OK | OK | OK | OK |  |
| CNORfeeder 1.27.0 | F.Eduati | OK | OK | OK | OK |  |
| CNORfuzzy 1.29.0 | T. Cokelaer | OK | OK | OK | OK |  |
| CNORode 1.29.0 | David Henriques | OK | OK | OK | OK |  |
| CNTools 1.43.0 | J. Zhang | OK | OK | OK | OK |  |
| CNVfilteR 1.1.3 | Jose Marcos Moreno-Cabrera | OK | OK | OK | OK |  |
| cnvGSA 1.31.0 | Joseph Lugo | OK | OK | OK | OK |  |
| CNVPanelizer 1.19.0 | Thomas Wolf | OK | OK | OK | OK |  |
| CNVRanger 1.3.3 | Ludwig Geistlinger | OK | OK | OK | OK |  |
| CNVrd2 1.25.0 | Hoang Tan Nguyen | OK | OK | OK | OK |  |
| CNVtools 1.81.0 | Chris Barnes | OK | OK | OK | OK |  |
| cobindR 1.25.0 | Manuela Benary | OK | OK | WARNINGS | OK |  |
| CoCiteStats 1.59.0 | Bioconductor Package Maintainer | OK | OK | OK | OK |  |
| COCOA 2.1.0 | John Lawson | OK | OK | OK | OK |  |
| codelink 1.55.0 | Diego Diez | OK | OK | OK | OK |  |
| CODEX 1.19.0 | Yuchao Jiang | OK | OK | OK | OK |  |
| coexnet 1.9.0 | Juan David Henao | OK | OK | OK | OK |  |
| CoGAPS 3.7.0 | Elana J. Fertig | OK | OK | OK | OK |  |
| cogena 1.21.0 | Zhilong Jia | OK | OK | WARNINGS | OK |  |
| coGPS 1.31.0 | Yingying Wei | OK | OK | OK | OK |  |
| COHCAP 1.33.0 | Charles Warden | OK | OK | OK | OK |  |
| cola 1.3.3 | Zuguang Gu | OK | OK | OK | OK |  |
| coMET 1.19.0 | Tiphaine Martin | OK | OK | OK | OK |  |
| compartmap 1.5.0 | Benjamin Johnson | OK | OK | WARNINGS | OK |  |
| COMPASS 1.25.1 | Greg Finak | OK | OK | OK | OK |  |
| compcodeR 1.23.1 | Charlotte Soneson | OK | OK | OK | OK |  |
| compEpiTools 1.21.0 | Kamal Kishore | OK | OK | OK | OK |  |
| CompGO 1.23.0 | Ashley J. Waardenberg | OK | OK | OK | OK |  |
| ComplexHeatmap 2.3.0 | Zuguang Gu | OK | OK | OK | OK |  |
| CONFESS 1.15.0 | Diana LOW | OK | OK | WARNINGS | OK |  |
| consensus 1.5.0 | Tim Peters | OK | OK | OK | OK |  |
| ConsensusClusterPlus 1.51.0 | Matt Wilkerson | OK | OK | OK | OK |  |
| consensusDE 1.5.1 | Ashley J. Waardenberg | OK | OK | OK | OK |  |
| consensusOV 1.9.1 | Benjamin Haibe-Kains | OK | OK | OK | OK |  |
| consensusSeekeR 1.15.0 | Astrid Deschenes | OK | OK | OK | OK |  |
| contiBAIT 1.15.0 | Kieran O'Neill | OK | OK | OK | OK |  |
| conumee 1.21.0 | Volker Hovestadt | OK | OK | TIMEOUT | OK | |
| convert 1.63.0 | Yee Hwa (Jean) Yang | OK | OK | OK | OK |  |
| copa 1.55.0 | James W. MacDonald | OK | OK | OK | OK |  |
| copynumber 1.27.0 | Gro Nilsen | OK | OK | OK | OK |  |
| CopyNumberPlots 1.3.3 | Bernat Gel | OK | OK | OK | OK |  |
| CopywriteR 2.19.0 | Oscar Krijgsman | OK | OK | OK | OK |  |
| coRdon 1.5.0 | Anamaria Elek | OK | OK | OK | OK |  |
| CoRegFlux 1.3.0 | Pauline Trébulle and Mohamed Elati | OK | OK | OK | OK |  |
| CoRegNet 1.25.0 | Remy Nicolle | OK | OK | WARNINGS | OK |  |
| Cormotif 1.33.0 | Yingying Wei | OK | OK | OK | OK |  |
| CorMut 1.29.0 | Zhenpeng Li | OK | OK | OK | OK |  |
| CORREP 1.53.0 | Dongxiao Zhu | OK | OK | OK | OK |  |
| coseq 1.11.1 | Andrea Rau | OK | OK | OK | OK |  |
| cosmiq 1.21.0 | David Fischer | OK | OK | OK | OK |  |
| COSNet 1.21.0 | Marco Frasca | OK | OK | OK | OK |  |
| CountClust 1.15.0 | Kushal Dey | OK | OK | OK | OK |  |
| countsimQC 1.5.0 | Charlotte Soneson | OK | OK | OK | OK |  |
| covEB 1.13.0 | C. Pacini | OK | OK | OK | OK |  |
| CoverageView 1.25.0 | Ernesto Lowy | OK | OK | OK | OK |  |
| covRNA 1.13.0 | Lara Urban | OK | OK | OK | OK |  |
| cpvSNP 1.19.0 | Caitlin McHugh | OK | OK | OK | OK |  |
| cqn 1.33.0 | Kasper Daniel Hansen | OK | OK | OK | OK |  |
| CRImage 1.35.0 | Henrik Failmezger , Yinyin Yuan | OK | OK | OK | OK |  |
| CRISPRseek 1.27.5 | Lihua Julie Zhu | OK | OK | OK | OK |  |
| crisprseekplus 1.13.0 | Alper Kucukural | OK | OK | OK | OK |  |
| CrispRVariants 1.15.0 | Helen Lindsay | OK | ERROR | skipped | skipped | |
| crlmm 1.45.0 | Benilton S Carvalho | OK | OK | OK | OK |  |
| CrossICC 1.1.0 | Yu Sun | OK | OK | OK | OK |  |
| crossmeta 1.13.0 | Alex Pickering | OK | OK | WARNINGS | OK |  |
| CSAR 1.39.0 | Jose M Muino | OK | ERROR | skipped | skipped | |
| csaw 1.21.2 | Aaron Lun | OK | OK | ERROR | OK | |
| CSSP 1.25.0 | Chandler Zuo | OK | OK | OK | OK |  |
| CSSQ 0.99.5 | Ashwath Kumar | OK | OK | OK | OK |  |
| ctc 1.61.0 | Antoine Lucas | OK | OK | OK | OK |  |
CTDquerier 1.7.1 | Carles Hernandez-Ferrer | OK | ERROR | skipped | skipped | |
| cTRAP 1.5.0 | Nuno Saraiva-Agostinho | OK | OK | OK | OK |  |
| ctsGE 1.13.0 | Michal Sharabi-Schwager | OK | OK | OK | OK |  |
| cummeRbund 2.29.0 | Loyal A. Goff | OK | OK | OK | OK |  |
| customProDB 1.27.0 | Xiaojing Wang | OK | OK | OK | OK |  |
CVE 1.13.1 | Andreas Mock | OK | OK | ERROR | OK | |
| cycle 1.41.0 | Matthias Futschik | OK | OK | OK | OK |  |
| cydar 1.11.1 | Aaron Lun | OK | OK | OK | OK |  |
| CytoDx 1.7.0 | Zicheng Hu | OK | OK | OK | OK |  |
| cytofast 1.3.0 | K.A. Stam | OK | OK | WARNINGS | OK |  |
| cytolib 1.9.9 | Mike Jiang | OK | OK | WARNINGS | OK |  |
| CytoML 1.13.6 | Mike Jiang | OK | OK | WARNINGS | OK |  |
|
| |
| dada2 1.15.0 | Benjamin Callahan | OK | OK | OK | OK |  |
| dagLogo 1.25.0 | Jianhong Ou | OK | OK | OK | OK |  |
| daMA 1.59.0 | Jobst Landgrebe | OK | OK | OK | OK |  |
| DaMiRseq 1.11.0 | Mattia Chiesa | OK | ERROR | skipped | skipped | |
| DAPAR 1.19.13 | Samuel Wieczorek | OK | OK | OK | OK |  |
| DART 1.35.0 | Charles Shijie Zheng | OK | OK | OK | OK |  |
| DBChIP 1.31.0 | Kun Liang | OK | OK | OK | OK |  |
| dcanr 1.3.0 | Dharmesh D. Bhuva | OK | OK | OK | OK |  |
| dcGSA 1.15.0 | Jiehuan sun | OK | OK | WARNINGS | OK |  |
| DChIPRep 1.17.0 | Bernd Klaus | OK | OK | OK | OK |  |
| ddCt 1.43.0 | Jitao David Zhang | OK | OK | OK | OK |  |
| ddPCRclust 1.7.0 | Benedikt G. Brink | OK | OK | OK | OK |  |
| dearseq 0.99.9 | Boris P. Hejblum | OK | OK | OK | OK |  |
| debCAM 1.5.0 | Lulu Chen | OK | OK | OK | OK |  |
| debrowser 1.15.2 | Alper Kucukural | OK | OK | OK | OK |  |
| DECIPHER 2.15.0 | Erik Wright | OK | OK | OK | OK |  |
| deco 1.3.0 | Francisco Jose Campos Laborie | OK | OK | OK | OK |  |
| DEComplexDisease 1.7.0 | Guofeng Meng | OK | OK | OK | OK |  |
| decompTumor2Sig 2.3.0 | Rosario M. Piro | OK | OK | OK | OK |  |
| DeconRNASeq 1.29.0 | Ting Gong | OK | OK | OK | OK |  |
| decontam 1.7.0 | Benjamin Callahan | OK | OK | OK | OK |  |
DEDS 1.61.1 | Yuanyuan Xiao | OK | ERROR | skipped | skipped | |
| DeepBlueR 1.13.0 | Felipe Albrecht , Markus List | OK | OK | OK | OK |  |
| deepSNV 1.33.0 | Moritz Gerstung | OK | OK | OK | OK |  |
| DEFormats 1.15.0 | Andrzej Oleś | OK | OK | OK | OK |  |
| DEGraph | | ...NOT SUPPORTED... |
| DEGreport 1.23.0 | Lorena Pantano | OK | OK | OK | OK |  |
| DEGseq 1.41.0 | Likun Wang | OK | OK | OK | OK |  |
| DelayedArray 0.13.2 | Hervé Pagès | OK | OK | WARNINGS | OK |  |
| DelayedDataFrame 1.3.0 | Qian Liu | OK | ERROR | skipped | skipped | |
| DelayedMatrixStats 1.9.0 | Peter Hickey | OK | OK | OK | OK |  |
| deltaCaptureC 1.1.0 | Michael Shapiro | OK | OK | OK | OK |  |
| deltaGseg 1.27.0 | Diana Low | OK | OK | OK | OK |  |
| DeMAND 1.17.0 | Jung Hoon Woo , Mariano Alvarez | OK | OK | OK | OK |  |
| DeMixT 1.3.1 | Zeya Wang , Peng Yang , Fan Gao | OK | OK | WARNINGS | OK |  |
| DEP 1.9.0 | Arne Smits | OK | OK | OK | OK |  |
| DepecheR 1.3.1 | Jakob Theorell | OK | OK | OK | OK |  |
| DEqMS 1.5.1 | Yafeng Zhu | OK | OK | OK | OK |  |
| derfinder 1.21.0 | Leonardo Collado-Torres | OK | OK | OK | OK |  |
| derfinderHelper 1.21.0 | Leonardo Collado-Torres | OK | OK | OK | OK |  |
| derfinderPlot 1.21.0 | Leonardo Collado-Torres | OK | OK | OK | OK |  |
| DEScan2 1.7.0 | Dario Righelli | OK | OK | OK | OK |  |
| DESeq 1.39.0 | Simon Anders | OK | OK | OK | OK |  |
| DESeq2 1.27.19 | Michael Love | OK | OK | OK | OK |  |
| DEsingle 1.7.0 | Zhun Miao | OK | OK | OK | OK |  |
| destiny 3.1.0 | Philipp Angerer | OK | OK | ERROR | OK | |
| DEsubs 1.13.0 | Aristidis G. Vrahatis , Panos Balomenos | OK | OK | OK | OK |  |
| DEWSeq 1.1.0 | Hentze bioinformatics team | OK | OK | OK | OK |  |
| DEXSeq 1.33.0 | Alejandro Reyes | OK | OK | OK | OK |  |
| dexus 1.27.0 | Guenter Klambauer | OK | OK | OK | OK |  |
| DFP 1.45.0 | Rodrigo Alvarez-Glez | OK | OK | OK | OK |  |
| DiffBind 2.15.0 | Rory Stark | OK | OK | OK | OK |  |
| diffcoexp 1.7.0 | Wenbin Wei | OK | OK | OK | OK |  |
| diffcyt 1.7.1 | Lukas M. Weber | OK | OK | OK | OK |  |
| diffGeneAnalysis 1.69.0 | Choudary Jagarlamudi | OK | OK | OK | OK |  |
| diffHic 1.19.0 | Aaron Lun | OK | OK | OK | OK |  |
| DiffLogo 2.11.0 | Hendrik Treutler | OK | OK | OK | OK |  |
| diffloop 1.15.0 | Caleb Lareau | OK | OK | OK | OK |  |
| diffuStats 1.7.0 | Sergio Picart-Armada | OK | OK | WARNINGS | OK |  |
| diggit 1.19.0 | Mariano J Alvarez | OK | OK | WARNINGS | OK |  |
| Director 1.13.0 | Katherine Icay | OK | OK | OK | OK |  |
| DirichletMultinomial 1.29.0 | Martin Morgan | OK | OK | OK | OK |  |
| discordant 1.11.0 | Charlotte Siska | OK | OK | OK | OK |  |
| DiscoRhythm 1.3.1 | Matthew Carlucci | OK | OK | OK | OK |  |
| divergence 1.3.0 | Wikum Dinalankara , Luigi Marchionni | OK | OK | OK | OK |  |
| dks 1.33.0 | Jeffrey T. Leek | OK | OK | OK | OK |  |
| DMCFB 1.1.0 | Farhad Shokoohi | OK | OK | OK | OK |  |
| DMCHMM 1.9.0 | Farhad Shokoohi | OK | OK | WARNINGS | OK |  |
| DMRcaller 1.19.0 | Nicolae Radu Zabet | OK | OK | OK | OK |  |
| DMRcate 2.1.7 | Tim Peters | OK | OK | TIMEOUT | OK | |
| DMRforPairs 1.23.0 | Martin Rijlaarsdam | OK | OK | OK | OK |  |
| DMRScan 1.9.3 | Christian M Page | OK | OK | OK | OK |  |
| dmrseq 1.7.3 | Keegan Korthauer | OK | OK | WARNINGS | OK |  |
| DNABarcodeCompatibility 1.3.0 | Céline Trébeau | OK | OK | OK | OK |  |
| DNABarcodes 1.17.0 | Tilo Buschmann | OK | OK | OK | OK |  |
| DNAcopy 1.61.0 | Venkatraman E. Seshan | OK | OK | OK | OK |  |
| DNAshapeR 1.15.0 | Tsu-Pei Chiu | OK | OK | OK | OK |  |
| DominoEffect 1.7.0 | Marija Buljan | OK | OK | OK | OK |  |
| doppelgangR 1.15.0 | Levi Waldron | OK | OK | OK | OK |  |
| Doscheda 1.9.0 | Bruno Contrino | OK | ERROR | skipped | skipped | |
| DOSE 3.13.1 | Guangchuang Yu | OK | OK | OK | OK |  |
| doseR 1.3.0 | ake.vastermark | OK | OK | OK | OK |  |
| drawProteins 1.7.0 | Paul Brennan | OK | OK | OK | OK |  |
| DRIMSeq 1.15.0 | Malgorzata Nowicka | OK | OK | OK | OK |  |
| DriverNet 1.27.0 | Jiarui Ding | OK | OK | OK | OK |  |
| DropletUtils 1.7.1 | Aaron Lun | OK | OK | OK | OK |  |
| DrugVsDisease 2.29.0 | j. Saez-Rodriguez | OK | OK | OK | OK |  |
| DSS 2.35.0 | Hao Wu , Hao Feng | OK | OK | WARNINGS | OK |  |
| DTA 2.33.0 | Bjoern Schwalb | OK | OK | OK | OK |  |
| dualKS 1.47.0 | Eric J. Kort | OK | OK | OK | OK |  |
| DupChecker 1.25.0 | "Quanhu SHENG" | OK | OK | OK | OK |  |
| dupRadar 1.17.0 | Sergi Sayols , Holger Klein | OK | OK | OK | OK |  |
| dyebias 1.47.0 | Philip Lijnzaad | OK | OK | OK | OK |  |
| DynDoc 1.65.0 | Bioconductor Package Maintainer | OK | OK | OK | OK |  |
|
| |
| EasyqpcR 1.29.0 | Le Pape Sylvain | OK | OK | OK | OK |  |
| easyreporting 0.99.16 | Dario Righelli | OK | OK | OK | OK |  |
| easyRNASeq 2.23.2 | Nicolas Delhomme | OK | OK | ERROR | OK | |
| EBarrays 2.51.0 | Ming Yuan | OK | OK | OK | OK |  |
| EBcoexpress 1.31.0 | John A. Dawson | OK | OK | OK | OK |  |
| EBImage 4.29.1 | Andrzej Oleś | OK | OK | WARNINGS | OK |  |
| EBSEA 1.15.0 | Arfa Mehmood | OK | OK | OK | OK |  |
| EBSeq 1.27.0 | Ning Leng | OK | OK | OK | OK |  |
| EBSeqHMM 1.21.0 | Ning Leng | OK | OK | OK | OK |  |
| ecolitk 1.59.0 | Laurent Gautier | OK | OK | WARNINGS | OK |  |
| EDASeq 2.21.0 | Davide Risso | OK | ERROR | skipped | skipped | |
| EDDA 1.25.0 | Chia Kuan Hui Burton , Niranjan Nagarajan | OK | OK | WARNINGS | OK |  |
| edge 2.19.0 | John D. Storey , Andrew J. Bass | OK | OK | OK | OK |  |
| edgeR 3.29.0 | Yunshun Chen , Aaron Lun , Mark Robinson , Gordon Smyth | OK | OK | OK | OK |  |
| eegc 1.13.0 | Xiaoyuan Zhou | OK | OK | WARNINGS | OK |  |
| EGAD 1.15.0 | Sara Ballouz | OK | OK | OK | OK |  |
| EGSEA 1.15.0 | Monther Alhamdoosh | OK | OK | OK | OK |  |
| eiR 1.27.0 | Thomas Girke | OK | OK | OK | OK |  |
| eisa 1.39.0 | Gabor Csardi | OK | OK | OK | OK |  |
| ELBOW 1.23.0 | Graham Alvare , Xiangli Zhang | OK | OK | OK | OK |  |
| ELMER 2.11.0 | Tiago Chedraoui Silva | OK | OK | OK | OK |  |
| EMDomics 2.17.0 | Sadhika Malladi and Daniel Schmolze | OK | OK | OK | OK |  |
| EmpiricalBrownsMethod 1.15.0 | David Gibbs | OK | OK | OK | OK |  |
| ENCODExplorer 2.13.1 | Charles Joly Beauparlant | OK | OK | OK | OK |  |
| EnhancedVolcano 1.5.0 | Kevin Blighe | OK | OK | OK | OK |  |
| EnMCB 0.99.15 | Xin Yu | OK | OK | OK | OK |  |
| ENmix 1.23.0 | Zongli Xu | OK | OK | OK | OK |  |
| EnrichedHeatmap 1.17.0 | Zuguang Gu | OK | OK | OK | OK |  |
| EnrichmentBrowser 2.17.4 | Ludwig Geistlinger | OK | OK | OK | OK |  |
| enrichplot 1.7.0 | Guangchuang Yu | OK | OK | OK | OK |  |
| enrichTF 1.3.5 | Zheng Wei | OK | OK | OK | OK |  |
| ensembldb 2.11.2 | Johannes Rainer | OK | OK | OK | OK |  |
| ensemblVEP 1.29.0 | Bioconductor Package Maintainer | OK | OK | OK | OK |  |
| ENVISIONQuery 1.35.0 | Alex Lisovich , Roger Day | OK | OK | OK | OK |  |
| EpiDISH 2.3.0 | Shijie Charles Zheng | OK | OK | OK | OK |  |
| epigenomix 1.27.0 | Hans-Ulrich Klein | OK | OK | OK | OK |  |
| epihet 1.3.0 | Xiaowen Chen | OK | OK | OK | OK |  |
| epiNEM 1.11.1 | Martin Pirkl | OK | ERROR | skipped | skipped | |
| epivizr 2.17.0 | Hector Corrada Bravo | OK | ERROR | skipped | skipped | |
| epivizrChart 1.9.0 | Hector Corrada Bravo | OK | OK | OK | OK |  |
| epivizrData 1.15.0 | Hector Corrada Bravo | OK | OK | OK | OK |  |
| epivizrServer 1.15.0 | Hector Corrada Bravo | OK | OK | OK | OK |  |
| epivizrStandalone 1.15.0 | Hector Corrada Bravo | OK | OK | OK | OK |  |
| erccdashboard 1.21.0 | Sarah Munro | OK | OK | OK | OK |  |
| erma 1.3.0 | VJ Carey | OK | OK | OK | OK |  |
| ERSSA 1.5.0 | Zixuan Shao | OK | OK | OK | OK |  |
| esATAC 1.9.3 | Zheng Wei | OK | OK | OK | OK |  |
| esetVis 1.13.0 | Laure Cougnaud | OK | OK | OK | OK |  |
| eudysbiome 1.17.0 | Xiaoyuan Zhou | OK | OK | OK | OK |  |
| evaluomeR 1.3.41 | José Antonio Bernabé-Díaz | OK | OK | OK | OK |  |
| EventPointer 2.5.0 | Juan Pablo Romero | OK | OK | OK | OK |  |
| ExCluster 1.5.0 | R. Matthew Tanner | OK | OK | OK | OK |  |
| ExiMiR 2.29.0 | Sylvain Gubian | OK | ERROR | skipped | skipped | |
| exomeCopy 1.33.0 | Michael Love | OK | OK | OK | OK |  |
| ExperimentHub 1.13.5 | Bioconductor Package Maintainer | OK | OK | OK | OK |  |
| ExperimentHubData 1.13.0 | Bioconductor Package Maintainer | OK | OK | OK | OK |  |
| explorase | | ...NOT SUPPORTED... |
| ExpressionAtlas 1.15.0 | Suhaib Mohammed | OK | OK | OK | OK |  |
| ExpressionView 1.39.0 | Gabor Csardi | OK | OK | WARNINGS | OK |  |
|
| |
| fabia 2.33.0 | Andreas Mitterecker | OK | OK | WARNINGS | OK |  |
| factDesign 1.63.0 | Denise Scholtens | OK | OK | OK | OK |  |
| FamAgg 1.15.0 | Johannes Rainer | OK | OK | OK | OK |  |
| farms 1.39.0 | Djork-Arne Clevert | OK | OK | OK | OK |  |
| fastLiquidAssociation 1.23.0 | Tina Gunderson | OK | OK | WARNINGS | OK |  |
| FastqCleaner | | ERROR (Bad DESCRIPTION file) |
| fastseg 1.33.0 | Guenter Klambauer | OK | OK | OK | OK |  |
| FCBF 1.5.0 | Tiago Lubiana | OK | OK | WARNINGS | OK |  |
| fCCAC 1.13.0 | Pedro Madrigal | OK | OK | OK | OK |  |
| fCI 1.17.0 | Shaojun Tang | OK | OK | WARNINGS | OK |  |
| fcoex 1.1.0 | Tiago Lubiana | OK | OK | OK | OK |  |
| fcScan 1.1.0 | Pierre Khoueiry Abdallah El-Kurdi | OK | OK | OK | OK |  |
| fdrame 1.59.0 | Effi Kenigsberg | OK | OK | OK | OK |  |
| FELLA 1.7.0 | Sergio Picart-Armada | OK | OK | OK | OK |  |
| FEM 3.15.0 | Zhen Yang | OK | OK | WARNINGS | OK |  |
| ffpe 1.31.0 | Levi Waldron | OK | OK | OK | OK |  |
| FGNet 3.21.0 | Sara Aibar | OK | OK | OK | OK |  |
| fgsea 1.13.2 | Alexey Sergushichev | OK | OK | OK | OK |  |
| FindMyFriends 1.17.0 | Thomas Lin Pedersen | OK | OK | WARNINGS | OK |  |
| FISHalyseR 1.21.0 | Karesh Arunakirinathan | OK | OK | WARNINGS | OK |  |
| fishpond 1.3.4 | Michael Love | OK | OK | OK | OK |  |
| FitHiC 1.13.0 | Ruyu Tan | OK | OK | OK | OK |  |
| flagme 1.43.0 | Mark Robinson , Riccardo Romoli | OK | OK | WARNINGS | OK |  |
| flowAI 1.17.0 | Gianni Monaco | OK | OK | OK | OK |  |
| flowBeads 1.25.0 | Nikolas Pontikos | OK | OK | OK | OK |  |
| flowBin 1.23.0 | Kieran O'Neill | OK | OK | OK | OK |  |
| flowcatchR 1.21.0 | Federico Marini | OK | OK | OK | OK |  |
| flowCHIC 1.21.0 | Author: Joachim Schumann | OK | OK | OK | OK |  |
| flowCL 1.25.0 | Justin Meskas | OK | OK | OK | OK |  |
| flowClean 1.25.0 | Kipper Fletez-Brant | OK | OK | WARNINGS | OK |  |
| flowClust 3.25.0 | Greg Finak , Mike Jiang | OK | OK | WARNINGS | OK |  |
| flowCore 1.53.7 | Mike Jiang | OK | OK | WARNINGS | OK |  |
| flowCyBar 1.23.0 | Joachim Schumann | OK | OK | OK | OK |  |
| flowDensity 1.21.0 | Mehrnoush Malek | OK | OK | WARNINGS | OK |  |
| flowFit 1.25.0 | Davide Rambaldi | ERROR | ERROR | skipped | skipped | |
| flowFP 1.45.0 | Herb Holyst | OK | OK | OK | OK |  |
| flowMap 1.25.0 | Chiaowen Joyce Hsiao | OK | OK | WARNINGS | OK |  |
| flowMatch 1.23.0 | Ariful Azad | OK | OK | OK | OK |  |
| flowMeans 1.47.0 | Nima Aghaeepour | OK | OK | WARNINGS | OK |  |
| flowMerge 2.35.0 | Greg Finak | OK | OK | WARNINGS | OK |  |
| flowPeaks 1.33.0 | Yongchao Ge | OK | OK | OK | OK |  |
| flowPloidy 1.13.0 | Tyler Smith | OK | OK | OK | OK |  |
| flowPlots 1.35.0 | N. Hawkins | OK | OK | OK | OK |  |
| FlowRepositoryR 1.19.0 | Josef Spidlen | OK | OK | OK | OK |  |
| FlowSOM 1.19.1 | Sofie Van Gassen | OK | OK | WARNINGS | OK |  |
| flowSpecs 1.1.1 | Jakob Theorell | OK | OK | OK | OK |  |
| flowSpy 1.1.0 | Yuting Dai | OK | OK | OK | OK |  |
| flowStats 3.45.2 | Greg Finak and Mike Jiang | OK | OK | WARNINGS | OK |  |
| flowTime 1.11.0 | R. Clay Wright | OK | OK | OK | OK |  |
| flowTrans 1.39.1 | Greg Finak | OK | OK | OK | OK |  |
| flowType 2.25.0 | Nima Aghaeepour | OK | OK | WARNINGS | OK |  |
| flowUtils 1.51.0 | Josef Spidlen | OK | OK | OK | OK |  |
| flowViz 1.51.0 | Mike Jiang | OK | OK | OK | OK |  |
| flowVS 1.19.0 | Ariful Azad | OK | OK | OK | OK |  |
| flowWorkspace 3.35.7 | Greg Finak ,Mike Jiang | OK | OK | WARNINGS | OK |  |
| fmcsR 1.29.0 | Thomas Girke | OK | OK | OK | OK |  |
| focalCall 1.21.0 | Oscar Krijgsman | OK | OK | OK | OK |  |
| FoldGO 1.5.0 | Daniil Wiebe | OK | OK | OK | OK |  |
| FourCSeq 1.21.0 | Felix A. Klein | OK | ERROR | skipped | skipped | |
| FRGEpistasis 1.23.0 | Futao Zhang | OK | OK | OK | OK |  |
| frma 1.39.0 | Matthew N. McCall | OK | OK | OK | OK |  |
| frmaTools 1.39.0 | Matthew N. McCall | OK | OK | OK | OK |  |
| FunChIP 1.13.0 | Alice Parodi | OK | OK | WARNINGS | OK |  |
| FunciSNP 1.31.0 | Simon G. Coetzee | OK | OK | OK | OK |  |
| funtooNorm 1.11.0 | Kathleen Klein | OK | OK | OK | OK |  |
|
| |
| GA4GHclient 1.11.0 | Welliton Souza | OK | OK | OK | OK |  |
| GA4GHshiny 1.9.0 | Welliton Souza | OK | OK | OK | OK |  |
| gaga 2.33.0 | David Rossell | OK | OK | WARNINGS | OK |  |
| gage 2.37.0 | Weijun Luo | OK | OK | WARNINGS | OK |  |
| gaggle 1.55.0 | Christopher Bare | OK | OK | OK | OK |  |
| gaia 2.31.0 | S. Morganella | OK | OK | OK | OK |  |
| GAPGOM 1.3.0 | Casper Peters | OK | OK | OK | OK |  |
| GAprediction 1.13.0 | Jon Bohlin | OK | OK | OK | OK |  |
| garfield 1.15.0 | Valentina Iotchkova | OK | OK | OK | OK |  |
| GARS 1.7.0 | Mattia Chiesa | OK | OK | OK | OK |  |
| GateFinder 1.7.0 | Nima Aghaeepour | OK | OK | OK | OK |  |
| gcapc 1.11.0 | Mingxiang Teng | OK | OK | OK | OK |  |
| gcatest 1.17.0 | Wei Hao , John D. Storey | OK | OK | OK | OK |  |
| gCMAP 1.31.0 | Thomas Sandmann | OK | OK | OK | OK |  |
| gCMAPWeb 1.27.0 | Thomas Sandmann | OK | OK | OK | OK |  |
| gCrisprTools 1.15.1 | Russell Bainer | OK | OK | OK | OK |  |
| gcrma 2.59.0 | Z. Wu | OK | OK | OK | OK |  |
| GCSscore 1.1.0 | Guy M. Harris | OK | OK | OK | OK |  |
| GDCRNATools 1.7.0 | Ruidong Li | OK | OK | OK | OK |  |
| GDSArray 1.7.0 | Qian Liu | OK | OK | OK | OK |  |
| gdsfmt 1.23.5 | Xiuwen Zheng | OK | OK | OK | OK |  |
| geecc 1.21.0 | Markus Boenn | OK | OK | OK | OK |  |
| GEM 1.13.0 | Hong Pan | OK | OK | OK | OK |  |
| gemini 1.1.0 | Sidharth Jain | OK | OK | OK | OK |  |
| genArise 1.63.0 | IFC Development Team | OK | OK | WARNINGS | OK |  |
| genbankr 1.15.0 | Gabriel Becker | OK | OK | OK | OK |  |
| GeneAccord 1.5.0 | Ariane L. Moore | OK | OK | OK | OK |  |
| GeneAnswers 2.29.0 | Lei Huang and Gang Feng | OK | OK | WARNINGS | OK |  |
| geneAttribution 1.13.0 | Arthur Wuster | OK | OK | OK | OK |  |
| GeneBreak 1.17.0 | Evert van den Broek | OK | OK | OK | OK |  |
| geneClassifiers 1.11.0 | R Kuiper | OK | OK | OK | OK |  |
| GeneExpressionSignature 1.33.0 | Yang Cao , Fei Li | OK | OK | WARNINGS | OK |  |
| genefilter 1.69.0 | Bioconductor Package Maintainer | OK | OK | OK | OK |  |
| genefu 2.19.0 | Benjamin Haibe-Kains | OK | OK | OK | OK |  |
| GeneGA 1.37.0 | Zhenpeng Li | OK | OK | OK | OK |  |
| GeneGeneInteR 1.13.0 | Mathieu Emily , Magalie Houee-Bigot | OK | OK | OK | OK |  |
| GeneMeta 1.59.0 | Bioconductor Package Maintainer | OK | OK | OK | OK |  |
| GeneNetworkBuilder 1.29.0 | Jianhong Ou | OK | OK | OK | OK |  |
| GeneOverlap 1.23.0 | Li Shen, Mount Sinai | OK | OK | OK | OK |  |
| geneplast 1.13.2 | Mauro Castro | OK | OK | WARNINGS | OK |  |
| geneplotter 1.65.0 | Bioconductor Package Maintainer | OK | OK | OK | OK |  |
| geneRecommender 1.59.0 | Greg Hather | OK | OK | OK | OK |  |
| GeneRegionScan 1.43.0 | Lasse Folkersen | OK | OK | OK | OK |  |
| geneRxCluster 1.23.0 | Charles Berry | OK | OK | OK | OK |  |
| GeneSelectMMD 2.31.0 | Weiliang Qiu | OK | OK | WARNINGS | OK |  |
| GENESIS 2.17.0 | Stephanie M. Gogarten | OK | OK | OK | OK |  |
| GeneStructureTools 1.7.0 | Beth Signal | OK | OK | OK | OK |  |
| geNetClassifier 1.27.1 | Sara Aibar | OK | OK | OK | OK |  |
| GeneticsDesign 1.55.0 | The R Genetics Project | OK | OK | OK | OK |  |
| GeneticsPed 1.49.0 | David Henderson | OK | OK | OK | OK |  |
| geneXtendeR 1.13.0 | Bohdan Khomtchouk | OK | OK | OK | OK |  |
| GENIE3 1.9.0 | Van Anh Huynh-Thu | OK | OK | OK | OK |  |
| genoCN 1.39.0 | Wei Sun | OK | OK | OK | OK |  |
| GenoGAM 2.5.0 | Georg Stricker | OK | OK | WARNINGS | OK |  |
| genomation 1.19.0 | Altuna Akalin , Vedran Franke | OK | OK | WARNINGS | OK |  |
| GenomeInfoDb 1.23.6 | Bioconductor Package Maintainer | OK | OK | OK | OK |  |
| genomeIntervals 1.43.0 | Julien Gagneur | OK | OK | OK | OK |  |
| genomes 3.17.0 | Chris Stubben | OK | OK | OK | OK |  |
| GenomicAlignments 1.23.1 | Bioconductor Package Maintainer | OK | OK | OK | OK |  |
| GenomicDataCommons 1.11.0 | Sean Davis | OK | OK | WARNINGS | OK |  |
| GenomicFeatures 1.39.2 | Bioconductor Package Maintainer | OK | OK | ERROR | OK | |
| GenomicFiles 1.23.0 | Bioconductor Package Maintainer | OK | OK | OK | OK |  |
| GenomicInteractions 1.21.1 | Liz Ing-Simmons | OK | OK | OK | OK |  |
| GenomicOZone 1.1.0 | Hua Zhong, Mingzhou Song | OK | OK | OK | OK |  |
| GenomicRanges 1.39.1 | Bioconductor Package Maintainer | OK | OK | WARNINGS | OK |  |
| GenomicScores 1.11.3 | Robert Castelo | OK | OK | OK | OK |  |
| GenomicTuples 1.21.0 | Peter Hickey | OK | OK | OK | OK |  |
Genominator 1.41.1 | James Bullard | ERROR | ERROR | skipped | skipped | |
| genoset 1.43.0 | Peter M. Haverty | OK | OK | WARNINGS | OK |  |
| genotypeeval 1.19.0 | Jennifer Tom | OK | OK | OK | OK |  |
| genphen 1.15.0 | Simo Kitanovski | OK | OK | OK | OK |  |
| GenRank 1.15.0 | Chakravarthi Kanduri | OK | OK | OK | OK |  |
| GenVisR 1.19.2 | Zachary Skidmore | OK | OK | ERROR | OK | |
| GEOmetadb 1.49.0 | Jack Zhu | OK | OK | OK | OK |  |
| GEOquery 2.55.1 | Sean Davis | OK | OK | OK | OK |  |
| GEOsubmission 1.39.0 | Alexandre Kuhn | OK | OK | OK | OK |  |
| gep2pep 1.7.0 | Francesco Napolitano | OK | OK | OK | OK |  |
| gespeR 1.19.0 | Fabian Schmich | OK | OK | WARNINGS | OK |  |
| GEWIST 1.31.0 | Wei Q. Deng | OK | OK | OK | OK |  |
| GGBase 3.49.0 | VJ Carey | OK | OK | OK | OK |  |
| ggbio 1.35.0 | Michael Lawrence | OK | OK | WARNINGS | OK |  |
| ggcyto 1.15.0 | Mike Jiang | OK | ERROR | skipped | skipped | |
| GGtools 5.23.0 | VJ Carey | OK | OK | OK | OK |  |
| ggtree 2.1.1 | Guangchuang Yu | OK | OK | OK | OK |  |
| GIGSEA 1.5.0 | Shijia Zhu | OK | OK | OK | OK |  |
| girafe 1.39.0 | J. Toedling | OK | OK | OK | OK |  |
| GISPA 1.11.0 | Bhakti Dwivedi | OK | OK | OK | OK |  |
| GLAD 2.51.0 | Philippe Hupe | OK | ERROR | skipped | skipped | |
| GladiaTOX 1.3.0 | PMP S.A. R Support | OK | OK | OK | OK |  |
| Glimma 1.15.1 | Shian Su | OK | OK | OK | OK |  |
| glmSparseNet 1.5.0 | André Veríssimo | OK | ERROR | skipped | skipped | |
| GlobalAncova 4.5.0 | Manuela Hummel | OK | OK | OK | OK |  |
| globalSeq 1.15.0 | Armin Rauschenberger | OK | OK | OK | OK |  |
| globaltest 5.41.0 | Jelle Goeman | OK | OK | OK | OK |  |
| gmapR 1.29.0 | Michael Lawrence | OK | OK | WARNINGS | OK |  |
| GmicR 1.1.0 | The package maintainer | OK | ERROR | skipped | skipped | |
| GMRP 1.15.0 | Yuan-De Tan | OK | OK | WARNINGS | OK |  |
| GNET2 1.3.6 | Chen Chen | OK | OK | OK | OK |  |
| GOexpress 1.21.0 | Kevin Rue-Albrecht | OK | OK | OK | OK |  |
| GOfuncR 1.7.0 | Steffi Grote | OK | OK | OK | OK |  |
| GOFunction 1.35.0 | Jing Wang | OK | OK | OK | OK |  |
| GOpro 1.13.0 | Lidia Chrabaszcz | OK | OK | WARNINGS | OK |  |
| goProfiles 1.49.0 | Alex Sanchez | OK | OK | OK | OK |  |
| GOSemSim 2.13.0 | Guangchuang Yu | OK | OK | OK | OK |  |
| goseq 1.39.0 | Matthew Young , Nadia Davidson | OK | OK | OK | OK |  |
| GOSim 1.25.0 | Holger Froehlich | OK | OK | OK | OK |  |
| goSTAG 1.11.0 | Brian D. Bennett | OK | OK | OK | OK |  |
| GOstats 2.53.0 | Bioconductor Package Maintainer | OK | OK | OK | OK |  |
| GOsummaries 2.23.0 | Raivo Kolde | OK | OK | OK | OK |  |
| GOTHiC 1.23.0 | Borbala Mifsud | OK | OK | OK | OK |  |
| goTools 1.61.0 | Agnes Paquet | OK | OK | OK | OK |  |
| gpart 1.5.0 | Sun Ah Kim | OK | OK | OK | OK |  |
| gpls 1.59.0 | Bioconductor Package Maintainer | OK | OK | WARNINGS | OK |  |
| gprege 1.31.0 | Alfredo Kalaitzis | OK | OK | OK | OK |  |
| gpuMagic 1.3.0 | Jiefei Wang | OK | OK | OK | OK |  |
| gQTLBase 1.19.0 | VJ Carey | OK | OK | OK | OK |  |
| gQTLstats 1.19.0 | VJ Carey | OK | OK | OK | OK |  |
| gramm4R 1.1.0 | Tianlu Chen | OK | OK | OK | OK |  |
| graper 1.3.2 | Britta Velten | OK | OK | OK | OK |  |
| graph 1.65.0 | Bioconductor Package Maintainer | OK | OK | OK | OK |  |
| GraphAlignment 1.51.0 | Joern P. Meier | OK | OK | OK | OK |  |
| GraphAT 1.59.0 | Thomas LaFramboise | OK | OK | OK | OK |  |
| graphite 1.33.0 | Gabriele Sales | OK | OK | OK | OK |  |
| GraphPAC 1.29.0 | Gregory Ryslik | OK | OK | OK | OK |  |
| GRENITS 1.39.0 | Edward Morrissey | OK | OK | OK | OK |  |
| GreyListChIP 1.19.0 | Gordon Brown | OK | OK | OK | OK |  |
| GRmetrics 1.13.0 | Nicholas Clark , Mario Medvedovic | OK | OK | OK | OK |  |
| groHMM 1.21.0 | Anusha Nagari , Tulip Nandu , W. Lee Kraus | OK | OK | OK | OK |  |
| GRridge 1.11.0 | Mark A. van de Wiel | OK | OK | WARNINGS | OK |  |
| GSALightning 1.15.0 | Billy Heung Wing Chang | OK | OK | OK | OK |  |
| GSAR 1.21.0 | Yasir Rahmatallah , Galina Glazko | OK | OK | OK | OK |  |
| GSCA 2.17.0 | Zhicheng Ji | OK | OK | OK | OK |  |
| gscreend 1.1.0 | Katharina Imkeller | OK | OK | OK | OK |  |
| GSEABase 1.49.0 | Bioconductor Package Maintainer | OK | OK | OK | OK |  |
| GSEABenchmarkeR 1.7.2 | Ludwig Geistlinger | OK | OK | OK | OK |  |
| GSEAlm 1.47.0 | Assaf Oron | OK | OK | OK | OK |  |
| gsean 1.7.0 | Dongmin Jung | OK | OK | OK | OK |  |
| GSReg 1.21.0 | Bahman Afsari , Elana J. Fertig | OK | OK | WARNINGS | OK |  |
| GSRI 2.35.0 | Julian Gehring | OK | OK | OK | OK |  |
| GSVA 1.35.4 | Justin Guinney | OK | OK | OK | OK |  |
| gtrellis 1.19.0 | Zuguang Gu | OK | OK | OK | OK |  |
| GUIDEseq 1.17.1 | Lihua Julie Zhu | OK | OK | OK | OK |  |
| Guitar 2.3.0 | Jia Meng | OK | OK | OK | OK |  |
| Gviz 1.31.0 | Robert Ivanek | OK | OK | OK | OK |  |
| gwascat 2.19.1 | VJ Carey | OK | OK | WARNINGS | OK |  |
| GWASTools 1.33.0 | Stephanie M. Gogarten | OK | OK | OK | OK |  |
| gwasurvivr 1.5.0 | Abbas Rizvi | OK | OK | OK | OK |  |
|
| |
| h5vc 2.21.0 | Paul Theodor Pyl | OK | OK | OK | OK |  |
| hapFabia 1.29.0 | Andreas Mitterecker | OK | OK | OK | OK |  |
| Harman 1.15.0 | Jason Ross | OK | OK | OK | OK |  |
| Harshlight 1.59.0 | Maurizio Pellegrino | OK | OK | OK | OK |  |
| HCABrowser 1.3.0 | Bioconductor Package Maintainer | OK | OK | OK | OK |  |
| HCAExplorer 1.1.0 | Bioconductor Package Maintainer | OK | OK | OK | OK |  |
| HDF5Array 1.15.2 | Hervé Pagès | OK | OK | OK | OK |  |
| HDTD 1.21.0 | Anestis Touloumis | OK | OK | OK | OK |  |
| heatmaps 1.11.0 | Malcolm Perry | OK | OK | OK | OK |  |
| Heatplus 2.33.2 | Alexander Ploner | OK | OK | OK | OK |  |
| HelloRanges 1.13.0 | Michael Lawrence | OK | OK | OK | OK |  |
| HELP 1.45.0 | Reid F. Thompson | OK | OK | OK | OK |  |
| HEM 1.59.0 | HyungJun Cho | OK | OK | OK | OK |  |
| hiAnnotator 1.21.0 | Nirav V Malani | OK | OK | OK | OK |  |
| HIBAG 1.23.0 | Xiuwen Zheng | OK | OK | OK | OK |  |
| HiCBricks 1.5.0 | Koustav Pal | OK | OK | OK | OK |  |
| HiCcompare 1.9.0 | John Stansfield | OK | OK | OK | OK |  |
| hicrep 1.11.0 | Tao Yang | OK | OK | OK | OK |  |
| hierGWAS 1.17.0 | Laura Buzdugan | OK | OK | OK | OK |  |
| hierinf 1.5.0 | Claude Renaux | OK | OK | OK | OK |  |
| HilbertCurve 1.17.0 | Zuguang Gu | OK | OK | OK | OK |  |
| HilbertVis 1.45.0 | Simon Anders | OK | OK | WARNINGS | OK |  |
| HilbertVisGUI | | ...NOT SUPPORTED... |
| HiLDA 1.1.0 | Zhi Yang | OK | OK | OK | OK |  |
| hipathia 2.3.0 | Marta R. Hidalgo | OK | OK | OK | OK |  |
| hiReadsProcessor 1.23.0 | Nirav V Malani | OK | OK | OK | OK |  |
| HIREewas 1.5.0 | Xiangyu Luo | OK | OK | OK | OK |  |
| HiTC 1.31.0 | Nicolas Servant | OK | OK | OK | OK |  |
| hmdbQuery 1.7.0 | VJ Carey | OK | OK | OK | OK |  |
| HMMcopy 1.29.0 | Daniel Lai , Sohrab Shah | OK | OK | OK | OK |  |
| hopach 2.47.0 | Katherine S. Pollard | OK | OK | OK | OK |  |
| HPAanalyze 1.5.1 | Anh Nhat Tran | OK | OK | OK | OK |  |
| hpar 1.29.0 | Laurent Gatto | OK | OK | OK | OK |  |
| HTqPCR 1.41.0 | Heidi Dvinge | OK | OK | OK | OK |  |
| HTSeqGenie | | ...NOT SUPPORTED... |
| HTSFilter 1.27.1 | Andrea Rau | OK | OK | OK | OK |  |
| HumanTranscriptomeCompendium 1.3.0 | VJ Carey | OK | OK | OK | OK |  |
| HybridMTest 1.31.0 | Demba Fofana | OK | OK | OK | OK |  |
| hypeR 1.3.0 | Anthony Federico | OK | OK | OK | OK |  |
| hyperdraw 1.39.0 | Paul Murrell | OK | OK | OK | OK |  |
| hypergraph 1.59.0 | Bioconductor Package Maintainer | OK | OK | OK | OK |  |
|
| |
| iASeq 1.31.0 | Yingying Wei | OK | OK | OK | OK |  |
| iasva 1.5.0 | Donghyung Lee , Anthony Cheng | OK | OK | OK | OK |  |
| iBBiG 1.31.0 | Aedin Culhane | OK | OK | OK | OK |  |
| ibh 1.35.0 | Kircicegi Korkmaz | OK | OK | OK | OK |  |
| iBMQ | | ...NOT SUPPORTED... |
| iCARE 1.15.0 | Bill Wheeler | OK | OK | WARNINGS | OK |  |
| Icens 1.59.0 | Bioconductor Package Maintainer | OK | OK | OK | OK |  |
| icetea 1.5.0 | Vivek Bhardwaj | OK | OK | OK | OK |  |
| iCheck 1.17.0 | Weiliang Qiu | OK | OK | WARNINGS | OK |  |
| iChip 1.41.0 | Qianxing Mo | OK | OK | OK | OK |  |
| iClusterPlus 1.23.0 | Qianxing Mo , Ronglai Shen | OK | OK | WARNINGS | OK |  |
| iCNV 1.7.0 | Zilu Zhou | OK | OK | WARNINGS | OK |  |
| iCOBRA 1.15.0 | Charlotte Soneson | OK | OK | OK | OK |  |
| ideal 1.11.1 | Federico Marini | OK | OK | OK | OK |  |
| IdeoViz 1.23.0 | Shraddha Pai | OK | OK | WARNINGS | OK |  |
| idiogram 1.63.0 | Karl J. Dykema | OK | OK | OK | OK |  |
IdMappingAnalysis 1.31.1 | Alex Lisovich , Roger Day | OK | OK | ERROR | OK | |
IdMappingRetrieval 1.35.1 | Alex Lisovich , Roger Day | ERROR | ERROR | skipped | skipped | |
| idr2d 1.1.2 | Konstantin Krismer | OK | OK | OK | OK |  |
| iGC 1.17.0 | Liang-Bo Wang | OK | OK | OK | OK |  |
| IgGeneUsage 1.1.1 | Simo Kitanovski | OK | OK | OK | OK |  |
| igvR 1.7.8 | Paul Shannon | OK | OK | WARNINGS | OK |  |
| IHW 1.15.0 | Nikos Ignatiadis | OK | OK | OK | OK |  |
| illuminaio 0.29.0 | Kasper Daniel Hansen | OK | OK | OK | OK |  |
| imageHTS 1.37.0 | Joseph Barry | OK | OK | OK | OK |  |
| IMAS 1.11.0 | Seonggyun Han | OK | OK | OK | OK |  |
| Imetagene 1.17.0 | Audrey Lemacon | OK | OK | OK | OK |  |
| IMMAN 1.7.0 | Minoo Ashtiani | OK | ERROR | skipped | skipped | |
| ImmuneSpaceR 1.15.1 | ImmuneSpace Package Maintainer | OK | OK | OK | OK |  |
| immunoClust 1.19.0 | Till Soerensen | OK | OK | OK | OK |  |
| IMPCdata 1.23.0 | Jeremy Mason | OK | OK | OK | OK |  |
| ImpulseDE 1.13.0 | Jil Sander , Nir Yosef | OK | OK | OK | OK |  |
| ImpulseDE2 1.11.0 | David S Fischer | OK | OK | OK | OK |  |
| impute 1.61.0 | Balasubramanian Narasimhan | OK | OK | OK | OK |  |
| INDEED 2.1.0 | Ressom group | OK | OK | OK | OK |  |
| infercnv 1.3.2 | Christophe Georgescu | OK | OK | OK | OK |  |
| InPAS 1.19.0 | Jianhong Ou | OK | OK | OK | OK |  |
| INPower 1.23.0 | Bill Wheeler | OK | OK | OK | OK |  |
| INSPEcT 1.17.8 | Stefano de Pretis | OK | OK | OK | OK |  |
| InTAD 1.7.0 | Konstantin Okonechnikov | OK | OK | OK | OK |  |
| intansv 1.27.0 | Wen Yao | OK | ERROR | skipped | skipped | |
| InteractionSet 1.15.1 | Aaron Lun | OK | OK | OK | OK |  |
| interactiveDisplay 1.25.0 | Shawn Balcome | OK | OK | WARNINGS | OK |  |
| interactiveDisplayBase 1.25.0 | Shawn Balcome | OK | OK | WARNINGS | OK |  |
| IntEREst 1.11.2 | Ali Oghabian , Mikko Frilander | OK | OK | OK | OK |  |
| InterMineR 1.9.2 | InterMine Team | OK | ERROR | skipped | skipped | |
| IntramiRExploreR 1.9.0 | Surajit Bhattacharya | OK | OK | OK | OK |  |
| inveRsion 1.35.0 | Alejandro Caceres | OK | OK | OK | OK |  |
| IONiseR 2.11.0 | Mike Smith | OK | OK | OK | OK |  |
| iPAC 1.31.0 | Gregory Ryslik | OK | OK | OK | OK |  |
| ipdDb 1.5.0 | Steffen Klasberg | OK | OK | OK | OK |  |
| IPO 1.13.0 | Thomas Riebenbauer | OK | OK | OK | OK |  |
| IPPD 1.35.0 | Martin Slawski | OK | OK | OK | OK |  |
| IRanges 2.21.3 | Bioconductor Package Maintainer | OK | OK | WARNINGS | OK |  |
| iSEE 1.7.2 | Charlotte Soneson | OK | OK | OK | OK |  |
| iSeq 1.39.0 | Qianxing Mo | OK | OK | OK | OK |  |
| isobar 1.33.0 | Florian P Breitwieser | OK | OK | WARNINGS | OK |  |
| IsoCorrectoR 1.5.1 | Christian Kohler | OK | OK | OK | OK |  |
| IsoCorrectoRGUI 1.3.0 | Christian Kohler | OK | OK | OK | OK |  |
| IsoformSwitchAnalyzeR 1.9.0 | Kristoffer Vitting-Seerup | OK | OK | OK | OK |  |
| IsoGeneGUI 2.23.0 | Setia Pramana | OK | OK | OK | OK |  |
| ISoLDE 1.15.0 | Christelle Reynès | OK | OK | WARNINGS | OK |  |
| isomiRs 1.15.0 | Lorena Pantano | OK | OK | OK | OK |  |
| ITALICS 2.47.0 | Guillem Rigaill | OK | OK | OK | OK |  |
| iterativeBMA 1.45.0 | Ka Yee Yeung | OK | OK | OK | OK |  |
| iterativeBMAsurv 1.45.0 | Ka Yee Yeung | OK | OK | OK | OK |  |
| iterClust 1.9.0 | Hongxu Ding | OK | OK | OK | OK |  |
| iteremoval 1.7.0 | Jiacheng Chuan | OK | OK | OK | OK |  |
| IVAS 2.7.0 | Seonggyun Han | OK | OK | WARNINGS | OK |  |
| ivygapSE 1.9.0 | VJ Carey | OK | OK | OK | OK |  |
| IWTomics 1.11.0 | Marzia A Cremona | OK | OK | WARNINGS | OK |  |
|
| |
| joda 1.35.0 | Ewa Szczurek | OK | OK | OK | OK |  |
| JunctionSeq 1.17.0 | Stephen Hartley | OK | OK | OK | OK |  |
|
| |
| karyoploteR 1.13.4 | Bernat Gel | OK | OK | OK | OK |  |
| KCsmart 2.45.0 | Jorma de Ronde | OK | OK | WARNINGS | OK |  |
| kebabs 1.21.0 | Ulrich Bodenhofer | OK | OK | WARNINGS | OK |  |
| KEGGgraph 1.47.0 | Jitao David Zhang | OK | OK | OK | OK |  |
| KEGGlincs 1.13.0 | Shana White , Mario Medvedovic | OK | OK | OK | OK |  |
| keggorthology 2.39.0 | VJ Carey | OK | OK | OK | OK |  |
| KEGGprofile 1.29.0 | Shilin Zhao | OK | OK | OK | OK |  |
| KEGGREST 1.27.1 | Bioconductor Package Maintainer | OK | OK | OK | OK |  |
| kimod 1.15.0 | M L Zingaretti | OK | OK | OK | OK |  |
| KinSwingR 1.5.0 | Ashley J. Waardenberg | OK | OK | OK | OK |  |
| kissDE 1.7.0 | Aurélie Siberchicot | OK | OK | OK | OK |  |
| KnowSeq 1.1.19 | Daniel Castillo Secilla | OK | OK | OK | OK |  |
|
| |
| lapmix 1.53.0 | Yann Ruffieux | OK | OK | OK | OK |  |
| LBE 1.55.0 | Cyril Dalmasso | OK | OK | OK | OK |  |
| ldblock 1.17.1 | VJ Carey | OK | OK | OK | OK |  |
| LEA 2.9.0 | Eric Frichot , Olivier Francois | OK | OK | WARNINGS | OK |  |
| LedPred 1.21.0 | Aitor Gonzalez | OK | OK | OK | OK |  |
| les 1.37.0 | Julian Gehring | OK | OK | OK | OK |  |
| levi 1.5.0 | Jose Luiz Rybarczyk Filho | OK | OK | OK | OK |  |
| lfa 1.17.0 | Wei Hao , John D. Storey | OK | OK | WARNINGS | OK |  |
| limma 3.43.0 | Gordon Smyth | OK | OK | OK | OK |  |
| limmaGUI 1.63.0 | Gordon Smyth | OK | OK | OK | OK |  |
| LINC 1.15.0 | Manuel Goepferich | OK | OK | OK | OK |  |
| LineagePulse 1.7.0 | David S Fischer | OK | OK | WARNINGS | OK |  |
| LinkHD 1.1.0 | "Laura M Zingaretti" | OK | OK | OK | OK |  |
| Linnorm 2.11.0 | Ken Shun Hang Yip | OK | OK | OK | OK |  |
| lionessR 1.1.0 | Ping-Han Hsieh | OK | OK | OK | OK |  |
| lipidr 2.1.2 | Ahmed Mohamed | OK | OK | OK | OK |  |
| LiquidAssociation 1.41.0 | Yen-Yi Ho | OK | OK | OK | OK |  |
| lmdme 1.29.0 | Cristobal Fresno | OK | OK | OK | OK |  |
| LMGene 2.43.0 | Blythe Durbin-Johnson | OK | OK | OK | OK |  |
| LOBSTAHS 1.13.0 | James Collins | OK | OK | WARNINGS | OK |  |
| loci2path 1.7.0 | Tianlei Xu | OK | OK | OK | OK |  |
| logicFS 2.7.0 | Holger Schwender | OK | ERROR | skipped | skipped | |
| logitT 1.45.0 | Tobias Guennel | OK | OK | OK | OK |  |
| Logolas 1.11.0 | Kushal Dey | OK | OK | OK | OK |  |
| lol 1.35.0 | Yinyin Yuan | OK | ERROR | skipped | skipped | |
| LOLA 1.17.0 | Nathan Sheffield | OK | OK | OK | OK |  |
| LoomExperiment 1.5.0 | Bioconductor Package Maintainer | OK | OK | OK | OK |  |
| LowMACA 1.17.0 | Stefano de Pretis , Giorgio Melloni | OK | OK | OK | OK |  |
| LPE 1.61.0 | Nitin Jain | OK | OK | OK | OK |  |
| LPEadj 1.47.0 | Carl Murie | OK | OK | OK | OK |  |
| lpNet 2.19.0 | Lars Kaderali | OK | OK | WARNINGS | OK |  |
| lpsymphony 1.15.1 | Vladislav Kim | OK | OK | OK | OK |  |
| LRBaseDbi 1.5.0 | Koki Tsuyuzaki | OK | OK | OK | OK |  |
| lumi 2.39.0 | Pan Du , Lei Huang , Gang Feng | OK | OK | WARNINGS | OK |  |
LVSmiRNA 1.37.1 | Stefano Calza | OK | ERROR | skipped | skipped | |
| LymphoSeq 1.15.0 | David Coffey | OK | OK | OK | OK |  |
|
| |
| M3C 1.9.3 | Christopher John | OK | OK | OK | OK |  |
| M3D 1.21.0 | Tom Mayo | ERROR | ERROR | skipped | skipped | |
| M3Drop 1.13.0 | Tallulah Andrews | OK | OK | OK | OK |  |
| maanova 1.57.0 | Keith Sheppard | OK | OK | WARNINGS | OK |  |
| Maaslin2 1.1.0 | Lauren McIver | OK | OK | OK | OK |  |
| macat 1.61.0 | Joern Toedling | OK | OK | WARNINGS | OK |  |
| maCorrPlot 1.57.1 | Alexander Ploner | OK | OK | OK | OK |  |
| MACPET 1.7.0 | Ioannis Vardaxis | OK | OK | OK | OK |  |
| MACSQuantifyR 1.1.1 | Raphaël Bonnet | OK | OK | OK | OK |  |
| made4 1.61.0 | Aedin Culhane | OK | OK | WARNINGS | OK |  |
| MADSEQ 1.13.0 | Yu Kong | OK | OK | OK | OK |  |
| maftools 2.3.0 | Anand Mayakonda | OK | OK | OK | OK |  |
| MAGeCKFlute 1.7.0 | Wubing Zhang | OK | ERROR | skipped | skipped | |
| maigesPack 1.51.0 | Gustavo H. Esteves | OK | OK | OK | OK |  |
| MAIT 1.21.0 | Pol Sola-Santos | OK | OK | OK | OK |  |
| makecdfenv 1.63.0 | James W. MacDonald | OK | OK | OK | OK |  |
MANOR 1.59.1 | Pierre Neuvial | OK | ERROR | skipped | skipped | |
manta 1.33.1 | Chris Berthiaume , Adrian Marchetti | OK | ERROR | skipped | skipped | |
| MantelCorr 1.57.0 | Brian Steinmeyer | OK | OK | OK | OK |  |
| mAPKL 1.17.0 | Argiris Sakellariou | OK | OK | WARNINGS | OK |  |
| maPredictDSC 1.25.0 | Adi Laurentiu Tarca | OK | OK | OK | OK |  |
| mapscape 1.11.0 | Maia Smith | OK | OK | WARNINGS | OK |  |
| marray 1.65.0 | Yee Hwa (Jean) Yang | OK | OK | OK | OK |  |
| martini 1.7.0 | Hector Climente-Gonzalez | OK | OK | OK | OK |  |
| maser 1.5.0 | Diogo F.T. Veiga | OK | OK | OK | OK |  |
| maSigPro 1.59.0 | Maria Jose Nueda | OK | OK | OK | OK |  |
| maskBAD 1.31.0 | Michael Dannemann | OK | OK | OK | OK |  |
| MassArray 1.39.0 | Reid F. Thompson | OK | OK | OK | OK |  |
| massiR 1.23.0 | Sam Buckberry | OK | OK | OK | OK |  |
| MassSpecWavelet 1.53.0 | Pan Du | OK | OK | OK | OK |  |
| MAST 1.13.3 | Andrew McDavid | OK | OK | OK | OK |  |
| matchBox 1.29.0 | Luigi Marchionni , Anuj Gupta | OK | OK | OK | OK |  |
| MatrixRider 1.19.0 | Elena Grassi | OK | OK | OK | OK |  |
| matter 1.13.1 | Kylie A. Bemis | OK | OK | OK | OK |  |
| MaxContrastProjection 1.11.0 | Jan Sauer | OK | OK | OK | OK |  |
| MBAmethyl 1.21.0 | Tao Wang | OK | OK | OK | OK |  |
| MBASED 1.21.0 | Oleg Mayba | OK | OK | OK | OK |  |
| MBCB 1.41.0 | Jeff Allen | OK | OK | OK | OK |  |
| mbkmeans 1.3.1 | Davide Risso | OK | OK | OK | OK |  |
| mBPCR 1.41.1 | P.M.V. Rancoita | OK | OK | OK | OK |  |
| MBQN 1.1.5 | Ariane Schad | OK | OK | OK | OK |  |
| MBttest 1.15.0 | Yuan-De Tan | OK | OK | OK | OK |  |
| mcaGUI 1.35.0 | Wade K. Copeland | OK | OK | WARNINGS | OK |  |
| MCbiclust 1.11.0 | Robert Bentham | OK | OK | OK | OK |  |
MCRestimate 2.43.1 | Marc Johannes | OK | ERROR | skipped | skipped | |
| mCSEA 1.7.0 | Jordi Martorell-Marugán | OK | ERROR | skipped | skipped | |
| mdgsa 1.19.0 | David Montaner | OK | OK | OK | OK |  |
| mdp 1.7.0 | Helder Nakaya | OK | OK | OK | OK |  |
| mdqc 1.49.0 | Gabriela Cohen-Freue | OK | OK | OK | OK |  |
| MDTS 1.7.0 | Jack M.. Fu | OK | OK | OK | OK |  |
MEAL 1.17.1 | Carlos Ruiz-Arenas | OK | ERROR | skipped | skipped | |
| MeasurementError.cor 1.59.0 | Beiying Ding | OK | OK | OK | OK |  |
| MEB 1.1.0 | Jiadi Zhu | OK | OK | OK | OK |  |
| MEDIPS 1.39.0 | Lukas Chavez | OK | OK | OK | OK |  |
| MEDME 1.47.0 | Mattia Pelizzola | OK | OK | WARNINGS | OK |  |
| MEIGOR 1.21.0 | Jose Egea | OK | OK | WARNINGS | OK |  |
| Melissa 1.3.0 | C. A. Kapourani | OK | OK | OK | OK |  |
| MergeMaid 2.59.0 | Xiaogang Zhong | OK | OK | WARNINGS | OK |  |
| Mergeomics 1.15.0 | Zeyneb Kurt | OK | OK | OK | OK |  |
| MeSHDbi 1.23.0 | Koki Tsuyuzaki | OK | OK | OK | OK |  |
| meshes 1.13.0 | Guangchuang Yu | OK | OK | OK | OK |  |
| meshr 1.23.0 | Koki Tsuyuzaki | OK | OK | OK | OK |  |
| messina 1.23.0 | Mark Pinese | OK | OK | OK | OK |  |
| metaArray 1.65.0 | Hyungwon Choi | OK | OK | OK | OK |  |
| Metab 1.21.0 | Raphael Aggio | OK | OK | OK | OK |  |
| metabomxtr 1.21.0 | Michael Nodzenski | OK | OK | OK | OK |  |
| MetaboSignal 1.17.0 | Andrea Rodriguez-Martinez | OK | OK | OK | OK |  |
| metaCCA 1.15.0 | Anna Cichonska | OK | OK | WARNINGS | OK |  |
| MetaCyto 1.9.0 | Zicheng Hu | OK | OK | OK | OK |  |
| metagene 2.19.0 | Charles Joly Beauparlant | OK | OK | OK | OK |  |
| metagene2 1.3.4 | Eric Fournier | OK | OK | OK | OK |  |
| metagenomeFeatures 2.7.0 | Nathan D. Olson | OK | OK | OK | OK |  |
| metagenomeSeq 1.29.0 | Joseph N. Paulson | OK | OK | WARNINGS | OK |  |
| metahdep 1.45.0 | John R. Stevens | OK | OK | WARNINGS | OK |  |
| metaMS 1.23.0 | Yann Guitton | OK | OK | OK | OK |  |
| MetaNeighbor 1.7.0 | Manthan Shah | OK | OK | OK | OK |  |
| metaSeq 1.27.0 | Koki Tsuyuzaki | OK | OK | OK | OK |  |
| metaseqR 1.27.0 | Panagiotis Moulos | OK | OK | OK | OK |  |
| metavizr 1.11.0 | Hector Corrada Bravo | OK | OK | OK | OK |  |
| MetaVolcanoR 1.1.0 | Cesar Prada | OK | OK | OK | OK |  |
| MetCirc 1.17.0 | Thomas Naake | OK | OK | ERROR | OK | |
| MethCP 1.1.0 | Boying Gong | OK | OK | OK | OK |  |
| methimpute 1.9.0 | Aaron Taudt | OK | OK | OK | OK |  |
| methInheritSim 1.9.0 | Pascal Belleau | OK | OK | OK | OK |  |
| MethPed 1.15.0 | Helena Carén | OK | OK | OK | OK |  |
| methrix 1.1.0 | Anand Mayakonda | OK | OK | OK | OK |  |
| MethTargetedNGS 1.19.0 | Muhammad Ahmer Jamil | OK | OK | OK | OK |  |
| methVisual 1.39.0 | Arie Zackay | OK | OK | WARNINGS | OK |  |
| methyAnalysis 1.29.0 | Pan Du , Lei Huang , Gang Feng | OK | OK | WARNINGS | OK |  |
| MethylAid 1.21.0 | L.J.Sinke | OK | OK | OK | OK |  |
| methylCC 1.1.0 | Stephanie C. Hicks | OK | OK | OK | OK |  |
| methylGSA 1.5.8 | Xu Ren | OK | OK | OK | OK |  |
| methylInheritance 1.11.0 | Astrid Deschenes | OK | OK | OK | OK |  |
| methylKit 1.13.1 | Altuna Akalin , Alexander Gosdschan | OK | OK | OK | OK |  |
| MethylMix 2.17.0 | Olivier Gevaert | OK | OK | OK | OK |  |
| methylMnM 1.25.0 | Yan Zhou | OK | OK | OK | OK |  |
| methylPipe 1.21.0 | Kamal Kishore | OK | OK | WARNINGS | OK |  |
| MethylSeekR 1.27.0 | Lukas Burger | OK | OK | OK | OK |  |
| methylumi 2.33.0 | Sean Davis | OK | OK | WARNINGS | OK |  |
| methyvim 1.9.0 | Nima Hejazi | OK | OK | OK | OK |  |
| MetID 1.5.0 | Zhenzhi Li | OK | OK | OK | OK |  |
| MetNet 1.5.1 | Thomas Naake | OK | OK | OK | OK |  |
| mfa 1.9.0 | Kieran Campbell | OK | OK | OK | OK |  |
| Mfuzz 2.47.0 | Matthias Futschik | OK | OK | OK | OK |  |
| MGFM 1.21.0 | Khadija El Amrani | OK | OK | OK | OK |  |
| MGFR 1.13.0 | Khadija El Amrani | OK | OK | ERROR | OK | |
| mgsa 1.35.0 | Sebastian Bauer | OK | OK | OK | OK |  |
| MiChip 1.41.0 | Jonathon Blake | OK | OK | OK | OK |  |
| microbiome 1.9.19 | Leo Lahti | OK | OK | WARNINGS | OK |  |
| microbiomeDASim 1.1.1 | Justin Williams | OK | OK | OK | OK |  |
| microRNA 1.45.0 | "James F. Reid" | OK | OK | OK | OK |  |
| MIGSA 1.11.4 | Juan C. Rodriguez | OK | OK | WARNINGS | OK |  |
| mimager 1.11.0 | Aaron Wolen | OK | OK | OK | OK |  |
| MIMOSA 1.25.0 | Greg Finak | OK | OK | OK | OK |  |
| MineICA 1.27.0 | Anne Biton | OK | OK | OK | OK |  |
| minet 3.45.0 | Patrick E. Meyer | OK | OK | OK | OK |  |
| minfi 1.33.0 | Kasper Daniel Hansen | OK | OK | OK | OK |  |
| MinimumDistance 1.31.0 | Robert B Scharpf | OK | OK | ERROR | OK | |
| MiPP 1.59.0 | Sukwoo Kim | OK | OK | OK | OK |  |
| MIRA 1.9.0 | John Lawson | OK | OK | OK | OK |  |
| MiRaGE 1.29.0 | Y-h. Taguchi | OK | OK | OK | OK |  |
| miRBaseConverter 1.11.0 | Taosheng Xu | OK | OK | OK | OK |  |
| miRcomp 1.17.0 | Matthew N. McCall | OK | OK | WARNINGS | OK |  |
| mirIntegrator 1.17.0 | Diana Diaz | OK | OK | OK | OK |  |
| miRLAB 1.17.0 | Thuc Duy Le | OK | OK | OK | OK |  |
| miRmine 1.9.0 | Dusan Randjelovic | OK | OK | OK | OK |  |
| miRNAmeConverter 1.15.0 | Stefan J. Haunsberger | OK | OK | WARNINGS | OK |  |
| miRNApath 1.47.0 | James M. Ward | OK | OK | OK | OK |  |
| miRNAtap 1.21.0 | T. Ian Simpson | OK | OK | OK | OK |  |
| miRSM 1.5.0 | Junpeng Zhang | OK | OK | OK | OK |  |
| miRspongeR 1.13.0 | Junpeng Zhang | OK | OK | OK | OK |  |
| Mirsynergy 1.23.0 | Yue Li | OK | OK | OK | OK |  |
| missMethyl 1.21.3 | Belinda Phipson | OK | OK | OK | OK |  |
| missRows 1.7.0 | Gonzalez Ignacio | OK | ERROR | skipped | skipped | |
| mitch 0.99.26 | Mark Ziemann | OK | OK | OK | OK |  |
| mitoODE 1.25.0 | Gregoire Pau | OK | OK | OK | OK |  |
| mixOmics 6.11.6 | Kim-Anh Le Cao | OK | OK | OK | OK |  |
| MLInterfaces 1.67.2 | V. Carey | OK | OK | OK | OK |  |
| MLP 1.35.0 | Tobias Verbeke | OK | OK | OK | OK |  |
| MLSeq 2.5.0 | Gokmen Zararsiz | OK | OK | OK | OK |  |
| MMAPPR2 1.1.0 | Jonathon Hill | OK | OK | OK | OK |  |
| MMDiff2 1.15.0 | Gabriele Schweikert | OK | OK | OK | OK |  |
| MmPalateMiRNA 1.37.0 | Guy Brock | OK | OK | OK | OK |  |
| MMUPHin 1.1.0 | Siyuan MA | OK | ERROR | skipped | skipped | |
| mnem 1.3.4 | Martin Pirkl | OK | ERROR | skipped | skipped | |
| MODA 1.13.0 | Dong Li | OK | OK | OK | OK |  |
| Modstrings 1.3.2 | Felix G.M. Ernst | OK | OK | OK | OK |  |
| MOFA 1.3.1 | Britta Velten | OK | OK | OK | OK |  |
| mogsa 1.21.0 | Chen Meng | OK | OK | OK | OK |  |
| monocle 2.15.0 | Cole Trapnell | OK | OK | OK | OK |  |
| MoonlightR 1.13.0 | Antonio Colaprico | ERROR | ERROR | skipped | skipped | |
| MoPS 1.21.0 | Philipp Eser | OK | OK | OK | OK |  |
| mosaics 2.25.0 | Dongjun Chung | OK | OK | OK | OK |  |
| MOSim 1.1.0 | Carlos Martínez | OK | ERROR | skipped | skipped | |
| motifbreakR 2.1.0 | Simon Gert Coetzee | OK | OK | WARNINGS | OK |  |
| motifcounter 1.11.0 | Wolfgang Kopp | OK | OK | OK | OK |  |
| MotifDb 1.29.0 | Paul Shannon | OK | OK | OK | OK |  |
| motifmatchr 1.9.0 | Alicia Schep | OK | OK | OK | OK |  |
motifRG 1.31.1 | Zizhen Yao | OK | ERROR | skipped | skipped | |
| motifStack 1.31.1 | Jianhong Ou | OK | OK | OK | OK |  |
| MotIV 1.43.0 | Eloi Mercier , Raphael Gottardo | OK | OK | WARNINGS | OK |  |
| MPFE 1.23.0 | Conrad Burden | OK | OK | OK | OK |  |
| mpra 1.9.0 | Leslie Myint | OK | OK | OK | OK |  |
| MPRAnalyze 1.5.0 | Tal Ashuach | OK | OK | OK | OK |  |
| msa 1.19.0 | Ulrich Bodenhofer | OK | OK | WARNINGS | OK |  |
| msgbsR 1.11.0 | Benjamin Mayne | OK | OK | WARNINGS | OK |  |
| MSGFgui 1.21.0 | Thomas Lin Pedersen | OK | OK | OK | OK |  |
| MSGFplus 1.21.0 | Thomas Lin Pedersen | OK | OK | OK | OK |  |
| msmsEDA 1.25.0 | Josep Gregori | OK | OK | OK | OK |  |
| msmsTests 1.25.0 | Josep Gregori i Font | OK | OK | OK | OK |  |
| MSnbase 2.13.2 | Laurent Gatto | OK | OK | WARNINGS | OK |  |
| MSnID 1.21.0 | Vlad Petyuk | OK | OK | WARNINGS | OK |  |
| msPurity 1.13.0 | Thomas N. Lawson | OK | OK | OK | OK |  |
| MSstats 3.19.4 | Meena Choi | OK | OK | OK | OK |  |
| MSstatsQC 2.5.0 | Eralp Dogu | OK | OK | OK | OK |  |
| MSstatsQCgui 1.7.0 | Eralp Dogu | OK | OK | OK | OK |  |
| MSstatsSampleSize 1.1.0 | Ting Huang | OK | OK | OK | OK |  |
| MSstatsTMT 1.5.3 | Ting Huang | OK | OK | OK | OK |  |
MTseeker 1.5.21 | Tim Triche | OK | ERROR | skipped | skipped | |
| Mulcom 1.37.0 | Claudio Isella | OK | OK | WARNINGS | OK |  |
| MultiAssayExperiment 1.13.4 | Marcel Ramos | OK | OK | OK | OK |  |
| multiClust 1.17.0 | Nathan Lawlor | OK | OK | OK | OK |  |
| MultiDataSet 1.15.0 | Carlos Ruiz-Arenas | OK | OK | OK | OK |  |
| multiHiCcompare 1.5.0 | John Stansfield | OK | OK | OK | OK |  |
| MultiMed 2.9.0 | Simina M. Boca | OK | OK | OK | OK |  |
| multiMiR 1.9.0 | Matt Mulvahill | OK | OK | OK | OK |  |
| multiOmicsViz 1.11.0 | Jing Wang | OK | OK | OK | OK |  |
| multiscan 1.47.0 | Mizanur Khondoker | OK | OK | OK | OK |  |
| multtest 2.43.0 | Katherine S. Pollard | OK | OK | WARNINGS | OK |  |
| muscat 1.1.0 | Helena L. Crowell | OK | OK | WARNINGS | OK |  |
| muscle 3.29.0 | Alex T. Kalinka | OK | OK | WARNINGS | OK |  |
| MutationalPatterns 1.13.0 | Roel Janssen | OK | OK | OK | OK |  |
| MVCClass 1.61.0 | Elizabeth Whalen | OK | OK | OK | OK |  |
| MWASTools 1.11.0 | Andrea Rodriguez-Martinez , Rafael Ayala | OK | OK | OK | OK |  |
| mygene 1.23.0 | Adam Mark, Cyrus Afrasiabi, Chunlei Wu | OK | OK | OK | OK |  |
| myvariant 1.17.0 | Adam Mark, Chunlei Wu | OK | OK | OK | OK |  |
| mzID 1.25.0 | Laurent Gatto | OK | OK | OK | OK |  |
| mzR 2.21.1 | Steffen Neumann | OK | OK | WARNINGS | OK |  |
|
| |
| NADfinder 1.11.0 | Jianhong Ou | OK | OK | OK | OK |  |
| NanoStringDiff 1.17.0 | tingting zhai ,hong wang | OK | OK | WARNINGS | OK |  |
| NanoStringQCPro 1.19.0 | Robert Ziman | OK | OK | OK | OK |  |
| nanotatoR 1.3.0 | Surajit Bhattacharya | OK | OK | OK | OK |  |
| NarrowPeaks 1.31.0 | Pedro Madrigal | OK | OK | WARNINGS | OK |  |
| NBAMSeq 1.3.0 | Xu Ren | OK | OK | OK | OK |  |
| NBSplice 1.5.0 | Gabriela Merino | OK | OK | OK | OK |  |
| ncdfFlow 2.33.0 | Mike Jiang | OK | OK | WARNINGS | OK |  |
| ncGTW 1.1.1 | Chiung-Ting Wu | OK | OK | OK | OK |  |
| NCIgraph | | ...NOT SUPPORTED... |
| ndexr 1.9.0 | Florian Auer | OK | OK | OK | OK |  |
| NeighborNet 1.5.0 | Sahar Ansari | OK | OK | OK | OK |  |
nem 2.61.1 | Holger Froehlich | OK | OK | ERROR | OK | |
| netbenchmark 1.19.0 | Pau Bellot | OK | OK | WARNINGS | OK |  |
| netbiov 1.21.0 | Shailesh tripathi | OK | OK | OK | OK |  |
| netboost 1.3.2 | Pascal Schlosser | OK | OK | OK | OK |  |
| netboxr 0.99.986 | Eirc Minwei Liu | OK | OK | OK | OK |  |
| nethet 1.19.0 | Nicolas Staedler | OK | OK | WARNINGS | OK |  |
| NetPathMiner 1.23.0 | Ahmed Mohamed | OK | OK | WARNINGS | OK |  |
| netprioR 1.13.0 | Fabian Schmich | OK | OK | OK | OK |  |
| netReg 1.11.0 | Simon Dirmeier | OK | OK | OK | OK |  |
| netresponse 1.47.0 | Leo Lahti | OK | OK | WARNINGS | OK |  |
| NetSAM 1.27.0 | Bing Zhang | OK | OK | OK | OK |  |
| netSmooth 1.7.0 | Jonathan Ronen | OK | OK | OK | OK |  |
| networkBMA 2.27.0 | Ka Yee Yeung | OK | OK | WARNINGS | OK |  |
| ngsReports 1.3.0 | Steve Pederson | OK | OK | OK | OK |  |
| nnNorm 2.51.0 | Adi Laurentiu Tarca | OK | OK | OK | OK |  |
| NOISeq 2.31.1 | Sonia Tarazona | OK | ERROR | skipped | skipped | |
| nondetects 2.17.0 | Valeriia Sherina | OK | OK | OK | OK |  |
| normalize450K 1.15.0 | Jonathan Alexander Heiss | OK | OK | OK | OK |  |
| NormalyzerDE 1.5.0 | Jakob Willforss | OK | OK | OK | OK |  |
| NormqPCR 1.33.0 | James Perkins | OK | OK | WARNINGS | OK |  |
| normr 1.13.0 | Johannes Helmuth | OK | OK | OK | OK |  |
| NPARC 0.99.5 | Nils Kurzawa | OK | OK | OK | OK |  |
| npGSEA 1.23.0 | Jessica Larson | OK | OK | OK | OK |  |
| NTW 1.37.0 | Yuanhua Liu | OK | OK | WARNINGS | OK |  |
| nucleoSim 1.15.0 | Astrid Deschenes | OK | OK | OK | OK |  |
| nucleR 2.19.1 | Diego Gallego | OK | ERROR | skipped | skipped | |
| nuCpos 1.5.1 | Hiroaki Kato | OK | OK | OK | OK |  |
| NuPoP 1.37.0 | Ji-Ping Wang | OK | OK | OK | OK |  |
|
| |
| occugene 1.47.0 | Oliver Will | OK | OK | OK | OK |  |
| OCplus 1.61.0 | Alexander Ploner | OK | OK | OK | OK |  |
| odseq 1.15.0 | José Jiménez | OK | OK | OK | OK |  |
| OGSA 1.17.0 | Michael F. Ochs | OK | OK | OK | OK |  |
| oligo 1.51.2 | Benilton Carvalho | OK | OK | WARNINGS | OK |  |
| oligoClasses 1.49.1 | Benilton Carvalho and Robert Scharpf | OK | OK | WARNINGS | OK |  |
| OLIN 1.65.0 | Matthias Futschik | OK | OK | OK | OK |  |
| OLINgui 1.61.0 | Matthias Futschik | OK | OK | OK | OK |  |
| OmaDB 2.3.0 | Klara Kaleb , Adrian Altenhoff | OK | OK | WARNINGS | OK |  |
| omicade4 1.27.0 | Chen Meng | OK | OK | OK | OK |  |
| OmicCircos 1.25.0 | Ying Hu | OK | OK | OK | OK |  |
| omicplotR 1.7.1 | Daniel Giguere | OK | OK | OK | OK |  |
| omicRexposome 1.9.0 | Carles Hernandez-Ferrer | OK | OK | OK | OK |  |
| OmicsLonDA 1.3.4 | Ahmed A. Metwally | OK | OK | OK | OK |  |
| OmicsMarkeR 1.19.0 | Charles E. Determan Jr. | OK | OK | OK | OK |  |
| OMICsPCA 1.5.0 | Subhadeep Das | OK | OK | WARNINGS | OK |  |
| omicsPrint 1.7.0 | Davy Cats | OK | OK | OK | OK |  |
| OmnipathR 1.1.2 | Alberto Valdeolivas Urbelz | OK | OK | OK | OK |  |
| Onassis 1.9.2 | Eugenia Galeota | OK | OK | OK | OK |  |
| oncomix 1.9.0 | Daniel Pique | OK | OK | OK | OK |  |
| OncoScore 1.15.0 | Luca De Sano | OK | OK | OK | OK |  |
| OncoSimulR 2.17.5 | Ramon Diaz-Uriarte | OK | OK | OK | OK |  |
| oneSENSE 1.9.0 | Yong Kee Tan | OK | OK | WARNINGS | OK |  |
| onlineFDR 1.5.0 | David S. Robertson | OK | OK | OK | OK |  |
| ontoProc 1.9.0 | VJ Carey | OK | OK | OK | OK |  |
| openCyto 1.25.2 | Mike Jiang | OK | OK | WARNINGS | OK |  |
| openPrimeR 1.9.1 | Matthias Döring | OK | OK | OK | OK |  |
| openPrimeRui 1.9.1 | Matthias Döring | OK | OK | OK | OK |  |
| oposSOM 2.5.0 | Henry Loeffler-Wirth | OK | OK | WARNINGS | OK |  |
| oppar 1.15.0 | Soroor Hediyeh zadeh | OK | OK | OK | OK |  |
| oppti 1.1.0 | Abdulkadir Elmas | OK | OK | OK | OK |  |
| OPWeight 1.9.0 | Mohamad Hasan | OK | OK | OK | OK |  |
| OrderedList 1.59.1 | Claudio Lottaz | OK | OK | OK | OK |  |
| ORFik 1.7.8 | Haakon Tjeldnes | OK | OK | OK | OK |  |
| Organism.dplyr 1.15.0 | Martin Morgan | OK | OK | OK | OK |  |
| OrganismDbi 1.29.0 | Bioconductor Package Maintainer | OK | OK | WARNINGS | OK |  |
| OSAT 1.35.0 | Li Yan | OK | OK | OK | OK |  |
| Oscope 1.17.0 | Ning Leng | OK | OK | OK | OK |  |
| OTUbase 1.37.0 | Daniel Beck | OK | ERROR | skipped | skipped | |
| OutlierD 1.51.0 | Sukwoo Kim | OK | OK | OK | OK |  |
| OUTRIDER 1.5.0 | Christian Mertes | OK | ERROR | skipped | skipped | |
| OVESEG 1.3.0 | Lulu Chen | OK | OK | OK | OK |  |
|
| |
| PAA 1.21.0 | Michael Turewicz , Martin Eisenacher | OK | OK | OK | OK |  |
| PADOG 1.29.0 | Adi Laurentiu Tarca | OK | OK | OK | OK |  |
| PAIRADISE 1.3.0 | Qiang Hu , Levon Demirdjian | OK | OK | OK | OK |  |
| paircompviz 1.25.0 | Michal Burda | OK | OK | OK | OK |  |
| pandaR 1.19.3 | Joseph N. Paulson , Dan Schlauch | OK | OK | WARNINGS | OK |  |
| panelcn.mops 1.9.0 | Gundula Povysil | OK | OK | OK | OK |  |
| panp 1.57.0 | Peter Warren | OK | OK | OK | OK |  |
| PANR 1.33.0 | Xin Wang | OK | OK | OK | OK |  |
| PanVizGenerator 1.15.0 | Thomas Lin Pedersen | OK | OK | OK | OK |  |
PAPi 1.27.1 | Raphael Aggio | OK | OK | ERROR | OK | |
| parglms 1.19.0 | VJ Carey | OK | OK | OK | OK |  |
| parody 1.45.5 | VJ Carey | OK | OK | OK | OK |  |
| PAST 1.3.1 | Thrash Adam | OK | OK | OK | OK |  |
| Path2PPI 1.17.0 | Oliver Philipp | OK | OK | OK | OK |  |
| pathifier 1.25.0 | Assif Yitzhaky | OK | OK | OK | OK |  |
| PathNet 1.27.3 | Ludwig Geistlinger | OK | OK | OK | OK |  |
| PathoStat 1.13.0 | Solaiappan Manimaran | OK | OK | OK | OK |  |
| pathprint 1.17.0 | Sokratis Kariotis | OK | OK | OK | OK |  |
| pathRender 1.55.0 | Vince Carey | OK | OK | OK | OK |  |
| pathVar 1.17.0 | Samuel Zimmerman | OK | OK | OK | OK |  |
| pathview 1.27.0 | Weijun Luo | OK | OK | WARNINGS | OK |  |
| pathwayPCA 1.3.0 | Gabriel Odom | OK | OK | OK | OK |  |
| PathwaySplice 1.11.0 | Aimin Yan | OK | OK | OK | OK |  |
| paxtoolsr 1.21.0 | Augustin Luna | OK | OK | OK | OK |  |
| pcaExplorer 2.13.0 | Federico Marini | OK | OK | OK | OK |  |
pcaGoPromoter 1.31.1 | Morten Hansen | OK | OK | ERROR | OK | |
| pcaMethods 1.79.1 | Henning Redestig | OK | OK | OK | OK |  |
| PCAN 1.15.0 | Matthew Page and Patrice Godard | OK | OK | OK | OK |  |
| PCAtools 1.3.0 | Kevin Blighe | OK | OK | OK | OK |  |
| pcot2 1.55.0 | Sarah Song | OK | OK | OK | OK |  |
| PCpheno 1.49.0 | Nolwenn Le Meur | OK | OK | OK | OK |  |
| pcxn 2.9.0 | Sokratis Kariotis | OK | OK | OK | OK |  |
| pdInfoBuilder 1.51.0 | Benilton Carvalho | OK | OK | OK | OK |  |
| peakPantheR 1.1.0 | Arnaud Wolfer | OK | OK | OK | OK |  |
| PECA 1.23.0 | Tomi Suomi | OK | OK | OK | OK |  |
| PepsNMR 1.5.0 | Manon Martin | OK | OK | OK | OK |  |
| pepStat 1.21.0 | Gregory C Imholte | OK | OK | OK | OK |  |
| pepXMLTab 1.21.0 | Xiaojing Wang | OK | OK | OK | OK |  |
| PERFect 1.1.0 | Quy Cao | OK | OK | OK | OK |  |
| perturbatr 1.7.0 | Simon Dirmeier | OK | OK | OK | OK |  |
| PGA 1.17.0 | Bo Wen , Shaohang Xu | OK | OK | OK | OK |  |
| pgca 1.11.0 | Gabriela Cohen-Freue | OK | OK | OK | OK |  |
| PGSEA 1.61.0 | Karl Dykema | OK | OK | WARNINGS | OK |  |
| phantasus 1.7.3 | Alexey Sergushichev | OK | OK | WARNINGS | OK |  |
| PharmacoGx 1.17.0 | Benjamin Haibe-Kains | OK | OK | OK | OK |  |
| phemd 1.3.0 | William S Chen | OK | OK | OK | OK |  |
| phenopath 1.11.0 | Kieran Campbell | OK | OK | OK | OK |  |
| phenoTest 1.35.0 | Evarist Planet | OK | OK | OK | OK |  |
| PhenStat 2.23.0 | Hamed Haselimashhadi | OK | OK | OK | OK |  |
| philr 1.13.0 | Justin Silverman | OK | OK | OK | OK |  |
| phosphonormalizer 1.11.0 | Sohrab Saraei | OK | OK | OK | OK |  |
| PhyloProfile 1.1.3 | Vinh Tran | OK | OK | OK | OK |  |
| phyloseq 1.31.0 | Paul J. McMurdie | OK | OK | OK | OK |  |
| Pi 1.15.0 | Hai Fang | OK | OK | OK | OK |  |
| piano 2.3.0 | Leif Varemo Wigge | OK | OK | WARNINGS | OK |  |
| pickgene 1.59.0 | Brian S. Yandell | OK | OK | WARNINGS | OK |  |
| PICS 2.31.5 | Renan Sauteraud | OK | OK | OK | OK |  |
| Pigengene 1.13.6 | Habil Zare | OK | OK | OK | OK |  |
| PING 2.31.2 | Renan Sauteraud | OK | OK | WARNINGS | OK |  |
pint 1.37.1 | Olli-Pekka Huovilainen | OK | ERROR | skipped | skipped | |
| pipeFrame 1.3.6 | Zheng Wei | OK | OK | OK | OK |  |
| pkgDepTools 1.53.0 | Bioconductor Package Maintainer | OK | OK | OK | OK |  |
| plethy 1.25.0 | Daniel Bottomly | OK | OK | OK | OK |  |
| plgem 1.59.0 | Norman Pavelka | OK | OK | OK | OK |  |
| plier 1.57.0 | Crispin Miller | OK | OK | WARNINGS | OK |  |
| plotGrouper 1.5.0 | John D. Gagnon | OK | OK | OK | OK |  |
| PLPE 1.47.0 | Soo-heang Eo | OK | OK | OK | OK |  |
| plrs 1.27.0 | Gwenael G.R. Leday to | OK | OK | OK | OK |  |
| plw 1.47.0 | Magnus Astrand | OK | OK | OK | OK |  |
| plyranges 1.7.7 | Stuart Lee | OK | OK | OK | OK |  |
| pmm 1.19.0 | Anna Drewek | OK | OK | OK | OK |  |
| podkat 1.19.0 | Ulrich Bodenhofer | OK | OK | OK | OK |  |
| pogos 1.7.0 | VJ Carey | OK | OK | OK | OK |  |
| polyester 1.23.0 | Jack Fu , Jeff Leek | OK | OK | OK | OK |  |
| Polyfit 1.21.0 | Conrad Burden | OK | OK | OK | OK |  |
| POST 1.11.0 | Xueyuan Cao | OK | OK | WARNINGS | OK |  |
| PoTRA 1.3.0 | Valentin Dinu | OK | OK | OK | OK |  |
| PowerExplorer 1.7.0 | Xu Qiao | OK | OK | OK | OK |  |
| powerTCR 1.7.0 | Hillary Koch | OK | OK | OK | OK |  |
| PPInfer 1.13.0 | Dongmin Jung | OK | OK | ERROR | OK | |
| ppiStats 1.53.0 | Bioconductor Package Maintainer | OK | OK | OK | OK |  |
| pqsfinder 2.3.0 | Jiri Hon | OK | OK | OK | OK |  |
| prada 1.63.0 | Florian Hahne | OK | OK | OK | OK |  |
| pram 1.3.0 | Peng Liu | OK | OK | OK | OK |  |
| prebs 1.27.0 | Karolis Uziela | OK | OK | OK | OK |  |
| PrecisionTrialDrawer 1.3.1 | Giorgio Melloni | OK | OK | OK | OK |  |
| PREDA 1.33.0 | Francesco Ferrari | OK | OK | OK | OK |  |
| predictionet 1.33.0 | Benjamin Haibe-Kains | OK | OK | OK | OK |  |
| preprocessCore 1.49.0 | Ben Bolstad | OK | OK | WARNINGS | OK |  |
| primirTSS 1.5.0 | Pumin Li | OK | OK | OK | OK |  |
| PrInCE 1.3.0 | Michael Skinnider | OK | OK | OK | OK |  |
| Prize 1.17.0 | Daryanaz Dargahi | OK | OK | OK | OK |  |
| proBAMr 1.21.0 | Xiaojing Wang | OK | OK | OK | OK |  |
| proBatch 1.3.0 | Jelena Cuklina | OK | OK | OK | OK |  |
| PROcess 1.63.0 | Xiaochun Li | OK | OK | OK | OK |  |
| procoil 2.15.0 | Ulrich Bodenhofer | OK | OK | OK | OK |  |
| proDA 1.1.2 | Constantin Ahlmann-Eltze | OK | OK | OK | OK |  |
| proFIA 1.13.0 | Alexis Delabriere | OK | OK | WARNINGS | OK |  |
| profileplyr 1.3.0 | Tom Carroll , Doug Barrows | OK | OK | OK | OK |  |
| profileScoreDist 1.15.0 | Paal O. Westermark | OK | OK | OK | OK |  |
| progeny 1.9.0 | Michael Schubert | OK | OK | OK | OK |  |
| projectR 1.3.0 | Genevieve Stein-O'Brien | OK | OK | OK | OK |  |
| pRoloc 1.27.1 | Laurent Gatto | OK | OK | WARNINGS | OK |  |
| pRolocGUI 1.21.0 | Laurent Gatto | OK | OK | OK | OK |  |
| PROMISE 1.39.0 | Stan Pounds , Xueyuan Cao | OK | OK | OK | OK |  |
| PROPER 1.19.0 | Hao Wu | OK | OK | WARNINGS | OK |  |
| PROPS 1.9.0 | Lichy Han | OK | OK | OK | OK |  |
| Prostar 1.19.11 | Samuel Wieczorek | OK | OK | OK | OK |  |
| proteinProfiles 1.27.0 | Julian Gehring | OK | OK | OK | OK |  |
| ProteomicsAnnotationHubData 1.17.0 | Laurent Gatto | OK | OK | OK | OK |  |
| ProteoMM 1.5.0 | Yuliya V Karpievitch | OK | OK | OK | OK |  |
proteoQC 1.23.1 | Bo Wen | OK | ERROR | skipped | skipped | |
| ProtGenerics 1.19.3 | Laurent Gatto | OK | OK | OK | OK |  |
| PSEA 1.21.0 | Alexandre Kuhn | OK | OK | OK | OK |  |
| psichomics 1.13.0 | Nuno Saraiva-Agostinho | OK | OK | OK | OK |  |
| PSICQUIC 1.25.0 | Paul Shannon | OK | OK | WARNINGS | OK |  |
| psygenet2r 1.19.0 | Alba Gutierrez-Sacristan | OK | OK | WARNINGS | OK |  |
| PubScore 0.99.3 | Tiago Lubiana | OK | OK | OK | OK |  |
| pulsedSilac 1.1.1 | Marc Pagès-Gallego | OK | OK | OK | OK |  |
| puma 3.29.1 | Xuejun Liu | OK | ERROR | skipped | skipped | |
| PureCN 1.17.1 | Markus Riester | OK | OK | OK | OK |  |
| pvac 1.35.0 | Jun Lu , Pierre R. Bushel | OK | OK | OK | OK |  |
| pvca 1.27.0 | Jianying LI | OK | OK | OK | OK |  |
| Pviz 1.21.0 | Renan Sauteraud | OK | OK | OK | OK |  |
| PWMEnrich 4.23.0 | Robert Stojnic | OK | OK | OK | OK |  |
| pwOmics 1.19.0 | Maren Sitte | OK | OK | OK | OK |  |
| pwrEWAS 1.1.0 | Stefan Graw | OK | OK | OK | OK |  |
|
| |
| qckitfastq 1.3.0 | August Guang | ERROR | ERROR | skipped | skipped | |
| qcmetrics 1.25.0 | Laurent Gatto | OK | OK | OK | OK |  |
| QDNAseq 1.23.0 | Daoud Sie | OK | OK | OK | OK |  |
| qpcrNorm 1.45.0 | Jessica Mar | OK | OK | OK | OK |  |
| qpgraph 2.21.1 | Robert Castelo | OK | OK | OK | OK |  |
| qPLEXanalyzer 1.5.0 | Ashley Sawle | OK | OK | OK | OK |  |
| qrqc 1.41.0 | Vince Buffalo | OK | OK | WARNINGS | OK |  |
| qsea 1.13.0 | Matthias Lienhard | OK | OK | OK | OK |  |
| qsmooth 1.3.0 | Stephanie C. Hicks | OK | OK | OK | OK |  |
| QSutils 1.5.0 | Mercedes Guerrero-Murillo | OK | OK | OK | OK |  |
| Qtlizer 1.1.0 | Matthias Munz | OK | OK | OK | OK |  |
QUALIFIER 1.31.1 | Mike Jiang | OK | ERROR | skipped | skipped | |
| quantro 1.21.0 | Stephanie Hicks | OK | OK | OK | OK |  |
| quantsmooth 1.53.0 | Jan Oosting | OK | OK | OK | OK |  |
| QuartPAC 1.19.0 | Gregory Ryslik | OK | OK | OK | OK |  |
| QuasR 1.27.0 | Michael Stadler | OK | OK | OK | OK |  |
| QuaternaryProd 1.21.0 | Carl Tony Fakhry | OK | OK | OK | OK |  |
| QUBIC 1.15.1 | Yu Zhang | OK | OK | OK | OK |  |
| qusage 2.21.0 | Christopher Bolen | OK | OK | OK | OK |  |
| qvalue 2.19.0 | John D. Storey , Andrew J. Bass | OK | OK | OK | OK |  |
|
| |
| R3CPET 1.19.0 | Mohamed Nadhir Djekidel | OK | OK | OK | OK |  |
| r3Cseq 1.33.0 | Supat Thongjuea or | OK | OK | OK | OK |  |
| R453Plus1Toolbox 1.37.0 | Hans-Ulrich Klein | OK | OK | OK | OK |  |
| R4RNA 1.15.0 | Daniel Lai | OK | OK | OK | OK |  |
| RaggedExperiment 1.11.0 | Martin Morgan | OK | OK | OK | OK |  |
| rain 1.21.0 | Paul F. Thaben | OK | OK | OK | OK |  |
| rama 1.61.0 | Raphael Gottardo | OK | OK | OK | OK |  |
| ramwas 1.11.1 | Andrey A Shabalin | OK | OK | OK | OK |  |
| RandomWalkRestartMH 1.7.0 | Alberto Valdeolivas Urbelz | OK | OK | OK | OK |  |
| randPack 1.33.0 | Robert Gentleman | OK | OK | OK | OK |  |
| RankProd 3.13.0 | Francesco Del Carratore | OK | OK | OK | OK |  |
| RareVariantVis 2.15.0 | Tomasz Stokowy | OK | OK | OK | OK |  |
| Rariant 1.23.0 | Julian Gehring | OK | OK | WARNINGS | OK |  |
| RbcBook1 1.55.0 | Vince Carey | OK | OK | OK | OK |  |
| RBGL 1.63.1 | Bioconductor Package Maintainer | OK | OK | OK | OK |  |
| RBioinf 1.47.0 | Robert Gentleman | OK | OK | OK | OK |  |
| rBiopaxParser 2.27.0 | Frank Kramer | OK | OK | OK | OK |  |
| RBM 1.19.0 | Dongmei Li | OK | OK | OK | OK |  |
| Rbowtie 1.27.1 | Michael Stadler | OK | OK | OK | OK |  |
| Rbowtie2 1.9.0 | Zheng Wei | OK | OK | OK | OK |  |
| rbsurv 2.45.0 | Soo-heang Eo | OK | OK | OK | OK |  |
| Rcade 1.29.0 | Jonathan Cairns | OK | OK | WARNINGS | OK |  |
RCAS 1.13.1 | Bora Uyar | OK | ERROR | skipped | skipped | |
| RCASPAR 1.33.0 | Douaa Mugahid , Lars Kaderali | OK | OK | OK | OK |  |
| rcellminer 2.9.0 | Augustin Luna , Vinodh Rajapakse | OK | OK | OK | OK |  |
| rCGH 1.17.0 | Frederic Commo | OK | OK | OK | OK |  |
| RchyOptimyx 2.27.0 | Adrin Jalali , Nima Aghaeepour | OK | OK | WARNINGS | OK |  |
| RcisTarget 1.7.1 | Sara Aibar | OK | OK | WARNINGS | OK |  |
| RCM 1.3.0 | Joris Meys | OK | OK | OK | OK |  |
| Rcpi 1.23.0 | Nan Xiao | OK | OK | OK | OK |  |
| Rcwl 1.3.1 | Qiang Hu | OK | OK | OK | OK |  |
| RcwlPipelines 1.3.0 | Qiang Hu | OK | OK | OK | OK |  |
| RCy3 2.7.3 | Alex Pico | OK | OK | OK | OK |  |
| RCyjs 2.9.0 | Paul Shannon | OK | OK | WARNINGS | OK |  |
| RDAVIDWebService 1.25.0 | Cristobal Fresno | OK | OK | WARNINGS | OK |  |
| rDGIdb 1.13.0 | Thomas Thurnherr | OK | OK | OK | OK |  |
| Rdisop 1.47.0 | Steffen Neumann | OK | OK | OK | OK |  |
| RDRToolbox 1.37.0 | Christoph Bartenhagen | OK | OK | WARNINGS | OK |  |
| ReactomeGSA 1.1.0 | Johannes Griss | OK | OK | OK | OK |  |
| ReactomePA 1.31.0 | Guangchuang Yu | OK | OK | OK | OK |  |
readat 1.13.1 | Richard Cotton | ERROR | ERROR | skipped | skipped | |
| ReadqPCR 1.33.0 | James Perkins | OK | OK | OK | OK |  |
| reb 1.65.0 | Karl J. Dykema | OK | OK | OK | OK |  |
| REBET 1.5.0 | Bill Wheeler | OK | OK | OK | OK |  |
| recount 1.13.1 | Leonardo Collado-Torres | OK | OK | OK | OK |  |
| recoup 1.15.0 | Panagiotis Moulos | OK | OK | OK | OK |  |
| RedeR 1.35.0 | Mauro Castro | OK | OK | OK | OK |  |
| REDseq 1.33.1 | Lihua Julie Zhu | OK | OK | OK | OK |  |
RefNet 1.23.1 | Paul Shannon | OK | OK | WARNINGS | OK |  |
| RefPlus 1.57.0 | Kai-Ming Chang | OK | OK | OK | OK |  |
| regioneR 1.19.1 | Bernat Gel | OK | OK | OK | OK |  |
| regionReport 1.21.0 | Leonardo Collado-Torres | OK | OK | OK | OK |  |
| regsplice 1.13.6 | Lukas M. Weber | OK | OK | OK | OK |  |
| REMP 1.11.0 | Yinan Zheng | OK | OK | OK | OK |  |
| Repitools 1.33.0 | Mark Robinson | OK | OK | OK | OK |  |
| ReportingTools 2.27.0 | Jason A. Hackney , Gabriel Becker | OK | OK | OK | OK |  |
| RepViz 1.3.0 | Thomas Faux, Asta Laiho | OK | OK | WARNINGS | OK |  |
| ReQON 1.33.0 | Christopher Cabanski | OK | OK | OK | OK |  |
| restfulSE 1.9.0 | Shweta Gopaulakrishnan | OK | OK | OK | OK |  |
| rexposome 1.9.0 | Carles Hernandez-Ferrer | OK | OK | OK | OK |  |
| rfPred 1.25.0 | Hugo Varet | OK | OK | OK | OK |  |
| rGADEM 2.35.1 | Arnaud Droit | OK | OK | OK | OK |  |
| RGalaxy 1.31.0 | Bioconductor Package Maintainer | OK | OK | OK | OK |  |
| Rgin 1.7.0 | Hector Climente-Gonzalez | OK | OK | WARNINGS | OK |  |
| RGMQL 1.7.0 | Simone Pallotta | OK | ERROR | skipped | skipped | |
| RGraph2js 1.15.0 | Stephane Cano | OK | OK | OK | OK |  |
| Rgraphviz 2.31.0 | Kasper Daniel Hansen | OK | OK | WARNINGS | OK |  |
| rGREAT 1.19.0 | Zuguang Gu | OK | OK | OK | OK |  |
| RGSEA 1.21.0 | Chengcheng Ma | OK | OK | OK | OK |  |
| rgsepd 1.19.1 | Karl Stamm | OK | OK | OK | OK |  |
| rhdf5 2.31.3 | Mike Smith | OK | OK | OK | OK |  |
| rhdf5client 1.9.0 | Vincent Carey | OK | OK | OK | OK |  |
| Rhdf5lib 1.9.0 | Mike Smith | OK | OK | WARNINGS | OK |  |
| Rhisat2 1.3.0 | Charlotte Soneson | OK | OK | OK | OK |  |
| Rhtslib 1.19.0 | Bioconductor Package Maintainer | OK | OK | OK | OK |  |
| RiboProfiling 1.17.0 | A. Popa | OK | OK | WARNINGS | OK |  |
| riboSeqR 1.21.0 | Thomas J. Hardcastle | OK | OK | OK | OK |  |
| RImmPort 1.15.0 | Zicheng Hu , Ravi Shankar | OK | OK | OK | OK |  |
| Ringo 1.51.0 | J. Toedling | OK | OK | OK | OK |  |
RIPSeeker 1.27.1 | Yue Li | OK | OK | ERROR | OK | |
| Risa 1.29.0 | Alejandra Gonzalez-Beltran | OK | OK | OK | OK |  |
| RITAN 1.11.0 | Michael Zimmermann | OK | OK | WARNINGS | OK |  |
| RIVER 1.11.0 | Yungil Kim | OK | OK | OK | OK |  |
| RJMCMCNucleosomes 1.11.0 | Astrid Deschênes | OK | OK | OK | OK |  |
| RLMM 1.49.0 | Nusrat Rabbee | OK | OK | OK | OK |  |
| Rmagpie 1.43.0 | Camille Maumet | OK | OK | OK | OK |  |
| RMassBank 2.15.3 | RMassBank at Eawag | OK | OK | WARNINGS | OK |  |
| rmelting 1.3.0 | J. Aravind | OK | OK | OK | OK |  |
| RmiR 1.43.0 | Francesco Favero | OK | OK | OK | OK |  |
| Rmmquant 1.5.0 | Zytnicki Matthias | OK | TIMEOUT | skipped | skipped | |
| RNAdecay 1.7.0 | Reed Sorenson | OK | OK | OK | OK |  |
| RNAinteract 1.35.0 | Bernd Fischer | OK | OK | OK | OK |  |
| RNAither 2.35.0 | Lars Kaderali | OK | OK | OK | OK |  |
| RNAmodR 1.1.4 | Felix G.M. Ernst | OK | OK | ERROR | OK | |
| RNAmodR.AlkAnilineSeq 1.1.1 | Felix G.M. Ernst | OK | OK | OK | OK |  |
| RNAmodR.ML 1.1.1 | Felix G.M. Ernst | OK | OK | OK | OK |  |
| RNAmodR.RiboMethSeq 1.1.1 | Felix G.M. Ernst | OK | OK | OK | OK |  |
| RNAprobR 1.19.0 | Nikos Sidiropoulos | OK | ERROR | skipped | skipped | |
| RNAsense 1.1.0 | Marcus Rosenblatt | OK | OK | WARNINGS | OK |  |
| rnaseqcomp 1.17.0 | Mingxiang Teng | OK | OK | OK | OK |  |
| rnaSeqMap 2.45.0 | Michal Okoniewski | OK | OK | OK | OK |  |
| RNASeqPower 1.27.0 | Terry M Therneau | OK | OK | OK | OK |  |
| RNASeqR 1.5.0 | Kuan-Hao Chao | OK | OK | OK | OK |  |
| RnBeads 2.5.0 | Fabian Mueller | OK | OK | OK | OK |  |
| Rnits 1.21.0 | Dipen P. Sangurdekar | OK | OK | OK | OK |  |
| roar 1.23.0 | Elena Grassi | OK | OK | OK | OK |  |
| ROC 1.63.0 | Vince Carey | OK | OK | OK | OK |  |
| Roleswitch 1.25.0 | Yue Li | OK | OK | OK | OK |  |
| rols 2.15.0 | Laurent Gatto | OK | OK | ERROR | OK | |
| ROntoTools 2.15.0 | Calin Voichita | OK | OK | OK | OK |  |
| ropls 1.19.8 | Etienne A. Thevenot | OK | OK | OK | OK |  |
| ROTS 1.15.1 | Tomi Suomi | OK | OK | OK | OK |  |
| RPA 1.43.0 | Leo Lahti | OK | OK | OK | OK |  |
| RProtoBufLib 1.9.7 | Mike Jiang | OK | OK | OK | OK |  |
| RpsiXML 2.29.0 | Jitao David Zhang | OK | OK | OK | OK |  |
| rpx 1.23.1 | Laurent Gatto | OK | OK | OK | OK |  |
| Rqc 1.21.0 | Welliton Souza | OK | OK | OK | OK |  |
| rqt 1.13.0 | Ilya Y. Zhbannikov | OK | OK | OK | OK |  |
| rqubic 1.33.0 | Jitao David Zhang | OK | OK | OK | OK |  |
| rRDP 1.21.0 | Michael Hahsler | OK | OK | OK | OK |  |
| RRHO 1.27.0 | Jonathan Rosenblatt | OK | OK | OK | OK |  |
| Rsamtools 2.3.2 | Bioconductor Package Maintainer | OK | OK | WARNINGS | OK |  |
| rsbml 2.45.0 | Michael Lawrence | OK | OK | WARNINGS | OK |  |
| rScudo 1.3.1 | Matteo Ciciani | OK | OK | OK | OK |  |
| RSeqAn 1.7.0 | August Guang | OK | ERROR | skipped | skipped | |
| Rsubread 2.1.1 | Wei Shi , Yang Liao and Gordon K Smyth | OK | OK | WARNINGS | OK |  |
| RSVSim 1.27.0 | Christoph Bartenhagen | OK | OK | OK | OK |  |
| rTANDEM 1.27.0 | Frederic Fournier | ERROR | ERROR | skipped | skipped | |
| RTCA 1.39.0 | Jitao David Zhang | OK | OK | OK | OK |  |
| RTCGA 1.17.0 | Marcin Kosinski | OK | OK | OK | OK |  |
| RTCGAToolbox 2.17.3 | Marcel Ramos | OK | OK | OK | OK |  |
| RTN 2.11.3 | Mauro Castro | OK | OK | OK | OK |  |
| RTNduals 1.11.1 | Mauro Castro , Clarice Groeneveld | OK | OK | OK | OK |  |
| RTNsurvival 1.11.1 | Clarice Groeneveld , Mauro A. A. Castro | OK | OK | OK | OK |  |
| RTopper 1.33.0 | Luigi Marchionni | OK | OK | OK | OK |  |
| rtracklayer 1.47.0 | Michael Lawrence | OK | OK | WARNINGS | OK |  |
| Rtreemix 1.49.0 | Jasmina Bogojeska | OK | OK | OK | OK |  |
| rTRM 1.25.0 | Diego Diez | OK | OK | OK | OK |  |
| rTRMui 1.25.0 | Diego Diez | OK | OK | OK | OK |  |
| runibic 1.9.0 | Patryk Orzechowski | OK | OK | OK | OK |  |
| RUVcorr 1.19.0 | Saskia Freytag | OK | OK | OK | OK |  |
| RUVnormalize 1.21.1 | Laurent Jacob | OK | OK | OK | OK |  |
| RUVSeq 1.21.0 | Davide Risso | OK | OK | OK | OK |  |
| RVS 1.9.0 | Thomas Sherman | OK | ERROR | skipped | skipped | |
| rWikiPathways 1.7.1 | Egon Willighagen | OK | OK | OK | OK |  |
|
| |
| S4Vectors 0.25.10 | Bioconductor Package Maintainer | OK | OK | WARNINGS | OK |  |
| safe 3.27.0 | William T. Barry | OK | OK | OK | OK |  |
| sagenhaft 1.57.0 | Tim Beissbarth | OK | ERROR | skipped | skipped | |
| SAGx 1.61.0 | Per Broberg, | OK | OK | OK | OK |  |
| SAIGEgds 1.1.0 | Xiuwen Zheng | OK | OK | OK | OK |  |
| samExploreR 1.11.0 | shailesh tripathi | OK | OK | OK | OK |  |
| sampleClassifier 1.11.0 | Khadija El Amrani | OK | OK | OK | OK |  |
| SamSPECTRAL 1.41.0 | Habil | OK | OK | WARNINGS | OK |  |
| sangerseqR 1.23.0 | Jonathon Hill | OK | OK | OK | OK |  |
SANTA 2.25.1 | Alex J. Cornish | OK | ERROR | skipped | skipped | |
| sapFinder 1.25.0 | Shaohang Xu , Bo Wen | OK | OK | OK | OK |  |
| savR 1.25.0 | R. Brent Calder | OK | OK | OK | OK |  |
| SBGNview 1.1.0 | Xiaoxi Dong | OK | OK | OK | OK |  |
| SBMLR 1.83.0 | Tomas Radivoyevitch | OK | OK | OK | OK |  |
| SC3 1.15.1 | Vladimir Kiselev | OK | OK | OK | OK |  |
| Scale4C 1.9.0 | Carolin Walter | OK | OK | OK | OK |  |
| scAlign | | ...NOT SUPPORTED... |
| SCAN.UPC 2.29.0 | Stephen R. Piccolo | OK | OK | OK | OK |  |
| SCANVIS 1.1.0 | Phaedra Agius | OK | OK | OK | OK |  |
| scater 1.15.16 | Davis McCarthy | OK | OK | ERROR | OK | |
| scBFA 1.1.0 | Ruoxin Li | OK | OK | OK | OK |  |
| SCBN 1.5.0 | Yan Zhou | OK | OK | OK | OK |  |
| scDblFinder 1.1.0 | Pierre-Luc Germain | OK | OK | OK | OK |  |
| scDD 1.11.1 | Keegan Korthauer | OK | OK | OK | OK |  |
| scde 2.15.0 | Jean Fan | OK | OK | WARNINGS | OK |  |
| scds 1.3.0 | Dennis Kostka | OK | OK | OK | OK |  |
| scFeatureFilter 1.7.1 | Guillaume Devailly | OK | OK | OK | OK |  |
| scfind 1.9.0 | Vladimir Kiselev | OK | ERROR | skipped | skipped | |
| scGPS 1.1.0 | Quan Nguyen | OK | ERROR | skipped | skipped | |
schex 1.1.1 | Saskia Freytag | OK | ERROR | skipped | skipped | |
| ScISI 1.59.0 | Tony Chiang | OK | OK | OK | OK |  |
| scMAGeCK 0.99.14 | Xiaolong Cheng | OK | OK | OK | OK |  |
| scmap 1.9.0 | Vladimir Kiselev | OK | OK | WARNINGS | OK |  |
| scMerge 1.3.0 | Kevin Wang | OK | OK | OK | OK |  |
| scmeth 1.7.0 | Divy Kangeyan | OK | OK | OK | OK |  |
| SCnorm 1.9.0 | Rhonda Bacher | OK | OK | OK | OK |  |
| scone 1.11.1 | Davide Risso | OK | OK | OK | OK |  |
| Sconify 1.7.0 | Tyler J Burns | OK | OK | OK | OK |  |
| scoreInvHap 1.9.0 | Carlos Ruiz | OK | OK | WARNINGS | OK |  |
| scPCA 1.1.3 | Philippe Boileau | OK | OK | OK | OK |  |
| scPipe 1.9.0 | Luyi Tian | OK | OK | WARNINGS | OK |  |
| scran 1.15.16 | Aaron Lun | OK | OK | ERROR | OK | |
| scRecover 1.3.0 | Zhun Miao | OK | OK | OK | OK |  |
| scruff 1.5.5 | Zhe Wang | OK | OK | OK | OK |  |
| scsR 1.23.0 | Andrea Franceschini , Roger Meier , Christian von Mering | OK | OK | ERROR | OK | |
| scTensor 1.3.1 | Koki Tsuyuzaki | OK | OK | OK | OK |  |
| scTGIF 1.1.0 | Koki Tsuyuzaki | OK | OK | OK | OK |  |
| SDAMS 1.7.0 | Yuntong Li | OK | OK | OK | OK |  |
| segmentSeq 2.21.0 | Thomas J. Hardcastle | OK | OK | OK | OK |  |
| selectKSigs 0.99.5 | Zhi Yang | OK | OK | OK | OK |  |
SELEX 1.19.1 | Harmen Bussemaker | OK | OK | WARNINGS | OK |  |
| SemDist 1.21.0 | Ian Gonzalez | OK | OK | OK | OK |  |
| semisup 1.11.0 | Armin Rauschenberger | OK | OK | OK | OK |  |
| SEPIRA 1.7.0 | Yuting Chen | OK | OK | OK | OK |  |
| seq2pathway 1.19.0 | Xinan Yang with contribution from Zhezhen Wang | OK | OK | WARNINGS | OK |  |
| SeqArray 1.27.7 | Xiuwen Zheng | OK | OK | OK | OK |  |
| seqbias 1.35.0 | Daniel Jones | OK | OK | WARNINGS | OK | |
| seqCAT 1.9.0 | Erik Fasterius | OK | OK | OK | OK |  |
| seqCNA 1.33.0 | David Mosen-Ansorena | OK | OK | OK | OK |  |
| seqcombo 1.9.0 | Guangchuang Yu | OK | OK | OK | OK |  |
| SeqGSEA 1.27.0 | Xi Wang | OK | OK | OK | OK |  |
| seqLogo 1.53.0 | Oliver Bembom | OK | OK | OK | OK |  |
| seqPattern 1.19.0 | Vanja Haberle | OK | OK | OK | OK |  |
| seqplots 1.25.0 | Przemyslaw Stempor | OK | OK | OK | OK |  |
| seqsetvis 1.7.1 | Joseph R Boyd | OK | OK | OK | OK |  |
| SeqSQC 1.9.0 | Qian Liu | OK | OK | OK | OK |  |
| seqTools 1.21.0 | Wolfgang Kaisers | OK | OK | WARNINGS | OK |  |
| SeqVarTools 1.25.0 | Stephanie M. Gogarten | OK | OK | OK | OK |  |
| sesame 1.5.2 | Wanding Zhou | OK | OK | OK | OK |  |
| SEtools 1.1.0 | Pierre-Luc Germain | OK | OK | OK | OK |  |
| sevenbridges 1.17.0 | Nan Xiao | OK | OK | OK | OK |  |
| sevenC 1.7.0 | Jonas Ibn-Salem | OK | OK | OK | OK |  |
| SGSeq 1.21.1 | Leonard Goldstein | OK | OK | OK | OK |  |
| SharedObject 1.1.0 | Jiefei Wang | OK | OK | OK | OK |  |
| shinyMethyl 1.23.0 | Jean-Philippe Fortin | OK | OK | OK | OK |  |
| shinyTANDEM 1.25.0 | Frederic Fournier | OK | OK | OK | OK |  |
| ShortRead 1.45.1 | Bioconductor Package Maintainer | OK | OK | OK | OK | |
| SIAMCAT 1.7.0 | Konrad Zych | OK | OK | OK | OK |  |
| SICtools 1.17.0 | Xiaobin Xing | OK | OK | WARNINGS | OK |  |
| sigaR 1.35.0 | Wessel N. van Wieringen | OK | OK | OK | OK |  |
| SigCheck 2.19.0 | Rory Stark | OK | OK | OK | OK |  |
| sigFeature 1.5.0 | Pijush Das Developer | OK | OK | OK | OK |  |
| SigFuge 1.25.0 | Patrick Kimes | OK | OK | OK | OK |  |
| siggenes 1.61.0 | Holger Schwender | OK | OK | OK | OK | |
| sights 1.13.0 | Elika Garg | OK | OK | OK | OK |  |
| signatureSearch 1.1.2 | Yuzhu Duan | OK | OK | OK | OK |  |
| signeR 1.13.1 | Renan Valieris | OK | OK | OK | OK |  |
| signet 1.7.0 | Alexandre Gouy | OK | OK | OK | OK |  |
| sigPathway 1.55.0 | Weil Lai | OK | OK | OK | OK | |
| SigsPack 1.1.0 | Franziska Schumann | OK | OK | OK | OK |  |
| sigsquared 1.19.0 | UnJin Lee | OK | OK | OK | OK |  |
| SIM 1.57.0 | Renee X. de Menezes | OK | OK | OK | OK | |
| SIMAT 1.19.0 | M. R. Nezami Ranjbar | OK | OK | OK | OK |  |
| SimBindProfiles 1.25.0 | Bettina Fischer | OK | OK | OK | OK |  |
| SIMD 1.5.0 | Jiadi Zhu | OK | OK | OK | OK |  |
| similaRpeak 1.19.0 | Astrid Deschenes | OK | OK | OK | OK |  |
| SIMLR 1.13.0 | Luca De Sano | OK | OK | OK | OK |  |
| simpleaffy 2.63.0 | Crispin Miller | OK | OK | WARNINGS | OK | |
| simulatorZ 1.21.0 | Yuqing Zhang | OK | OK | OK | OK |  |
| sincell 1.19.0 | Miguel Julia , Antonio Rausell | OK | OK | OK | OK |  |
| SingleCellExperiment 1.9.1 | Davide Risso | OK | OK | WARNINGS | OK |  |
| singleCellTK 1.7.0 | David Jenkins | OK | OK | OK | OK |  |
| SingleR 1.1.7 | Aaron Lun | OK | ERROR | skipped | skipped | |
| singscore 1.7.0 | Dharmesh D. Bhuva | OK | OK | OK | OK |  |
| SISPA 1.17.0 | Bhakti Dwivedi | OK | OK | WARNINGS | OK |  |
| sitePath 1.3.0 | Chengyang Ji | OK | OK | OK | OK |  |
| sizepower 1.57.0 | Weiliang Qiu | OK | OK | OK | OK | |
| skewr 1.19.0 | Ryan Putney | OK | OK | OK | OK |  |
| slalom 1.9.0 | Davis McCarthy | OK | OK | OK | OK |  |
| SLGI 1.47.0 | Nolwenn Le Meur | OK | OK | OK | OK | |
| slingshot 1.5.0 | Kelly Street | OK | OK | OK | OK |  |
| slinky 1.5.0 | Eric J. Kort | OK | OK | OK | OK |  |
| SLqPCR 1.53.0 | Matthias Kohl | OK | OK | OK | OK | |
| SMAD 1.3.1 | Qingzhou Zhang | OK | OK | OK | OK |  |
| SMAP 1.51.0 | Robin Andersson | OK | OK | OK | OK | |
| SMITE 1.15.0 | Neil Ari Wijetunga | OK | OK | OK | OK |  |
| SNAGEE 1.27.0 | David Venet | OK | OK | OK | OK | |
| snapCGH 1.57.0 | John Marioni | OK | OK | OK | OK | |
| snm 1.35.0 | John D. Storey | OK | OK | OK | OK | |
| SNPediaR 1.13.0 | David Montaner | OK | OK | OK | OK |  |
| SNPhood 1.17.0 | Christian Arnold | OK | OK | OK | OK |  |
| SNPRelate 1.21.1 | Xiuwen Zheng | OK | OK | OK | OK | |
| snpStats 1.37.0 | David Clayton | OK | ERROR | skipped | skipped | |
| soGGi 1.19.0 | Tom Carroll | OK | OK | OK | OK |  |
| sojourner 1.1.0 | Sojourner Developer | OK | OK | OK | OK |  |
| SomaticSignatures 2.23.0 | Julian Gehring | OK | OK | OK | OK | |
| SpacePAC 1.25.0 | Gregory Ryslik | OK | OK | OK | OK | |
| Spaniel 1.1.0 | Rachel Queen | OK | OK | OK | OK |  |
| sparseDOSSA 1.11.0 | Boyu Ren, Emma Schwager | OK | OK | OK | OK |  |
| sparsenetgls 1.5.0 | Irene Zeng | OK | OK | OK | OK |  |
| SparseSignatures 1.7.0 | Luca De Sano | OK | OK | OK | OK |  |
| SpatialCPie 1.3.2 | Joseph Bergenstraahle | OK | OK | OK | OK |  |
| specL 1.21.2 | Christian Panse | OK | OK | OK | OK |  |
| SpeCond 1.41.0 | Florence Cavalli | OK | OK | OK | OK | |
| SpectralTAD 1.3.0 | Kellen Cresswell | OK | OK | WARNINGS | OK |  |
| SPEM 1.27.0 | Xinyi YANG | OK | OK | OK | OK | |
| SPIA 2.39.0 | Adi Laurentiu Tarca | OK | OK | OK | OK | |
| SpidermiR 1.17.2 | Claudia Cava | OK | OK | WARNINGS | OK |  |
| spikeLI 2.47.0 | Enrico Carlon | OK | OK | OK | OK | |
| spkTools 1.43.0 | Matthew N McCall | OK | OK | OK | OK | |
| splatter 1.11.0 | Luke Zappia | OK | ERROR | skipped | skipped | |
splicegear 1.59.1 | Laurent Gautier | OK | ERROR | skipped | skipped | |
| SplicingGraphs 1.27.1 | H. Pagès | OK | OK | WARNINGS | OK | |
| splineTimeR 1.15.0 | Herbert Braselmann | OK | OK | OK | OK |  |
| SPLINTER 1.13.0 | Diana Low | OK | OK | OK | OK |  |
| splots 1.53.0 | Wolfgang Huber | OK | OK | OK | OK | |
| SPONGE 1.9.0 | Markus List | OK | OK | OK | OK |  |
| spotSegmentation 1.61.0 | Chris Fraley | OK | OK | WARNINGS | OK | |
| SQLDataFrame 1.1.0 | Qian Liu | OK | OK | WARNINGS | OK |  |
| SQUADD 1.37.0 | Martial Sankar | OK | OK | OK | OK | |
| sRACIPE 1.3.1 | Vivek Kohar | OK | OK | OK | OK |  |
| SRAdb 1.49.1 | Jack Zhu | OK | OK | OK | OK | |
| sRAP 1.27.0 | Charles Warden | OK | OK | WARNINGS | OK | |
| SRGnet 1.13.0 | Isar Nassiri | OK | OK | OK | OK |  |
| srnadiff 1.7.0 | Zytnicki Matthias | OK | OK | OK | OK |  |
| sscore 1.59.0 | Richard Kennedy | OK | OK | OK | OK | |
| sscu 2.17.0 | Yu Sun | OK | OK | WARNINGS | OK |  |
| sSeq 1.25.0 | Danni Yu | OK | OK | OK | OK | |
| ssize 1.61.0 | Gregory R. Warnes | OK | OK | OK | OK | |
| SSPA 2.27.0 | Maarten van Iterson | OK | OK | OK | OK | |
| ssPATHS 1.1.0 | Natalie R. Davidson | OK | OK | OK | OK |  |
| ssrch 1.3.0 | VJ Carey | OK | OK | OK | OK |  |
| ssviz 1.21.0 | Diana Low | OK | OK | OK | OK | |
| stageR 1.9.0 | Koen Van den Berge | OK | OK | WARNINGS | OK |  |
| STAN 2.15.0 | Rafael Campos-Martin | OK | OK | WARNINGS | OK | |
| staRank 1.29.0 | Juliane Siebourg | OK | OK | OK | OK | |
| StarBioTrek 1.13.0 | Claudia Cava | OK | OK | WARNINGS | OK |  |
| Starr 1.43.0 | Benedikt Zacher | OK | OK | OK | OK | |
| STATegRa 1.23.0 | David Gomez-Cabrero , Núria Planell | OK | OK | OK | OK | |
| statTarget 1.17.2 | Hemi Luan | OK | OK | OK | OK |  |
| stepNorm 1.59.0 | Yuanyuan Xiao | OK | OK | OK | OK | |
| strandCheckR 1.5.0 | Thu-Hien To | OK | OK | OK | OK |  |
| Streamer 1.33.1 | Martin Morgan | OK | OK | OK | OK | |
| STRINGdb 1.99.5 | Damian Szklarczyk | OK | ERROR | skipped | skipped | |
| STROMA4 1.11.0 | Sadiq Saleh | OK | OK | OK | OK |  |
| Structstrings 1.3.1 | Felix G.M. Ernst | OK | OK | OK | OK |  |
| StructuralVariantAnnotation 1.3.0 | Daniel Cameron | OK | OK | OK | OK |  |
| SubCellBarCode 1.3.2 | Taner Arslan | OK | ERROR | skipped | skipped | |
| subSeq 1.17.0 | Andrew J. Bass , John D. Storey | OK | OK | OK | OK | |
| SummarizedBenchmark 2.5.0 | Patrick Kimes | OK | OK | OK | OK |  |
| SummarizedExperiment 1.17.1 | Bioconductor Package Maintainer | OK | OK | OK | OK | |
| supraHex 1.25.0 | Hai Fang | OK | OK | OK | OK | |
| survcomp 1.37.0 | Benjamin Haibe-Kains , Markus Schroeder , Catharina Olsen | OK | OK | WARNINGS | OK | |
| survtype 1.3.1 | Dongmin Jung | OK | OK | OK | OK |  |
| Sushi 1.25.0 | Douglas H Phanstiel | OK | OK | WARNINGS | OK | |
| sva 3.35.0 | Jeffrey T. Leek , John D. Storey | OK | OK | OK | OK | |
| SVAPLSseq 1.13.0 | Sutirtha Chakraborty | OK | OK | OK | OK | |
| SWATH2stats 1.17.5 | Peter Blattmann | OK | OK | OK | OK | |
| SwathXtend 2.9.0 | Jemma Wu | OK | OK | WARNINGS | OK | |
| swfdr 1.13.0 | Simina M. Boca , Jeffrey T. Leek | OK | OK | OK | OK |  |
| SwimR 1.25.0 | Randy Blakely | OK | OK | OK | OK | |
| switchBox 1.23.0 | Bahman Afsari , Luigi Marchionni | OK | OK | WARNINGS | OK | |
| switchde 1.13.0 | Kieran Campbell | OK | OK | OK | OK | |
| synapter 2.11.0 | Laurent Gatto | OK | OK | OK | OK | |
| synergyfinder 2.1.4 | Shuyu Zheng | OK | OK | OK | OK |  |
| synlet 1.17.0 | Chunxuan Shao | OK | OK | OK | OK | |
| SynMut 1.3.0 | Haogao Gu | OK | OK | OK | OK |  |
| systemPipeR 1.21.0 | Thomas Girke | OK | OK | OK | OK | |
|
| |
| target 1.1.0 | Mahmoud Ahmed | OK | OK | OK | OK |  |
| TargetScore 1.25.0 | Yue Li | OK | OK | OK | OK | |
| TargetSearch 1.43.1 | Alvaro Cuadros-Inostroza | OK | OK | OK | OK | |
| TarSeqQC 1.17.1 | Gabriela Merino | OK | OK | ERROR | OK | |
| TCC 1.27.1 | Jianqiang Sun | OK | OK | OK | OK | |
| TCGAbiolinks 2.15.3 | Antonio Colaprico | OK | OK | OK | OK | |
| TCGAbiolinksGUI 1.13.0 | Tiago C. Silva | OK | OK | OK | OK | |
| TCGAutils 1.7.7 | Marcel Ramos | OK | OK | OK | OK |  |
| TCseq 1.11.0 | Mengjun Wu | OK | OK | OK | OK | |
| TDARACNE 1.37.0 | Zoppoli Pietro | OK | OK | OK | OK | |
| tenXplore 1.9.0 | VJ Carey | OK | OK | OK | OK |  |
| TEQC 4.9.0 | Manuela Hummel | OK | ERROR | skipped | skipped | |
| ternarynet 1.31.0 | Matthew N. McCall | OK | OK | OK | OK | |
| TFARM 1.9.0 | Liuba Nausicaa Martino | OK | OK | OK | OK |  |
| TFBSTools 1.25.1 | Ge Tan | OK | OK | OK | OK | |
| TFEA.ChIP 1.7.0 | Laura Puente Santamaría | OK | OK | OK | OK | |
| TFHAZ 1.9.0 | Alberto Marchesi | OK | OK | OK | OK | |
| TFutils 1.7.0 | Shweta Gopaulakrishnan | OK | OK | WARNINGS | OK |  |
| tigre 1.41.0 | Antti Honkela | OK | OK | OK | OK | |
| tilingArray 1.65.0 | Zhenyu Xu | OK | OK | OK | OK | |
| timecourse 1.59.0 | Yu Chuan Tai | OK | OK | OK | OK | |
| timescape 1.11.0 | Maia Smith | OK | OK | WARNINGS | OK | |
| TimeSeriesExperiment 1.5.0 | Lan Huong Nguyen | OK | OK | OK | OK |  |
| TIN 1.19.0 | Bjarne Johannessen | OK | OK | OK | OK | |
| TissueEnrich 1.7.0 | Ashish Jain | OK | OK | OK | OK | |
| TitanCNA 1.25.0 | Gavin Ha | OK | OK | WARNINGS | OK | |
| tkWidgets 1.65.0 | J. Zhang | OK | OK | OK | OK | |
| TMixClust 1.9.0 | Monica Golumbeanu | OK | OK | OK | OK | |
| TNBC.CMS 1.3.0 | Doyeong Yu | OK | OK | OK | OK |  |
| TnT 1.9.0 | Jialin Ma | OK | OK | ERROR | OK | |
| TOAST 1.1.0 | Ziyi Li | OK | OK | OK | OK |  |
| tofsims 1.15.0 | Lorenz Gerber | OK | OK | OK | OK | |
| ToPASeq 1.21.1 | Ivana Ihnatova | OK | ERROR | skipped | skipped | |
| topconfects 1.3.1 | Paul Harrison | OK | OK | OK | OK |  |
| topdownr 1.9.4 | Sebastian Gibb | OK | OK | OK | OK | |
| topGO 2.39.1 | Adrian Alexa | OK | OK | OK | OK | |
| TPP 3.15.0 | Dorothee Childs | OK | OK | OK | OK | |
| TPP2D 1.3.0 | Nils Kurzawa | OK | OK | OK | OK |  |
| tracktables 1.21.0 | Tom Carroll | OK | OK | WARNINGS | OK | |
| trackViewer 1.23.2 | Jianhong Ou | OK | OK | OK | OK | |
| tradeSeq 1.1.0 | Hector Roux de Bezieux | OK | OK | OK | OK |  |
| transcriptogramer 1.9.2 | Diego Morais | OK | OK | OK | OK | |
| transcriptR 1.15.0 | Armen R. Karapetyan | OK | ERROR | skipped | skipped | |
| transite 1.5.0 | Konstantin Krismer | OK | OK | OK | OK | |
| tRanslatome 1.25.0 | Toma Tebaldi , Erik Dassi | OK | OK | OK | OK | |
| TransView 1.31.0 | Julius Muller | OK | OK | OK | OK | |
| traseR 1.17.0 | li chen | OK | OK | OK | OK | |
| treeio 1.11.2 | Guangchuang Yu | OK | OK | OK | OK | |
| TreeSummarizedExperiment 1.3.0 | Ruizhu Huang | OK | OK | WARNINGS | OK | |
| trena 1.9.0 | Paul Shannon | OK | OK | WARNINGS | OK | |
| Trendy 1.9.2 | Rhonda Bacher | OK | OK | OK | OK | |
triform 1.29.1 | Thomas Carroll | OK | ERROR | skipped | skipped | |
| trigger 1.33.0 | John D. Storey | OK | OK | OK | OK | |
| trio 3.25.1 | Holger Schwender | OK | OK | OK | OK | |
| triplex 1.27.0 | Jiri Hon | OK | OK | OK | OK | |
| tRNA 1.5.1 | Felix GM Ernst | OK | OK | OK | OK | |
| tRNAdbImport 1.5.1 | Felix G.M. Ernst | OK | OK | OK | OK | |
| tRNAscanImport 1.7.1 | Felix G.M. Ernst | OK | OK | OK | OK | |
| TRONCO 2.19.0 | Luca De Sano | OK | OK | OK | OK | |
| TSCAN 1.25.0 | Zhicheng Ji | OK | OK | OK | OK | |
| tspair 1.45.0 | Jeffrey T. Leek | OK | OK | OK | OK | |
| TSRchitect 1.13.3 | R. Taylor Raborn | OK | OK | WARNINGS | OK | |
| TTMap 1.9.0 | Rachel Jeitziner | OK | OK | WARNINGS | OK | |
| TurboNorm 1.35.0 | Maarten van Iterson | OK | OK | OK | OK | |
| TVTB 1.13.0 | Kevin Rue-Albrecht | OK | OK | OK | OK | |
| tweeDEseq 1.33.0 | Juan R Gonzalez | OK | OK | OK | OK | |
| twilight 1.63.0 | Stefanie Scheid | OK | OK | WARNINGS | OK | |
| twoddpcr 1.11.0 | Anthony Chiu | OK | OK | OK | OK | |
| tximeta 1.5.16 | Michael Love | OK | OK | OK | OK | |
| tximport 1.15.6 | Michael Love | OK | OK | OK | OK | |
| TxRegInfra 1.7.0 | VJ Carey | OK | TIMEOUT | skipped | skipped | |
| TypeInfo 1.53.0 | Duncan Temple Lang | OK | OK | OK | OK | |
|
| |
| Ularcirc 1.5.0 | David Humphreys | OK | OK | OK | OK | |
| UNDO 1.29.0 | Niya Wang | OK | OK | OK | OK | |
| unifiedWMWqPCR 1.23.0 | Joris Meys | OK | OK | OK | OK | |
| UniProt.ws 2.27.0 | Bioconductor Package Maintainer | OK | OK | TIMEOUT | OK | |
| Uniquorn 2.7.0 | 'Raik Otto' | OK | OK | OK | OK | |
| universalmotif 1.5.13 | Benjamin Jean-Marie Tremblay | OK | OK | OK | OK | |
| uSORT 1.13.0 | Hao Chen | OK | OK | WARNINGS | OK | |
|
| |
| VanillaICE 1.49.0 | Robert Scharpf | OK | ERROR | skipped | skipped | |
| variancePartition 1.17.1 | Gabriel E. Hoffman | OK | OK | OK | OK | |
| VariantAnnotation 1.33.0 | Valerie Obenchain | OK | OK | OK | OK | |
| VariantExperiment 1.1.0 | Qian Liu | OK | ERROR | skipped | skipped | |
| VariantFiltering 1.23.0 | Robert Castelo | OK | OK | OK | OK | |
| VariantTools 1.29.0 | Michael Lawrence | OK | OK | WARNINGS | OK | |
| vbmp 1.55.0 | Nicola Lama | OK | OK | OK | OK | |
| VCFArray 1.3.0 | Qian Liu | OK | OK | OK | OK | |
| Vega 1.35.0 | Sandro Morganella | OK | OK | WARNINGS | OK | |
| VegaMC 3.25.0 | Sandro Morganella | OK | OK | WARNINGS | OK | |
| VennDetail 1.3.0 | Kai Guo | OK | OK | OK | OK | |
| vidger 1.7.0 | Brandon Monier | OK | OK | OK | OK | |
| viper 1.21.0 | Mariano J Alvarez | OK | OK | WARNINGS | OK | |
| ViSEAGO 1.1.3 | Aurelien Brionne | OK | OK | WARNINGS | OK | |
| vsn 3.55.0 | Wolfgang Huber | OK | OK | OK | OK | |
| vtpnet 0.27.0 | VJ Carey | OK | OK | OK | OK | |
| vulcan 1.9.0 | Federico M. Giorgi | OK | OK | OK | OK | |
|
| |
| waddR 1.1.1 | Julian Flesch | OK | OK | OK | OK | |
| wateRmelon 1.31.0 | Leo | OK | OK | OK | OK | |
| wavClusteR 2.21.0 | Federico Comoglio | OK | OK | OK | OK | |
waveTiling 1.29.1 | Kristof De Beuf | ERROR | ERROR | skipped | skipped | |
| weaver 1.53.0 | Seth Falcon | OK | OK | WARNINGS | OK | |
| webbioc 1.59.0 | Colin A. Smith | OK | OK | WARNINGS | OK | |
| widgetTools 1.65.0 | Jianhua Zhang | OK | OK | OK | OK | |
| wiggleplotr 1.11.1 | Kaur Alasoo | OK | OK | OK | OK | |
| Wrench 1.5.0 | Hector Corrada Bravo | OK | OK | OK | OK | |
|
| |
| XBSeq 1.19.0 | Yuanhang Liu | OK | OK | OK | OK | |
| XCIR 1.1.0 | Renan Sauteraud | OK | OK | OK | OK | |
| xcms 3.9.2 | Steffen Neumann | OK | OK | OK | OK | |
| XDE 2.33.0 | Robert Scharpf | OK | OK | OK | OK | |
| Xeva 1.3.0 | Benjamin Haibe-Kains | OK | OK | OK | OK | |
| XINA 1.5.0 | Lang Ho Lee and Sasha A. Singh | OK | ERROR | skipped | skipped | |
| xmapbridge 1.45.0 | Chris Wirth | OK | OK | OK | OK | |
| xps 1.47.0 | Christian Stratowa | OK | OK | OK | OK | |
| XVector 0.27.0 | Hervé Pagès | OK | OK | WARNINGS | OK | |
|
| |
| yamss 1.13.0 | Leslie Myint | OK | OK | OK | OK | |
| YAPSA 1.13.3 | Daniel Huebschmann | OK | OK | OK | OK | |
| yaqcaffy 1.47.0 | Laurent Gatto | OK | OK | OK | OK | |
| yarn 1.13.0 | Joseph N Paulson | OK | OK | OK | OK | |
|
| |
| zFPKM 1.9.0 | Ron Ammar | OK | OK | OK | OK | |
| zinbwave 1.9.1 | Davide Risso | OK | OK | OK | OK | |
| zlibbioc 1.33.0 | Bioconductor Package Maintainer | OK | OK | OK | OK | |