| Back to Multiple platform build/check report for BioC 3.11 |
|
This page was generated on 2020-01-16 13:35:44 -0500 (Thu, 16 Jan 2020).
| Package 1517/1818 | Hostname | OS / Arch | INSTALL | BUILD | CHECK | BUILD BIN | ||||||
| SCAN.UPC 2.29.0 Stephen R. Piccolo
| malbec2 | Linux (Ubuntu 18.04.3 LTS) / x86_64 | OK | OK | OK | |||||||
| tokay2 | Windows Server 2012 R2 Standard / x64 | OK | OK | OK | OK | |||||||
| celaya2 | OS X 10.11.6 El Capitan / x86_64 | OK | OK | OK | [ OK ] |
| Package: SCAN.UPC |
| Version: 2.29.0 |
| Command: rm -rf SCAN.UPC.buildbin-libdir && mkdir SCAN.UPC.buildbin-libdir && /Users/biocbuild/BBS/utils/build-universal.sh SCAN.UPC_2.29.0.tar.gz /Library/Frameworks/R.framework/Versions/Current/Resources/bin/R SCAN.UPC.buildbin-libdir |
| StartedAt: 2020-01-16 11:45:32 -0500 (Thu, 16 Jan 2020) |
| EndedAt: 2020-01-16 11:46:32 -0500 (Thu, 16 Jan 2020) |
| EllapsedTime: 60.1 seconds |
| RetCode: 0 |
| Status: OK |
| PackageFile: SCAN.UPC_2.29.0.tgz |
| PackageFileSize: 443.6 KiB |
##############################################################################
##############################################################################
###
### Running command:
###
### rm -rf SCAN.UPC.buildbin-libdir && mkdir SCAN.UPC.buildbin-libdir && /Users/biocbuild/BBS/utils/build-universal.sh SCAN.UPC_2.29.0.tar.gz /Library/Frameworks/R.framework/Versions/Current/Resources/bin/R SCAN.UPC.buildbin-libdir
###
##############################################################################
##############################################################################
>>>>>>>
>>>>>>> INSTALLATION WITH 'R CMD INSTALL --preclean --no-multiarch --library=SCAN.UPC.buildbin-libdir SCAN.UPC_2.29.0.tar.gz'
>>>>>>>
* installing *source* package ‘SCAN.UPC’ ...
** using staged installation
** R
** inst
** byte-compile and prepare package for lazy loading
No methods found in package ‘RSQLite’ for request: ‘dbListFields’ when loading ‘oligo’
Parallel computing support for 'oligo/crlmm': Disabled
- Load 'ff'
- Load and register a 'foreach' adaptor
Example - Using 'multicore' for 2 cores:
library(doMC)
registerDoMC(2)
================================================================================
** help
*** installing help indices
** building package indices
** installing vignettes
** testing if installed package can be loaded from temporary location
No methods found in package ‘RSQLite’ for request: ‘dbListFields’ when loading ‘oligo’
Parallel computing support for 'oligo/crlmm': Disabled
- Load 'ff'
- Load and register a 'foreach' adaptor
Example - Using 'multicore' for 2 cores:
library(doMC)
registerDoMC(2)
================================================================================
** testing if installed package can be loaded from final location
No methods found in package ‘RSQLite’ for request: ‘dbListFields’ when loading ‘oligo’
Parallel computing support for 'oligo/crlmm': Disabled
- Load 'ff'
- Load and register a 'foreach' adaptor
Example - Using 'multicore' for 2 cores:
library(doMC)
registerDoMC(2)
================================================================================
** testing if installed package keeps a record of temporary installation path
* DONE (SCAN.UPC)