| Back to Multiple platform build/check report for BioC 3.11 | 
 | 
This page was generated on 2020-01-16 13:50:29 -0500 (Thu, 16 Jan 2020).
| Package 473/1818 | Hostname | OS / Arch | INSTALL | BUILD | CHECK | BUILD BIN | ||||||
| dmrseq 1.7.3 Keegan Korthauer 
 | malbec2 | Linux (Ubuntu 18.04.3 LTS) / x86_64 | OK | OK | WARNINGS |  | ||||||
| tokay2 | Windows Server 2012 R2 Standard / x64 | OK | OK | WARNINGS | OK |  | ||||||
| celaya2 | OS X 10.11.6 El Capitan / x86_64 | OK | OK | WARNINGS | [ OK ] |  | 
| Package: dmrseq | 
| Version: 1.7.3 | 
| Command: rm -rf dmrseq.buildbin-libdir && mkdir dmrseq.buildbin-libdir && /Users/biocbuild/BBS/utils/build-universal.sh dmrseq_1.7.3.tar.gz /Library/Frameworks/R.framework/Versions/Current/Resources/bin/R dmrseq.buildbin-libdir | 
| StartedAt: 2020-01-16 10:48:33 -0500 (Thu, 16 Jan 2020) | 
| EndedAt: 2020-01-16 10:50:04 -0500 (Thu, 16 Jan 2020) | 
| EllapsedTime: 90.4 seconds | 
| RetCode: 0 | 
| Status: OK | 
| PackageFile: dmrseq_1.7.3.tgz | 
| PackageFileSize: 8.213 MiB | 
############################################################################## ############################################################################## ### ### Running command: ### ### rm -rf dmrseq.buildbin-libdir && mkdir dmrseq.buildbin-libdir && /Users/biocbuild/BBS/utils/build-universal.sh dmrseq_1.7.3.tar.gz /Library/Frameworks/R.framework/Versions/Current/Resources/bin/R dmrseq.buildbin-libdir ### ############################################################################## ############################################################################## >>>>>>> >>>>>>> INSTALLATION WITH 'R CMD INSTALL --preclean --no-multiarch --library=dmrseq.buildbin-libdir dmrseq_1.7.3.tar.gz' >>>>>>> * installing *source* package ‘dmrseq’ ... ** using staged installation ** R ** data *** moving datasets to lazyload DB ** inst ** byte-compile and prepare package for lazy loading ** help *** installing help indices ** building package indices ** installing vignettes ** testing if installed package can be loaded from temporary location ** testing if installed package can be loaded from final location ** testing if installed package keeps a record of temporary installation path * DONE (dmrseq)