| Back to Multiple platform build/check report for BioC 3.11 |
|
This page was generated on 2020-01-16 13:33:40 -0500 (Thu, 16 Jan 2020).
| Package 1396/1818 | Hostname | OS / Arch | INSTALL | BUILD | CHECK | BUILD BIN | ||||||
| ReadqPCR 1.33.0 James Perkins
| malbec2 | Linux (Ubuntu 18.04.3 LTS) / x86_64 | OK | OK | OK | |||||||
| tokay2 | Windows Server 2012 R2 Standard / x64 | OK | OK | WARNINGS | OK | |||||||
| celaya2 | OS X 10.11.6 El Capitan / x86_64 | OK | [ OK ] | OK | OK |
| Package: ReadqPCR |
| Version: 1.33.0 |
| Command: /Library/Frameworks/R.framework/Versions/Current/Resources/bin/R CMD build --keep-empty-dirs --no-resave-data ReadqPCR |
| StartedAt: 2020-01-15 20:34:53 -0500 (Wed, 15 Jan 2020) |
| EndedAt: 2020-01-15 20:35:15 -0500 (Wed, 15 Jan 2020) |
| EllapsedTime: 22.5 seconds |
| RetCode: 0 |
| Status: OK |
| PackageFile: ReadqPCR_1.33.0.tar.gz |
| PackageFileSize: 448.7 KiB |
##############################################################################
##############################################################################
###
### Running command:
###
### /Library/Frameworks/R.framework/Versions/Current/Resources/bin/R CMD build --keep-empty-dirs --no-resave-data ReadqPCR
###
##############################################################################
##############################################################################
* checking for file ‘ReadqPCR/DESCRIPTION’ ... OK
* preparing ‘ReadqPCR’:
* checking DESCRIPTION meta-information ... OK
* installing the package to build vignettes
* creating vignettes ... OK
Warning: ‘inst/doc’ file
‘ReadqPCR.pdf’
ignored as vignettes have been rebuilt.
Run R CMD build with --no-build-vignettes to prevent rebuilding.
* checking for LF line-endings in source and make files and shell scripts
* checking for empty or unneeded directories
* building ‘ReadqPCR_1.33.0.tar.gz’