| Back to Multiple platform build/check report for BioC 3.11 |
|
This page was generated on 2020-01-16 13:37:51 -0500 (Thu, 16 Jan 2020).
| Package 253/1818 | Hostname | OS / Arch | INSTALL | BUILD | CHECK | BUILD BIN | ||||||
| CexoR 1.25.0 Pedro Madrigal
| malbec2 | Linux (Ubuntu 18.04.3 LTS) / x86_64 | OK | OK | OK | |||||||
| tokay2 | Windows Server 2012 R2 Standard / x64 | OK | OK | OK | OK | |||||||
| celaya2 | OS X 10.11.6 El Capitan / x86_64 | OK | [ OK ] | OK | OK |
| Package: CexoR |
| Version: 1.25.0 |
| Command: /Library/Frameworks/R.framework/Versions/Current/Resources/bin/R CMD build --keep-empty-dirs --no-resave-data CexoR |
| StartedAt: 2020-01-15 21:14:39 -0500 (Wed, 15 Jan 2020) |
| EndedAt: 2020-01-15 21:16:15 -0500 (Wed, 15 Jan 2020) |
| EllapsedTime: 96.1 seconds |
| RetCode: 0 |
| Status: OK |
| PackageFile: CexoR_1.25.0.tar.gz |
| PackageFileSize: 1.649 MiB |
############################################################################## ############################################################################## ### ### Running command: ### ### /Library/Frameworks/R.framework/Versions/Current/Resources/bin/R CMD build --keep-empty-dirs --no-resave-data CexoR ### ############################################################################## ############################################################################## * checking for file ‘CexoR/DESCRIPTION’ ... OK * preparing ‘CexoR’: * checking DESCRIPTION meta-information ... OK * installing the package to build vignettes * creating vignettes ... OK * checking for LF line-endings in source and make files and shell scripts * checking for empty or unneeded directories * building ‘CexoR_1.25.0.tar.gz’