| Back to Multiple platform build/check report for BioC 3.11 |
|
This page was generated on 2020-01-16 13:31:17 -0500 (Thu, 16 Jan 2020).
| Package 721/1818 | Hostname | OS / Arch | INSTALL | BUILD | CHECK | BUILD BIN | ||||||
| goProfiles 1.49.0 Alex Sanchez
| malbec2 | Linux (Ubuntu 18.04.3 LTS) / x86_64 | OK | OK | OK | |||||||
| tokay2 | Windows Server 2012 R2 Standard / x64 | OK | OK | OK | OK | |||||||
| celaya2 | OS X 10.11.6 El Capitan / x86_64 | OK | [ OK ] | OK | OK |
| Package: goProfiles |
| Version: 1.49.0 |
| Command: /Library/Frameworks/R.framework/Versions/Current/Resources/bin/R CMD build --keep-empty-dirs --no-resave-data goProfiles |
| StartedAt: 2020-01-15 20:07:26 -0500 (Wed, 15 Jan 2020) |
| EndedAt: 2020-01-15 20:08:35 -0500 (Wed, 15 Jan 2020) |
| EllapsedTime: 69.0 seconds |
| RetCode: 0 |
| Status: OK |
| PackageFile: goProfiles_1.49.0.tar.gz |
| PackageFileSize: 283.4 KiB |
##############################################################################
##############################################################################
###
### Running command:
###
### /Library/Frameworks/R.framework/Versions/Current/Resources/bin/R CMD build --keep-empty-dirs --no-resave-data goProfiles
###
##############################################################################
##############################################################################
* checking for file ‘goProfiles/DESCRIPTION’ ... OK
* preparing ‘goProfiles’:
* checking DESCRIPTION meta-information ... OK
* installing the package to build vignettes
* creating vignettes ... OK
Warning: ‘inst/doc’ files
‘goProfiles.Rnw’, ‘goProfiles.pdf’, ‘goProfiles.R’
ignored as vignettes have been rebuilt.
Run R CMD build with --no-build-vignettes to prevent rebuilding.
* checking for LF line-endings in source and make files and shell scripts
* checking for empty or unneeded directories
* looking to see if a ‘data/datalist’ file should be added
* building ‘goProfiles_1.49.0.tar.gz’