| Back to Multiple platform build/check report for BioC 3.11 |
|
This page was generated on 2020-01-16 13:43:53 -0500 (Thu, 16 Jan 2020).
| Package 174/1818 | Hostname | OS / Arch | INSTALL | BUILD | CHECK | BUILD BIN | ||||||
| BioQC 1.15.4 Jitao David Zhang
| malbec2 | Linux (Ubuntu 18.04.3 LTS) / x86_64 | OK | OK | OK | |||||||
| tokay2 | Windows Server 2012 R2 Standard / x64 | OK | OK | OK | OK | |||||||
| celaya2 | OS X 10.11.6 El Capitan / x86_64 | OK | [ OK ] | OK | OK |
| Package: BioQC |
| Version: 1.15.4 |
| Command: /Library/Frameworks/R.framework/Versions/Current/Resources/bin/R CMD build --keep-empty-dirs --no-resave-data BioQC |
| StartedAt: 2020-01-15 22:23:21 -0500 (Wed, 15 Jan 2020) |
| EndedAt: 2020-01-15 22:24:15 -0500 (Wed, 15 Jan 2020) |
| EllapsedTime: 54.1 seconds |
| RetCode: 0 |
| Status: OK |
| PackageFile: BioQC_1.15.4.tar.gz |
| PackageFileSize: 609.7 KiB |
############################################################################## ############################################################################## ### ### Running command: ### ### /Library/Frameworks/R.framework/Versions/Current/Resources/bin/R CMD build --keep-empty-dirs --no-resave-data BioQC ### ############################################################################## ############################################################################## * checking for file ‘BioQC/DESCRIPTION’ ... OK * preparing ‘BioQC’: * checking DESCRIPTION meta-information ... OK * cleaning src * installing the package to build vignettes * creating vignettes ... OK * cleaning src * checking for LF line-endings in source and make files and shell scripts * checking for empty or unneeded directories * building ‘BioQC_1.15.4.tar.gz’