| Back to Multiple platform build/check report for BioC 3.11 |
|
This page was generated on 2020-01-16 13:30:36 -0500 (Thu, 16 Jan 2020).
| Package 1240/1818 | Hostname | OS / Arch | INSTALL | BUILD | CHECK | BUILD BIN | ||||||
| pdInfoBuilder 1.51.0 Benilton Carvalho
| malbec2 | Linux (Ubuntu 18.04.3 LTS) / x86_64 | OK | OK | OK | |||||||
| tokay2 | Windows Server 2012 R2 Standard / x64 | OK | OK | OK | OK | |||||||
| celaya2 | OS X 10.11.6 El Capitan / x86_64 | OK | [ OK ] | OK | OK |
| Package: pdInfoBuilder |
| Version: 1.51.0 |
| Command: /Library/Frameworks/R.framework/Versions/Current/Resources/bin/R CMD build --keep-empty-dirs --no-resave-data pdInfoBuilder |
| StartedAt: 2020-01-15 20:00:14 -0500 (Wed, 15 Jan 2020) |
| EndedAt: 2020-01-15 20:01:12 -0500 (Wed, 15 Jan 2020) |
| EllapsedTime: 58.1 seconds |
| RetCode: 0 |
| Status: OK |
| PackageFile: pdInfoBuilder_1.51.0.tar.gz |
| PackageFileSize: 347.5 KiB |
##############################################################################
##############################################################################
###
### Running command:
###
### /Library/Frameworks/R.framework/Versions/Current/Resources/bin/R CMD build --keep-empty-dirs --no-resave-data pdInfoBuilder
###
##############################################################################
##############################################################################
* checking for file ‘pdInfoBuilder/DESCRIPTION’ ... OK
* preparing ‘pdInfoBuilder’:
* checking DESCRIPTION meta-information ... OK
* cleaning src
* installing the package to build vignettes
* creating vignettes ... OK
Warning: ‘inst/doc’ files
‘BuildingPDInfoPkgs.Rnw’, ‘howto-AffymetrixMapping.Rnw’, ‘howto-AffymetrixMapping.pdf’
ignored as vignettes have been rebuilt.
Run R CMD build with --no-build-vignettes to prevent rebuilding.
* cleaning src
* checking for LF line-endings in source and make files and shell scripts
* checking for empty or unneeded directories
* building ‘pdInfoBuilder_1.51.0.tar.gz’