| Back to Multiple platform build/check report for BioC 3.11 |
|
This page was generated on 2020-01-16 13:42:23 -0500 (Thu, 16 Jan 2020).
| Package 597/1818 | Hostname | OS / Arch | INSTALL | BUILD | CHECK | BUILD BIN | ||||||
| FlowRepositoryR 1.19.0 Josef Spidlen
| malbec2 | Linux (Ubuntu 18.04.3 LTS) / x86_64 | OK | OK | OK | |||||||
| tokay2 | Windows Server 2012 R2 Standard / x64 | OK | OK | OK | OK | |||||||
| celaya2 | OS X 10.11.6 El Capitan / x86_64 | OK | OK | [ OK ] | OK |
| Package: FlowRepositoryR |
| Version: 1.19.0 |
| Command: /Library/Frameworks/R.framework/Versions/Current/Resources/bin/R CMD check --install=check:FlowRepositoryR.install-out.txt --library=/Library/Frameworks/R.framework/Versions/Current/Resources/library --no-vignettes --timings FlowRepositoryR_1.19.0.tar.gz |
| StartedAt: 2020-01-16 04:32:01 -0500 (Thu, 16 Jan 2020) |
| EndedAt: 2020-01-16 04:33:05 -0500 (Thu, 16 Jan 2020) |
| EllapsedTime: 64.6 seconds |
| RetCode: 0 |
| Status: OK |
| CheckDir: FlowRepositoryR.Rcheck |
| Warnings: 0 |
##############################################################################
##############################################################################
###
### Running command:
###
### /Library/Frameworks/R.framework/Versions/Current/Resources/bin/R CMD check --install=check:FlowRepositoryR.install-out.txt --library=/Library/Frameworks/R.framework/Versions/Current/Resources/library --no-vignettes --timings FlowRepositoryR_1.19.0.tar.gz
###
##############################################################################
##############################################################################
* using log directory ‘/Users/biocbuild/bbs-3.11-bioc/meat/FlowRepositoryR.Rcheck’
* using R Under development (unstable) (2019-12-14 r77572)
* using platform: x86_64-apple-darwin15.6.0 (64-bit)
* using session charset: UTF-8
* using option ‘--no-vignettes’
* checking for file ‘FlowRepositoryR/DESCRIPTION’ ... OK
* checking extension type ... Package
* this is package ‘FlowRepositoryR’ version ‘1.19.0’
* checking package namespace information ... OK
* checking package dependencies ... OK
* checking if this is a source package ... OK
* checking if there is a namespace ... OK
* checking for hidden files and directories ... OK
* checking for portable file names ... OK
* checking for sufficient/correct file permissions ... OK
* checking whether package ‘FlowRepositoryR’ can be installed ... OK
* checking installed package size ... OK
* checking package directory ... OK
* checking ‘build’ directory ... OK
* checking DESCRIPTION meta-information ... OK
* checking top-level files ... OK
* checking for left-over files ... OK
* checking index information ... OK
* checking package subdirectories ... OK
* checking R files for non-ASCII characters ... OK
* checking R files for syntax errors ... OK
* checking whether the package can be loaded ... OK
* checking whether the package can be loaded with stated dependencies ... OK
* checking whether the package can be unloaded cleanly ... OK
* checking whether the namespace can be loaded with stated dependencies ... OK
* checking whether the namespace can be unloaded cleanly ... OK
* checking dependencies in R code ... OK
* checking S3 generic/method consistency ... OK
* checking replacement functions ... OK
* checking foreign function calls ... OK
* checking R code for possible problems ... NOTE
attachmentProxy: no visible global function definition for ‘new’
fcsProxy: no visible global function definition for ‘new’
flowRep.search: no visible global function definition for ‘is’
flowRepData: no visible global function definition for ‘new’
flowRepOrganization: no visible global function definition for ‘new’
attachments<-,flowRepData: no visible global function definition for
‘is’
fcs.files<-,flowRepData: no visible global function definition for ‘is’
impc.experiments<-,flowRepData: no visible global function definition
for ‘is’
Undefined global functions or variables:
is new
Consider adding
importFrom("methods", "is", "new")
to your NAMESPACE file (and ensure that your DESCRIPTION Imports field
contains 'methods').
* checking Rd files ... OK
* checking Rd metadata ... OK
* checking Rd cross-references ... OK
* checking for missing documentation entries ... OK
* checking for code/documentation mismatches ... OK
* checking Rd \usage sections ... OK
* checking Rd contents ... OK
* checking for unstated dependencies in examples ... OK
* checking sizes of PDF files under ‘inst/doc’ ... OK
* checking files in ‘vignettes’ ... OK
* checking examples ... OK
* checking for unstated dependencies in ‘tests’ ... OK
* checking tests ...
Running ‘runTests.R’
OK
* checking for unstated dependencies in vignettes ... OK
* checking package vignettes in ‘inst/doc’ ... OK
* checking running R code from vignettes ... SKIPPED
* checking re-building of vignette outputs ... SKIPPED
* checking PDF version of manual ... OK
* DONE
Status: 1 NOTE
See
‘/Users/biocbuild/bbs-3.11-bioc/meat/FlowRepositoryR.Rcheck/00check.log’
for details.
FlowRepositoryR.Rcheck/00install.out
############################################################################## ############################################################################## ### ### Running command: ### ### /Library/Frameworks/R.framework/Versions/Current/Resources/bin/R CMD INSTALL FlowRepositoryR ### ############################################################################## ############################################################################## * installing to library ‘/Library/Frameworks/R.framework/Versions/4.0/Resources/library’ * installing *source* package ‘FlowRepositoryR’ ... ** using staged installation ** R ** inst ** byte-compile and prepare package for lazy loading ** help *** installing help indices ** building package indices ** installing vignettes ** testing if installed package can be loaded from temporary location ** testing if installed package can be loaded from final location ** testing if installed package keeps a record of temporary installation path * DONE (FlowRepositoryR)
FlowRepositoryR.Rcheck/tests/runTests.Rout
R Under development (unstable) (2019-12-14 r77572) -- "Unsuffered Consequences"
Copyright (C) 2019 The R Foundation for Statistical Computing
Platform: x86_64-apple-darwin15.6.0 (64-bit)
R is free software and comes with ABSOLUTELY NO WARRANTY.
You are welcome to redistribute it under certain conditions.
Type 'license()' or 'licence()' for distribution details.
R is a collaborative project with many contributors.
Type 'contributors()' for more information and
'citation()' on how to cite R or R packages in publications.
Type 'demo()' for some demos, 'help()' for on-line help, or
'help.start()' for an HTML browser interface to help.
Type 'q()' to quit R.
> BiocGenerics:::testPackage("FlowRepositoryR")
File about.txt downloaded.
File GvHD2.fcs downloaded.
Downloading to /Users/biocbuild/bbs-3.11-bioc/meat/FlowRepositoryR.Rcheck/tests/FR-FCM-ZZJ7
File GvHD2.fcs is downloaded already.
File GvHD8.fcs downloaded.
File about.txt is downloaded already.
File ExampleGate.png downloaded.
Download finished.
Loading required package: bitops
RUNIT TEST PROTOCOL -- Thu Jan 16 04:32:53 2020
***********************************************
Number of test functions: 16
Number of errors: 0
Number of failures: 0
1 Test Suite :
FlowRepositoryR RUnit Tests - 16 test functions, 0 errors, 0 failures
Number of test functions: 16
Number of errors: 0
Number of failures: 0
>
> proc.time()
user system elapsed
1.913 0.327 4.976
FlowRepositoryR.Rcheck/FlowRepositoryR-Ex.timings
| name | user | system | elapsed | |
| attachmentProxy-class | 0.179 | 0.038 | 0.515 | |
| download-methods | 0.156 | 0.020 | 1.370 | |
| fcsProxy-class | 0.049 | 0.003 | 0.242 | |
| fileProxy-class | 0.038 | 0.004 | 0.224 | |
| flowRep.get | 0.035 | 0.004 | 0.219 | |
| flowRep.ls | 0.036 | 0.012 | 0.363 | |
| flowRep.search | 0.013 | 0.004 | 0.374 | |
| flowRep.submitGeneStatus | 0.002 | 0.001 | 0.003 | |
| flowRep.submitImpcResults | 0.003 | 0.001 | 0.003 | |
| flowRepData-class | 0.037 | 0.004 | 0.229 | |
| flowRepOrganization-class | 0.029 | 0.003 | 0.212 | |
| forgetFlowRepositoryCredentials | 0.001 | 0.001 | 0.001 | |
| getFlowRepositoryURL | 0.001 | 0.000 | 0.000 | |
| id-methods | 0.061 | 0.004 | 0.265 | |
| ilarCodeDescription | 0.001 | 0.001 | 0.001 | |
| impcCodeDescription | 0.001 | 0.000 | 0.001 | |
| impcResultsCopy-methods | 0.059 | 0.003 | 0.262 | |
| is.downloaded-methods | 0.063 | 0.011 | 0.267 | |
| listKnownIlarCodes | 0.001 | 0.000 | 0.003 | |
| setFlowRepositoryCredentials | 0.000 | 0.000 | 0.001 | |
| setFlowRepositoryURL | 0.000 | 0.000 | 0.002 | |