| Back to Multiple platform build/check report for BioC 3.11 |
|
This page was generated on 2020-01-16 13:45:55 -0500 (Thu, 16 Jan 2020).
| Package 1686/1818 | Hostname | OS / Arch | INSTALL | BUILD | CHECK | BUILD BIN | ||||||
| SVAPLSseq 1.13.0 Sutirtha Chakraborty
| malbec2 | Linux (Ubuntu 18.04.3 LTS) / x86_64 | OK | OK | OK | |||||||
| tokay2 | Windows Server 2012 R2 Standard / x64 | OK | OK | OK | NA | |||||||
| celaya2 | OS X 10.11.6 El Capitan / x86_64 | OK | [ OK ] | OK | OK |
| Package: SVAPLSseq |
| Version: 1.13.0 |
| Command: /Library/Frameworks/R.framework/Versions/Current/Resources/bin/R CMD build --keep-empty-dirs --no-resave-data SVAPLSseq |
| StartedAt: 2020-01-15 22:58:55 -0500 (Wed, 15 Jan 2020) |
| EndedAt: 2020-01-15 22:59:57 -0500 (Wed, 15 Jan 2020) |
| EllapsedTime: 62.5 seconds |
| RetCode: 0 |
| Status: OK |
| PackageFile: SVAPLSseq_1.13.0.tar.gz |
| PackageFileSize: 215.3 KiB |
############################################################################## ############################################################################## ### ### Running command: ### ### /Library/Frameworks/R.framework/Versions/Current/Resources/bin/R CMD build --keep-empty-dirs --no-resave-data SVAPLSseq ### ############################################################################## ############################################################################## * checking for file ‘SVAPLSseq/DESCRIPTION’ ... OK * preparing ‘SVAPLSseq’: * checking DESCRIPTION meta-information ... OK * installing the package to build vignettes * creating vignettes ... OK * checking for LF line-endings in source and make files and shell scripts * checking for empty or unneeded directories * looking to see if a ‘data/datalist’ file should be added * building ‘SVAPLSseq_1.13.0.tar.gz’