| Back to Multiple platform build/check report for BioC 3.11 |
|
This page was generated on 2020-01-16 13:36:16 -0500 (Thu, 16 Jan 2020).
| Package 299/1818 | Hostname | OS / Arch | INSTALL | BUILD | CHECK | BUILD BIN | ||||||
| clipper 1.27.0 Paolo Martini
| malbec2 | Linux (Ubuntu 18.04.3 LTS) / x86_64 | OK | OK | OK | |||||||
| tokay2 | Windows Server 2012 R2 Standard / x64 | OK | OK | OK | OK | |||||||
| celaya2 | OS X 10.11.6 El Capitan / x86_64 | OK | [ OK ] | OK | OK |
| Package: clipper |
| Version: 1.27.0 |
| Command: /Library/Frameworks/R.framework/Versions/Current/Resources/bin/R CMD build --keep-empty-dirs --no-resave-data clipper |
| StartedAt: 2020-01-15 21:04:40 -0500 (Wed, 15 Jan 2020) |
| EndedAt: 2020-01-15 21:06:20 -0500 (Wed, 15 Jan 2020) |
| EllapsedTime: 99.5 seconds |
| RetCode: 0 |
| Status: OK |
| PackageFile: clipper_1.27.0.tar.gz |
| PackageFileSize: 969.9 KiB |
############################################################################## ############################################################################## ### ### Running command: ### ### /Library/Frameworks/R.framework/Versions/Current/Resources/bin/R CMD build --keep-empty-dirs --no-resave-data clipper ### ############################################################################## ############################################################################## * checking for file ‘clipper/DESCRIPTION’ ... OK * preparing ‘clipper’: * checking DESCRIPTION meta-information ... OK * installing the package to build vignettes * creating vignettes ... OK * checking for LF line-endings in source and make files and shell scripts * checking for empty or unneeded directories * building ‘clipper_1.27.0.tar.gz’