| Back to Multiple platform build/check report for BioC 3.11 |
|
This page was generated on 2020-01-16 13:39:49 -0500 (Thu, 16 Jan 2020).
| Package 1691/1818 | Hostname | OS / Arch | INSTALL | BUILD | CHECK | BUILD BIN | ||||||
| switchBox 1.23.0 Bahman Afsari
| malbec2 | Linux (Ubuntu 18.04.3 LTS) / x86_64 | OK | OK | WARNINGS | |||||||
| tokay2 | Windows Server 2012 R2 Standard / x64 | OK | OK | WARNINGS | NA | |||||||
| celaya2 | OS X 10.11.6 El Capitan / x86_64 | OK | [ OK ] | WARNINGS | OK |
| Package: switchBox |
| Version: 1.23.0 |
| Command: /Library/Frameworks/R.framework/Versions/Current/Resources/bin/R CMD build --keep-empty-dirs --no-resave-data switchBox |
| StartedAt: 2020-01-15 21:40:12 -0500 (Wed, 15 Jan 2020) |
| EndedAt: 2020-01-15 21:40:37 -0500 (Wed, 15 Jan 2020) |
| EllapsedTime: 24.2 seconds |
| RetCode: 0 |
| Status: OK |
| PackageFile: switchBox_1.23.0.tar.gz |
| PackageFileSize: 462.1 KiB |
##############################################################################
##############################################################################
###
### Running command:
###
### /Library/Frameworks/R.framework/Versions/Current/Resources/bin/R CMD build --keep-empty-dirs --no-resave-data switchBox
###
##############################################################################
##############################################################################
* checking for file ‘switchBox/DESCRIPTION’ ... OK
* preparing ‘switchBox’:
* checking DESCRIPTION meta-information ... OK
* cleaning src
* installing the package to build vignettes
* creating vignettes ... OK
Warning: ‘inst/doc’ files
‘switchBox.Rnw’, ‘switchBox.pdf’, ‘switchBox.R’
ignored as vignettes have been rebuilt.
Run R CMD build with --no-build-vignettes to prevent rebuilding.
* cleaning src
* checking for LF line-endings in source and make files and shell scripts
* checking for empty or unneeded directories
* looking to see if a ‘data/datalist’ file should be added
* building ‘switchBox_1.23.0.tar.gz’