| Back to Multiple platform build/check report for BioC 3.11 |
|
This page was generated on 2020-01-16 13:32:13 -0500 (Thu, 16 Jan 2020).
| Package 646/1818 | Hostname | OS / Arch | INSTALL | BUILD | CHECK | BUILD BIN | ||||||
| GeneAnswers 2.29.0 Lei Huang
| malbec2 | Linux (Ubuntu 18.04.3 LTS) / x86_64 | OK | OK | WARNINGS | |||||||
| tokay2 | Windows Server 2012 R2 Standard / x64 | OK | OK | WARNINGS | OK | |||||||
| celaya2 | OS X 10.11.6 El Capitan / x86_64 | OK | OK | WARNINGS | [ OK ] |
| Package: GeneAnswers |
| Version: 2.29.0 |
| Command: rm -rf GeneAnswers.buildbin-libdir && mkdir GeneAnswers.buildbin-libdir && /Users/biocbuild/BBS/utils/build-universal.sh GeneAnswers_2.29.0.tar.gz /Library/Frameworks/R.framework/Versions/Current/Resources/bin/R GeneAnswers.buildbin-libdir |
| StartedAt: 2020-01-16 10:57:50 -0500 (Thu, 16 Jan 2020) |
| EndedAt: 2020-01-16 10:58:31 -0500 (Thu, 16 Jan 2020) |
| EllapsedTime: 40.6 seconds |
| RetCode: 0 |
| Status: OK |
| PackageFile: GeneAnswers_2.29.0.tgz |
| PackageFileSize: 33.26 MiB |
############################################################################## ############################################################################## ### ### Running command: ### ### rm -rf GeneAnswers.buildbin-libdir && mkdir GeneAnswers.buildbin-libdir && /Users/biocbuild/BBS/utils/build-universal.sh GeneAnswers_2.29.0.tar.gz /Library/Frameworks/R.framework/Versions/Current/Resources/bin/R GeneAnswers.buildbin-libdir ### ############################################################################## ############################################################################## >>>>>>> >>>>>>> INSTALLATION WITH 'R CMD INSTALL --preclean --no-multiarch --library=GeneAnswers.buildbin-libdir GeneAnswers_2.29.0.tar.gz' >>>>>>> * installing *source* package ‘GeneAnswers’ ... ** using staged installation ** R ** data ** inst ** byte-compile and prepare package for lazy loading Warning: replacing previous import ‘stats::decompose’ by ‘igraph::decompose’ when loading ‘GeneAnswers’ Warning: replacing previous import ‘stats::spectrum’ by ‘igraph::spectrum’ when loading ‘GeneAnswers’ ** help *** installing help indices ** building package indices ** installing vignettes ** testing if installed package can be loaded from temporary location Warning: replacing previous import ‘stats::decompose’ by ‘igraph::decompose’ when loading ‘GeneAnswers’ Warning: replacing previous import ‘stats::spectrum’ by ‘igraph::spectrum’ when loading ‘GeneAnswers’ ** testing if installed package can be loaded from final location Warning: replacing previous import ‘stats::decompose’ by ‘igraph::decompose’ when loading ‘GeneAnswers’ Warning: replacing previous import ‘stats::spectrum’ by ‘igraph::spectrum’ when loading ‘GeneAnswers’ ** testing if installed package keeps a record of temporary installation path * DONE (GeneAnswers)