| Back to Multiple platform build/check report for BioC 3.11 |
|
This page was generated on 2020-01-16 13:33:42 -0500 (Thu, 16 Jan 2020).
| Package 824/1818 | Hostname | OS / Arch | INSTALL | BUILD | CHECK | BUILD BIN | ||||||
Alex Lisovich
| malbec2 | Linux (Ubuntu 18.04.3 LTS) / x86_64 | ERROR | ERROR | skipped | |||||||
| tokay2 | Windows Server 2012 R2 Standard / x64 | ERROR | ERROR | skipped | skipped | |||||||
| celaya2 | OS X 10.11.6 El Capitan / x86_64 | [ ERROR ] | ERROR | skipped | skipped |
| Package: IdMappingRetrieval |
| Version: 1.35.1 |
| Command: /Library/Frameworks/R.framework/Versions/Current/Resources/bin/R CMD INSTALL IdMappingRetrieval |
| StartedAt: 2020-01-15 18:33:29 -0500 (Wed, 15 Jan 2020) |
| EndedAt: 2020-01-15 18:33:50 -0500 (Wed, 15 Jan 2020) |
| EllapsedTime: 21.3 seconds |
| RetCode: 1 |
| Status: ERROR |
##############################################################################
##############################################################################
###
### Running command:
###
### /Library/Frameworks/R.framework/Versions/Current/Resources/bin/R CMD INSTALL IdMappingRetrieval
###
##############################################################################
##############################################################################
* installing to library ‘/Library/Frameworks/R.framework/Versions/4.0/Resources/library’
* installing *source* package ‘IdMappingRetrieval’ ...
** using staged installation
** R
Error in .install_package_code_files(".", instdir) :
files in 'Collate' field missing from '/Users/biocbuild/bbs-3.11-bioc/meat/IdMappingRetrieval/R':
,
ERROR: unable to collate and parse R files for package ‘IdMappingRetrieval’
* removing ‘/Library/Frameworks/R.framework/Versions/4.0/Resources/library/IdMappingRetrieval’
* restoring previous ‘/Library/Frameworks/R.framework/Versions/4.0/Resources/library/IdMappingRetrieval’