| Back to Multiple platform build/check report for BioC 3.11 |
|
This page was generated on 2020-01-16 13:56:02 -0500 (Thu, 16 Jan 2020).
| Package 193/1818 | Hostname | OS / Arch | INSTALL | BUILD | CHECK | BUILD BIN | ||||||
| brainflowprobes 1.1.0 Amanda Price
| malbec2 | Linux (Ubuntu 18.04.3 LTS) / x86_64 | OK | OK | OK | |||||||
| tokay2 | Windows Server 2012 R2 Standard / x64 | OK | OK | OK | OK | |||||||
| celaya2 | OS X 10.11.6 El Capitan / x86_64 | OK | OK | OK | [ OK ] |
| Package: brainflowprobes |
| Version: 1.1.0 |
| Command: rm -rf brainflowprobes.buildbin-libdir && mkdir brainflowprobes.buildbin-libdir && /Users/biocbuild/BBS/utils/build-universal.sh brainflowprobes_1.1.0.tar.gz /Library/Frameworks/R.framework/Versions/Current/Resources/bin/R brainflowprobes.buildbin-libdir |
| StartedAt: 2020-01-16 10:32:41 -0500 (Thu, 16 Jan 2020) |
| EndedAt: 2020-01-16 10:33:53 -0500 (Thu, 16 Jan 2020) |
| EllapsedTime: 71.8 seconds |
| RetCode: 0 |
| Status: OK |
| PackageFile: brainflowprobes_1.1.0.tgz |
| PackageFileSize: 1.756 MiB |
############################################################################## ############################################################################## ### ### Running command: ### ### rm -rf brainflowprobes.buildbin-libdir && mkdir brainflowprobes.buildbin-libdir && /Users/biocbuild/BBS/utils/build-universal.sh brainflowprobes_1.1.0.tar.gz /Library/Frameworks/R.framework/Versions/Current/Resources/bin/R brainflowprobes.buildbin-libdir ### ############################################################################## ############################################################################## >>>>>>> >>>>>>> INSTALLATION WITH 'R CMD INSTALL --preclean --no-multiarch --library=brainflowprobes.buildbin-libdir brainflowprobes_1.1.0.tar.gz' >>>>>>> * installing *source* package ‘brainflowprobes’ ... ** using staged installation ** R ** data *** moving datasets to lazyload DB ** inst ** byte-compile and prepare package for lazy loading ** help *** installing help indices ** building package indices ** installing vignettes ** testing if installed package can be loaded from temporary location ** testing if installed package can be loaded from final location ** testing if installed package keeps a record of temporary installation path * DONE (brainflowprobes)