| Back to Multiple platform build/check report for BioC 3.11 |
|
This page was generated on 2020-01-16 13:37:46 -0500 (Thu, 16 Jan 2020).
| Package 724/1818 | Hostname | OS / Arch | INSTALL | BUILD | CHECK | BUILD BIN | ||||||
| GOSim 1.25.0 Holger Froehlich
| malbec2 | Linux (Ubuntu 18.04.3 LTS) / x86_64 | OK | OK | OK | |||||||
| tokay2 | Windows Server 2012 R2 Standard / x64 | OK | OK | OK | OK | |||||||
| celaya2 | OS X 10.11.6 El Capitan / x86_64 | OK | OK | OK | [ OK ] |
| Package: GOSim |
| Version: 1.25.0 |
| Command: rm -rf GOSim.buildbin-libdir && mkdir GOSim.buildbin-libdir && /Users/biocbuild/BBS/utils/build-universal.sh GOSim_1.25.0.tar.gz /Library/Frameworks/R.framework/Versions/Current/Resources/bin/R GOSim.buildbin-libdir |
| StartedAt: 2020-01-16 11:02:04 -0500 (Thu, 16 Jan 2020) |
| EndedAt: 2020-01-16 11:02:51 -0500 (Thu, 16 Jan 2020) |
| EllapsedTime: 46.8 seconds |
| RetCode: 0 |
| Status: OK |
| PackageFile: GOSim_1.25.0.tgz |
| PackageFileSize: 517.6 KiB |
##############################################################################
##############################################################################
###
### Running command:
###
### rm -rf GOSim.buildbin-libdir && mkdir GOSim.buildbin-libdir && /Users/biocbuild/BBS/utils/build-universal.sh GOSim_1.25.0.tar.gz /Library/Frameworks/R.framework/Versions/Current/Resources/bin/R GOSim.buildbin-libdir
###
##############################################################################
##############################################################################
>>>>>>>
>>>>>>> INSTALLATION WITH 'R CMD INSTALL --preclean --no-multiarch --library=GOSim.buildbin-libdir GOSim_1.25.0.tar.gz'
>>>>>>>
* installing *source* package ‘GOSim’ ...
** using staged installation
** libs
clang++ -std=gnu++11 -I"/Library/Frameworks/R.framework/Resources/include" -DNDEBUG -I'/Library/Frameworks/R.framework/Versions/4.0/Resources/library/Rcpp/include' -isysroot /Library/Developer/CommandLineTools/SDKs/MacOSX.sdk -I/usr/local/include `/Library/Frameworks/R.framework/Resources/bin/Rscript -e "require(Rcpp); Rcpp:::CxxFlags()"` -fPIC -Wall -g -O2 -c OAWrapper.cpp -o OAWrapper.o
Loading required package: Rcpp
In file included from OAWrapper.cpp:10:
In file included from /Library/Frameworks/R.framework/Versions/4.0/Resources/library/Rcpp/include/Rcpp.h:27:
In file included from /Library/Frameworks/R.framework/Versions/4.0/Resources/library/Rcpp/include/RcppCommon.h:128:
/Library/Frameworks/R.framework/Versions/4.0/Resources/library/Rcpp/include/Rcpp/exceptions.h:109:53: warning: all paths through this function will call itself [-Winfinite-recursion]
inline void warning(const std::string& message) { // #nocov start
^
1 warning generated.
clang -I"/Library/Frameworks/R.framework/Resources/include" -DNDEBUG -I'/Library/Frameworks/R.framework/Versions/4.0/Resources/library/Rcpp/include' -isysroot /Library/Developer/CommandLineTools/SDKs/MacOSX.sdk -I/usr/local/include -fPIC -Wall -g -O2 -c hungarian2.c -o hungarian2.o
Loading required package: Rcpp
clang++ -std=gnu++11 -dynamiclib -Wl,-headerpad_max_install_names -undefined dynamic_lookup -single_module -multiply_defined suppress -L/Library/Frameworks/R.framework/Resources/lib -L/usr/local/lib -o GOSim.so OAWrapper.o hungarian2.o -F/Library/Frameworks/R.framework/.. -framework R -Wl,-framework -Wl,CoreFoundation
Loading required package: Rcpp
installing to /Users/biocbuild/bbs-3.11-bioc/meat/GOSim.buildbin-libdir/00LOCK-GOSim/00new/GOSim/libs
** R
** data
** inst
** byte-compile and prepare package for lazy loading
** help
*** installing help indices
** building package indices
** installing vignettes
** testing if installed package can be loaded from temporary location
** checking absolute paths in shared objects and dynamic libraries
** testing if installed package can be loaded from final location
** testing if installed package keeps a record of temporary installation path
* DONE (GOSim)
>>>>>>>
>>>>>>> FIXING LINKS FOR GOSim.buildbin-libdir/GOSim/libs//GOSim.so
>>>>>>>
install_name_tool -change "/usr/local/lib/libgcc_s.1.dylib" "/Library/Frameworks/R.framework/Versions/4.0/Resources/lib/libgcc_s.1.dylib" "GOSim.buildbin-libdir/GOSim/libs//GOSim.so"
install_name_tool -change "/usr/local/lib/libgfortran.3.dylib" "/Library/Frameworks/R.framework/Versions/4.0/Resources/lib/libgfortran.3.dylib" "GOSim.buildbin-libdir/GOSim/libs//GOSim.so"
install_name_tool -change "/usr/local/lib/libreadline.5.2.dylib" "/Library/Frameworks/R.framework/Versions/4.0/Resources/lib/libreadline.5.2.dylib" "GOSim.buildbin-libdir/GOSim/libs//GOSim.so"
install_name_tool -change "/usr/local/lib/libreadline.dylib" "/Library/Frameworks/R.framework/Versions/4.0/Resources/lib/libreadline.dylib" "GOSim.buildbin-libdir/GOSim/libs//GOSim.so"
install_name_tool -change "/usr/local/lib/libquadmath.0.dylib" "/Library/Frameworks/R.framework/Versions/4.0/Resources/lib/libquadmath.0.dylib" "GOSim.buildbin-libdir/GOSim/libs//GOSim.so"