Back to Multiple platform build/check report for BioC 3.11 |
|
This page was generated on 2020-01-16 13:38:49 -0500 (Thu, 16 Jan 2020).
Package 1781/1818 | Hostname | OS / Arch | INSTALL | BUILD | CHECK | BUILD BIN | ||||||
VariantFiltering 1.23.0 Robert Castelo
| malbec2 | Linux (Ubuntu 18.04.3 LTS) / x86_64 | OK | OK | OK | |||||||
tokay2 | Windows Server 2012 R2 Standard / x64 | OK | OK | WARNINGS | NA | |||||||
celaya2 | OS X 10.11.6 El Capitan / x86_64 | OK | OK | OK | [ OK ] |
Package: VariantFiltering |
Version: 1.23.0 |
Command: rm -rf VariantFiltering.buildbin-libdir && mkdir VariantFiltering.buildbin-libdir && /Users/biocbuild/BBS/utils/build-universal.sh VariantFiltering_1.23.0.tar.gz /Library/Frameworks/R.framework/Versions/Current/Resources/bin/R VariantFiltering.buildbin-libdir |
StartedAt: 2020-01-16 12:00:10 -0500 (Thu, 16 Jan 2020) |
EndedAt: 2020-01-16 12:01:38 -0500 (Thu, 16 Jan 2020) |
EllapsedTime: 88.2 seconds |
RetCode: 0 |
Status: OK |
PackageFile: VariantFiltering_1.23.0.tgz |
PackageFileSize: 4.002 MiB |
############################################################################## ############################################################################## ### ### Running command: ### ### rm -rf VariantFiltering.buildbin-libdir && mkdir VariantFiltering.buildbin-libdir && /Users/biocbuild/BBS/utils/build-universal.sh VariantFiltering_1.23.0.tar.gz /Library/Frameworks/R.framework/Versions/Current/Resources/bin/R VariantFiltering.buildbin-libdir ### ############################################################################## ############################################################################## >>>>>>> >>>>>>> INSTALLATION WITH 'R CMD INSTALL --preclean --no-multiarch --library=VariantFiltering.buildbin-libdir VariantFiltering_1.23.0.tar.gz' >>>>>>> * installing *source* package ‘VariantFiltering’ ... ** using staged installation ** libs clang -I"/Library/Frameworks/R.framework/Resources/include" -DNDEBUG -I'/Library/Frameworks/R.framework/Versions/4.0/Resources/library/S4Vectors/include' -I'/Library/Frameworks/R.framework/Versions/4.0/Resources/library/IRanges/include' -I'/Library/Frameworks/R.framework/Versions/4.0/Resources/library/XVector/include' -I'/Library/Frameworks/R.framework/Versions/4.0/Resources/library/Biostrings/include' -isysroot /Library/Developer/CommandLineTools/SDKs/MacOSX.sdk -I/usr/local/include -fPIC -Wall -g -O2 -c Biostrings_stubs.c -o Biostrings_stubs.o clang -I"/Library/Frameworks/R.framework/Resources/include" -DNDEBUG -I'/Library/Frameworks/R.framework/Versions/4.0/Resources/library/S4Vectors/include' -I'/Library/Frameworks/R.framework/Versions/4.0/Resources/library/IRanges/include' -I'/Library/Frameworks/R.framework/Versions/4.0/Resources/library/XVector/include' -I'/Library/Frameworks/R.framework/Versions/4.0/Resources/library/Biostrings/include' -isysroot /Library/Developer/CommandLineTools/SDKs/MacOSX.sdk -I/usr/local/include -fPIC -Wall -g -O2 -c R_init_VariantFiltering.c -o R_init_VariantFiltering.o clang -I"/Library/Frameworks/R.framework/Resources/include" -DNDEBUG -I'/Library/Frameworks/R.framework/Versions/4.0/Resources/library/S4Vectors/include' -I'/Library/Frameworks/R.framework/Versions/4.0/Resources/library/IRanges/include' -I'/Library/Frameworks/R.framework/Versions/4.0/Resources/library/XVector/include' -I'/Library/Frameworks/R.framework/Versions/4.0/Resources/library/Biostrings/include' -isysroot /Library/Developer/CommandLineTools/SDKs/MacOSX.sdk -I/usr/local/include -fPIC -Wall -g -O2 -c methods-WeightMatrix.c -o methods-WeightMatrix.o clang -dynamiclib -Wl,-headerpad_max_install_names -undefined dynamic_lookup -single_module -multiply_defined suppress -L/Library/Frameworks/R.framework/Resources/lib -L/usr/local/lib -o VariantFiltering.so Biostrings_stubs.o R_init_VariantFiltering.o methods-WeightMatrix.o -F/Library/Frameworks/R.framework/.. -framework R -Wl,-framework -Wl,CoreFoundation installing to /Users/biocbuild/bbs-3.11-bioc/meat/VariantFiltering.buildbin-libdir/00LOCK-VariantFiltering/00new/VariantFiltering/libs ** R ** inst ** byte-compile and prepare package for lazy loading in method for 'annotateVariants' with signature 'annObj="MafDb"': no definition for class "MafDb" ** help *** installing help indices ** building package indices ** installing vignettes ** testing if installed package can be loaded from temporary location ** checking absolute paths in shared objects and dynamic libraries ** testing if installed package can be loaded from final location ** testing if installed package keeps a record of temporary installation path * DONE (VariantFiltering) >>>>>>> >>>>>>> FIXING LINKS FOR VariantFiltering.buildbin-libdir/VariantFiltering/libs//VariantFiltering.so >>>>>>> install_name_tool -change "/usr/local/lib/libgcc_s.1.dylib" "/Library/Frameworks/R.framework/Versions/4.0/Resources/lib/libgcc_s.1.dylib" "VariantFiltering.buildbin-libdir/VariantFiltering/libs//VariantFiltering.so" install_name_tool -change "/usr/local/lib/libgfortran.3.dylib" "/Library/Frameworks/R.framework/Versions/4.0/Resources/lib/libgfortran.3.dylib" "VariantFiltering.buildbin-libdir/VariantFiltering/libs//VariantFiltering.so" install_name_tool -change "/usr/local/lib/libreadline.5.2.dylib" "/Library/Frameworks/R.framework/Versions/4.0/Resources/lib/libreadline.5.2.dylib" "VariantFiltering.buildbin-libdir/VariantFiltering/libs//VariantFiltering.so" install_name_tool -change "/usr/local/lib/libreadline.dylib" "/Library/Frameworks/R.framework/Versions/4.0/Resources/lib/libreadline.dylib" "VariantFiltering.buildbin-libdir/VariantFiltering/libs//VariantFiltering.so" install_name_tool -change "/usr/local/lib/libquadmath.0.dylib" "/Library/Frameworks/R.framework/Versions/4.0/Resources/lib/libquadmath.0.dylib" "VariantFiltering.buildbin-libdir/VariantFiltering/libs//VariantFiltering.so"