| Back to Multiple platform build/check report for BioC 3.11 |
|
This page was generated on 2020-01-16 13:33:39 -0500 (Thu, 16 Jan 2020).
| Package 604/1818 | Hostname | OS / Arch | INSTALL | BUILD | CHECK | BUILD BIN | ||||||
| flowType 2.25.0 Nima Aghaeepour
| malbec2 | Linux (Ubuntu 18.04.3 LTS) / x86_64 | OK | OK | OK | |||||||
| tokay2 | Windows Server 2012 R2 Standard / x64 | OK | OK | OK | OK | |||||||
| celaya2 | OS X 10.11.6 El Capitan / x86_64 | OK | OK | WARNINGS | [ OK ] |
| Package: flowType |
| Version: 2.25.0 |
| Command: rm -rf flowType.buildbin-libdir && mkdir flowType.buildbin-libdir && /Users/biocbuild/BBS/utils/build-universal.sh flowType_2.25.0.tar.gz /Library/Frameworks/R.framework/Versions/Current/Resources/bin/R flowType.buildbin-libdir |
| StartedAt: 2020-01-16 10:55:36 -0500 (Thu, 16 Jan 2020) |
| EndedAt: 2020-01-16 10:56:31 -0500 (Thu, 16 Jan 2020) |
| EllapsedTime: 54.9 seconds |
| RetCode: 0 |
| Status: OK |
| PackageFile: flowType_2.25.0.tgz |
| PackageFileSize: 1.227 MiB |
##############################################################################
##############################################################################
###
### Running command:
###
### rm -rf flowType.buildbin-libdir && mkdir flowType.buildbin-libdir && /Users/biocbuild/BBS/utils/build-universal.sh flowType_2.25.0.tar.gz /Library/Frameworks/R.framework/Versions/Current/Resources/bin/R flowType.buildbin-libdir
###
##############################################################################
##############################################################################
>>>>>>>
>>>>>>> INSTALLATION WITH 'R CMD INSTALL --preclean --no-multiarch --library=flowType.buildbin-libdir flowType_2.25.0.tar.gz'
>>>>>>>
* installing *source* package ‘flowType’ ...
** using staged installation
** libs
clang++ -std=gnu++11 -I"/Library/Frameworks/R.framework/Resources/include" -DNDEBUG -I'/Library/Frameworks/R.framework/Versions/4.0/Resources/library/Rcpp/include' -I'/Library/Frameworks/R.framework/Versions/4.0/Resources/library/BH/include' -isysroot /Library/Developer/CommandLineTools/SDKs/MacOSX.sdk -I/usr/local/include -fPIC -Wall -g -O2 -c countsAndMeans.cpp -o countsAndMeans.o
countsAndMeans.cpp:73:7: warning: 'register' storage class specifier is deprecated and incompatible with C++17 [-Wdeprecated-register]
for (register int i = 0; i < marker_count; i++)
^~~~~~~~~
countsAndMeans.cpp:86:7: warning: 'register' storage class specifier is deprecated and incompatible with C++17 [-Wdeprecated-register]
for (register int i = 0; i < data_count; i++)
^~~~~~~~~
2 warnings generated.
clang++ -std=gnu++11 -I"/Library/Frameworks/R.framework/Resources/include" -DNDEBUG -I'/Library/Frameworks/R.framework/Versions/4.0/Resources/library/Rcpp/include' -I'/Library/Frameworks/R.framework/Versions/4.0/Resources/library/BH/include' -isysroot /Library/Developer/CommandLineTools/SDKs/MacOSX.sdk -I/usr/local/include -fPIC -Wall -g -O2 -c flowType.cpp -o flowType.o
clang++ -std=gnu++11 -I"/Library/Frameworks/R.framework/Resources/include" -DNDEBUG -I'/Library/Frameworks/R.framework/Versions/4.0/Resources/library/Rcpp/include' -I'/Library/Frameworks/R.framework/Versions/4.0/Resources/library/BH/include' -isysroot /Library/Developer/CommandLineTools/SDKs/MacOSX.sdk -I/usr/local/include -fPIC -Wall -g -O2 -c numberGenerator.cpp -o numberGenerator.o
clang++ -std=gnu++11 -dynamiclib -Wl,-headerpad_max_install_names -undefined dynamic_lookup -single_module -multiply_defined suppress -L/Library/Frameworks/R.framework/Resources/lib -L/usr/local/lib -o flowType.so countsAndMeans.o flowType.o numberGenerator.o -F/Library/Frameworks/R.framework/.. -framework R -Wl,-framework -Wl,CoreFoundation
installing to /Users/biocbuild/bbs-3.11-bioc/meat/flowType.buildbin-libdir/00LOCK-flowType/00new/flowType/libs
** R
** data
** inst
** byte-compile and prepare package for lazy loading
Warning in rgl.init(initValue, onlyNULL) :
RGL: GLX extension missing on server
Warning: 'rgl_init' failed, running with rgl.useNULL = TRUE
** help
*** installing help indices
** building package indices
** installing vignettes
** testing if installed package can be loaded from temporary location
Warning in rgl.init(initValue, onlyNULL) :
RGL: GLX extension missing on server
Warning: 'rgl_init' failed, running with rgl.useNULL = TRUE
** checking absolute paths in shared objects and dynamic libraries
** testing if installed package can be loaded from final location
Warning in rgl.init(initValue, onlyNULL) :
RGL: GLX extension missing on server
Warning: 'rgl_init' failed, running with rgl.useNULL = TRUE
** testing if installed package keeps a record of temporary installation path
* DONE (flowType)
>>>>>>>
>>>>>>> FIXING LINKS FOR flowType.buildbin-libdir/flowType/libs//flowType.so
>>>>>>>
install_name_tool -change "/usr/local/lib/libgcc_s.1.dylib" "/Library/Frameworks/R.framework/Versions/4.0/Resources/lib/libgcc_s.1.dylib" "flowType.buildbin-libdir/flowType/libs//flowType.so"
install_name_tool -change "/usr/local/lib/libgfortran.3.dylib" "/Library/Frameworks/R.framework/Versions/4.0/Resources/lib/libgfortran.3.dylib" "flowType.buildbin-libdir/flowType/libs//flowType.so"
install_name_tool -change "/usr/local/lib/libreadline.5.2.dylib" "/Library/Frameworks/R.framework/Versions/4.0/Resources/lib/libreadline.5.2.dylib" "flowType.buildbin-libdir/flowType/libs//flowType.so"
install_name_tool -change "/usr/local/lib/libreadline.dylib" "/Library/Frameworks/R.framework/Versions/4.0/Resources/lib/libreadline.dylib" "flowType.buildbin-libdir/flowType/libs//flowType.so"
install_name_tool -change "/usr/local/lib/libquadmath.0.dylib" "/Library/Frameworks/R.framework/Versions/4.0/Resources/lib/libquadmath.0.dylib" "flowType.buildbin-libdir/flowType/libs//flowType.so"