| Back to Multiple platform build/check report for BioC 3.11 |
|
This page was generated on 2020-01-16 13:35:27 -0500 (Thu, 16 Jan 2020).
| Package 1797/1818 | Hostname | OS / Arch | INSTALL | BUILD | CHECK | BUILD BIN | ||||||
Kristof De Beuf
| malbec2 | Linux (Ubuntu 18.04.3 LTS) / x86_64 | ERROR | ERROR | skipped | |||||||
| tokay2 | Windows Server 2012 R2 Standard / x64 | ERROR | ERROR | skipped | skipped | |||||||
| celaya2 | OS X 10.11.6 El Capitan / x86_64 | ERROR | [ ERROR ] | skipped | skipped |
| Package: waveTiling |
| Version: 1.29.1 |
| Command: /Library/Frameworks/R.framework/Versions/Current/Resources/bin/R CMD build --keep-empty-dirs --no-resave-data waveTiling |
| StartedAt: 2020-01-15 20:51:52 -0500 (Wed, 15 Jan 2020) |
| EndedAt: 2020-01-15 20:51:59 -0500 (Wed, 15 Jan 2020) |
| EllapsedTime: 7.0 seconds |
| RetCode: 1 |
| Status: ERROR |
| PackageFile: None |
| PackageFileSize: NA |
##############################################################################
##############################################################################
###
### Running command:
###
### /Library/Frameworks/R.framework/Versions/Current/Resources/bin/R CMD build --keep-empty-dirs --no-resave-data waveTiling
###
##############################################################################
##############################################################################
* checking for file ‘waveTiling/DESCRIPTION’ ... OK
* preparing ‘waveTiling’:
* checking DESCRIPTION meta-information ... OK
* cleaning src
* installing the package to build vignettes
-----------------------------------
ERROR: dependency ‘GenomeGraphs’ is not available for package ‘waveTiling’
* removing ‘/private/tmp/Rtmp3OTLAO/Rinst74fc2ff730bb/waveTiling’
-----------------------------------
ERROR: package installation failed