Back to Multiple platform build/check report for BioC 3.11 |
|
This page was generated on 2020-01-16 13:55:28 -0500 (Thu, 16 Jan 2020).
Package 1326/1818 | Hostname | OS / Arch | INSTALL | BUILD | CHECK | BUILD BIN | ||||||
pulsedSilac 1.1.1 Marc Pagès-Gallego
| malbec2 | Linux (Ubuntu 18.04.3 LTS) / x86_64 | OK | OK | OK | |||||||
tokay2 | Windows Server 2012 R2 Standard / x64 | OK | OK | OK | OK | |||||||
celaya2 | OS X 10.11.6 El Capitan / x86_64 | OK | OK | OK | [ OK ] |
Package: pulsedSilac |
Version: 1.1.1 |
Command: rm -rf pulsedSilac.buildbin-libdir && mkdir pulsedSilac.buildbin-libdir && /Users/biocbuild/BBS/utils/build-universal.sh pulsedSilac_1.1.1.tar.gz /Library/Frameworks/R.framework/Versions/Current/Resources/bin/R pulsedSilac.buildbin-libdir |
StartedAt: 2020-01-16 11:33:47 -0500 (Thu, 16 Jan 2020) |
EndedAt: 2020-01-16 11:34:45 -0500 (Thu, 16 Jan 2020) |
EllapsedTime: 58.7 seconds |
RetCode: 0 |
Status: OK |
PackageFile: pulsedSilac_1.1.1.tgz |
PackageFileSize: 4.066 MiB |
############################################################################## ############################################################################## ### ### Running command: ### ### rm -rf pulsedSilac.buildbin-libdir && mkdir pulsedSilac.buildbin-libdir && /Users/biocbuild/BBS/utils/build-universal.sh pulsedSilac_1.1.1.tar.gz /Library/Frameworks/R.framework/Versions/Current/Resources/bin/R pulsedSilac.buildbin-libdir ### ############################################################################## ############################################################################## >>>>>>> >>>>>>> INSTALLATION WITH 'R CMD INSTALL --preclean --no-multiarch --library=pulsedSilac.buildbin-libdir pulsedSilac_1.1.1.tar.gz' >>>>>>> * installing *source* package ‘pulsedSilac’ ... ** using staged installation ** R ** data ** inst ** byte-compile and prepare package for lazy loading in method for ‘addMisscleavedPeptides’ with signature ‘"SilacProteinExperiment"’: no definition for class “SilacProteinExperiment” in method for ‘addMisscleavedPeptides’ with signature ‘"SilacPeptideExperiment"’: no definition for class “SilacPeptideExperiment” in method for ‘addMisscleavedPeptides’ with signature ‘"SilacProteomicsExperiment"’: no definition for class “SilacProteomicsExperiment” ** help *** installing help indices ** building package indices ** installing vignettes ** testing if installed package can be loaded from temporary location ** testing if installed package can be loaded from final location ** testing if installed package keeps a record of temporary installation path * DONE (pulsedSilac)