| Back to Multiple platform build/check report for BioC 3.11 | 
 | 
This page was generated on 2020-01-16 13:42:49 -0500 (Thu, 16 Jan 2020).
| Package 1380/1818 | Hostname | OS / Arch | INSTALL | BUILD | CHECK | BUILD BIN | ||||||
| rCGH 1.17.0 Frederic Commo 
 | malbec2 | Linux (Ubuntu 18.04.3 LTS) / x86_64 | OK | OK | OK |  | ||||||
| tokay2 | Windows Server 2012 R2 Standard / x64 | OK | OK | WARNINGS | OK | |||||||
| celaya2 | OS X 10.11.6 El Capitan / x86_64 | OK | [ OK ] | OK | OK |  | 
| Package: rCGH | 
| Version: 1.17.0 | 
| Command: /Library/Frameworks/R.framework/Versions/Current/Resources/bin/R CMD build --keep-empty-dirs --no-resave-data rCGH | 
| StartedAt: 2020-01-15 22:09:27 -0500 (Wed, 15 Jan 2020) | 
| EndedAt: 2020-01-15 22:11:30 -0500 (Wed, 15 Jan 2020) | 
| EllapsedTime: 122.8 seconds | 
| RetCode: 0 | 
| Status: OK | 
| PackageFile: rCGH_1.17.0.tar.gz | 
| PackageFileSize: 3.771 MiB | 
##############################################################################
##############################################################################
###
### Running command:
###
###   /Library/Frameworks/R.framework/Versions/Current/Resources/bin/R CMD build --keep-empty-dirs --no-resave-data rCGH
###
##############################################################################
##############################################################################
* checking for file ‘rCGH/DESCRIPTION’ ... OK
* preparing ‘rCGH’:
* checking DESCRIPTION meta-information ... OK
* installing the package to build vignettes
* creating vignettes ... OK
Warning: ‘inst/doc’ files
    ‘rCGH.Rnw’, ‘rCGH.pdf’, ‘rCGH.R’
  ignored as vignettes have been rebuilt.
  Run R CMD build with --no-build-vignettes to prevent rebuilding.
* checking for LF line-endings in source and make files and shell scripts
* checking for empty or unneeded directories
* building ‘rCGH_1.17.0.tar.gz’