Back to Multiple platform build/check report for BioC 3.11 |
|
This page was generated on 2020-01-16 13:37:55 -0500 (Thu, 16 Jan 2020).
Package 1191/1818 | Hostname | OS / Arch | INSTALL | BUILD | CHECK | BUILD BIN | ||||||
openCyto 1.25.2 Mike Jiang
| malbec2 | Linux (Ubuntu 18.04.3 LTS) / x86_64 | OK | OK | WARNINGS | ![]() | ||||||
tokay2 | Windows Server 2012 R2 Standard / x64 | OK | OK | WARNINGS | OK | ![]() | ||||||
celaya2 | OS X 10.11.6 El Capitan / x86_64 | OK | [ OK ] | WARNINGS | OK | ![]() |
Package: openCyto |
Version: 1.25.2 |
Command: /Library/Frameworks/R.framework/Versions/Current/Resources/bin/R CMD build --keep-empty-dirs --no-resave-data openCyto |
StartedAt: 2020-01-15 21:15:52 -0500 (Wed, 15 Jan 2020) |
EndedAt: 2020-01-15 21:21:08 -0500 (Wed, 15 Jan 2020) |
EllapsedTime: 316.4 seconds |
RetCode: 0 |
Status: OK |
PackageFile: openCyto_1.25.2.tar.gz |
PackageFileSize: 2.505 MiB |
############################################################################## ############################################################################## ### ### Running command: ### ### /Library/Frameworks/R.framework/Versions/Current/Resources/bin/R CMD build --keep-empty-dirs --no-resave-data openCyto ### ############################################################################## ############################################################################## * checking for file ‘openCyto/DESCRIPTION’ ... OK * preparing ‘openCyto’: * checking DESCRIPTION meta-information ... OK * cleaning src * installing the package to build vignettes * creating vignettes ... OK * cleaning src * checking for LF line-endings in source and make files and shell scripts * checking for empty or unneeded directories NB: this package now depends on R (>= 3.5.0) WARNING: Added dependency on R >= 3.5.0 because serialized objects in serialize/load version 3 cannot be read in older versions of R. File(s) containing such objects: ‘openCyto/tests/testthat/expectResults.rds’ * building ‘openCyto_1.25.2.tar.gz’