| Back to Multiple platform build/check report for BioC 3.11 |
|
This page was generated on 2020-01-16 13:48:54 -0500 (Thu, 16 Jan 2020).
| Package 1374/1818 | Hostname | OS / Arch | INSTALL | BUILD | CHECK | BUILD BIN | ||||||
| Rbowtie2 1.9.0 Zheng Wei
| malbec2 | Linux (Ubuntu 18.04.3 LTS) / x86_64 | OK | OK | WARNINGS | |||||||
| tokay2 | Windows Server 2012 R2 Standard / x64 | OK | OK | OK | OK | |||||||
| celaya2 | OS X 10.11.6 El Capitan / x86_64 | OK | [ OK ] | OK | OK |
| Package: Rbowtie2 |
| Version: 1.9.0 |
| Command: /Library/Frameworks/R.framework/Versions/Current/Resources/bin/R CMD build --keep-empty-dirs --no-resave-data Rbowtie2 |
| StartedAt: 2020-01-15 23:33:45 -0500 (Wed, 15 Jan 2020) |
| EndedAt: 2020-01-15 23:36:09 -0500 (Wed, 15 Jan 2020) |
| EllapsedTime: 143.8 seconds |
| RetCode: 0 |
| Status: OK |
| PackageFile: Rbowtie2_1.9.0.tar.gz |
| PackageFileSize: 1.147 MiB |
############################################################################## ############################################################################## ### ### Running command: ### ### /Library/Frameworks/R.framework/Versions/Current/Resources/bin/R CMD build --keep-empty-dirs --no-resave-data Rbowtie2 ### ############################################################################## ############################################################################## * checking for file ‘Rbowtie2/DESCRIPTION’ ... OK * preparing ‘Rbowtie2’: * checking DESCRIPTION meta-information ... OK * cleaning src * installing the package to build vignettes * creating vignettes ... OK * cleaning src * checking for LF line-endings in source and make files and shell scripts * checking for empty or unneeded directories * building ‘Rbowtie2_1.9.0.tar.gz’