| Back to Multiple platform build/check report for BioC 3.11 | 
 | 
This page was generated on 2020-01-16 13:42:50 -0500 (Thu, 16 Jan 2020).
| Package 1465/1818 | Hostname | OS / Arch | INSTALL | BUILD | CHECK | BUILD BIN | ||||||
| ropls 1.19.8 Etienne A. Thevenot 
 | malbec2 | Linux (Ubuntu 18.04.3 LTS) / x86_64 | OK | OK | OK |  | ||||||
| tokay2 | Windows Server 2012 R2 Standard / x64 | OK | OK | OK | OK | |||||||
| celaya2 | OS X 10.11.6 El Capitan / x86_64 | OK | OK | OK | [ OK ] |  | 
| Package: ropls | 
| Version: 1.19.8 | 
| Command: rm -rf ropls.buildbin-libdir && mkdir ropls.buildbin-libdir && /Users/biocbuild/BBS/utils/build-universal.sh ropls_1.19.8.tar.gz /Library/Frameworks/R.framework/Versions/Current/Resources/bin/R ropls.buildbin-libdir | 
| StartedAt: 2020-01-16 11:42:19 -0500 (Thu, 16 Jan 2020) | 
| EndedAt: 2020-01-16 11:42:33 -0500 (Thu, 16 Jan 2020) | 
| EllapsedTime: 13.5 seconds | 
| RetCode: 0 | 
| Status: OK | 
| PackageFile: ropls_1.19.8.tgz | 
| PackageFileSize: 3.479 MiB | 
############################################################################## ############################################################################## ### ### Running command: ### ### rm -rf ropls.buildbin-libdir && mkdir ropls.buildbin-libdir && /Users/biocbuild/BBS/utils/build-universal.sh ropls_1.19.8.tar.gz /Library/Frameworks/R.framework/Versions/Current/Resources/bin/R ropls.buildbin-libdir ### ############################################################################## ############################################################################## >>>>>>> >>>>>>> INSTALLATION WITH 'R CMD INSTALL --preclean --no-multiarch --library=ropls.buildbin-libdir ropls_1.19.8.tar.gz' >>>>>>> * installing *source* package ‘ropls’ ... ** using staged installation ** R ** data ** inst ** byte-compile and prepare package for lazy loading in method for ‘opls’ with signature ‘x="MultiDataSet"’: no definition for class “MultiDataSet” ** help *** installing help indices ** building package indices ** installing vignettes ** testing if installed package can be loaded from temporary location ** testing if installed package can be loaded from final location ** testing if installed package keeps a record of temporary installation path * DONE (ropls)