| Back to Multiple platform build/check report for BioC 3.11 |
|
This page was generated on 2020-01-16 13:39:17 -0500 (Thu, 16 Jan 2020).
| Package 587/1818 | Hostname | OS / Arch | INSTALL | BUILD | CHECK | BUILD BIN | ||||||
| flowDensity 1.21.0 Mehrnoush Malek
| malbec2 | Linux (Ubuntu 18.04.3 LTS) / x86_64 | OK | OK | WARNINGS | |||||||
| tokay2 | Windows Server 2012 R2 Standard / x64 | OK | OK | WARNINGS | OK | |||||||
| celaya2 | OS X 10.11.6 El Capitan / x86_64 | OK | [ OK ] | WARNINGS | OK |
| Package: flowDensity |
| Version: 1.21.0 |
| Command: /Library/Frameworks/R.framework/Versions/Current/Resources/bin/R CMD build --keep-empty-dirs --no-resave-data flowDensity |
| StartedAt: 2020-01-15 21:33:39 -0500 (Wed, 15 Jan 2020) |
| EndedAt: 2020-01-15 21:34:33 -0500 (Wed, 15 Jan 2020) |
| EllapsedTime: 53.8 seconds |
| RetCode: 0 |
| Status: OK |
| PackageFile: flowDensity_1.21.0.tar.gz |
| PackageFileSize: 6.303 MiB |
##############################################################################
##############################################################################
###
### Running command:
###
### /Library/Frameworks/R.framework/Versions/Current/Resources/bin/R CMD build --keep-empty-dirs --no-resave-data flowDensity
###
##############################################################################
##############################################################################
* checking for file ‘flowDensity/DESCRIPTION’ ... OK
* preparing ‘flowDensity’:
* checking DESCRIPTION meta-information ... OK
Warning: bad markup (extra space?) at plotDens.Rd:62:19
* installing the package to build vignettes
* creating vignettes ... OK
Warning: ‘inst/doc’ file
‘flowDensity.R’
ignored as vignettes have been rebuilt.
Run R CMD build with --no-build-vignettes to prevent rebuilding.
* checking for LF line-endings in source and make files and shell scripts
* checking for empty or unneeded directories
* building ‘flowDensity_1.21.0.tar.gz’