| Back to Multiple platform build/check report for BioC 3.11 |
|
This page was generated on 2020-01-16 13:36:18 -0500 (Thu, 16 Jan 2020).
| Package 487/1818 | Hostname | OS / Arch | INSTALL | BUILD | CHECK | BUILD BIN | ||||||
| DrugVsDisease 2.29.0 j. Saez-Rodriguez
| malbec2 | Linux (Ubuntu 18.04.3 LTS) / x86_64 | OK | OK | OK | |||||||
| tokay2 | Windows Server 2012 R2 Standard / x64 | OK | OK | OK | OK | |||||||
| celaya2 | OS X 10.11.6 El Capitan / x86_64 | OK | [ OK ] | OK | OK |
| Package: DrugVsDisease |
| Version: 2.29.0 |
| Command: /Library/Frameworks/R.framework/Versions/Current/Resources/bin/R CMD build --keep-empty-dirs --no-resave-data DrugVsDisease |
| StartedAt: 2020-01-15 21:04:44 -0500 (Wed, 15 Jan 2020) |
| EndedAt: 2020-01-15 21:06:09 -0500 (Wed, 15 Jan 2020) |
| EllapsedTime: 85.2 seconds |
| RetCode: 0 |
| Status: OK |
| PackageFile: DrugVsDisease_2.29.0.tar.gz |
| PackageFileSize: 1.777 MiB |
############################################################################## ############################################################################## ### ### Running command: ### ### /Library/Frameworks/R.framework/Versions/Current/Resources/bin/R CMD build --keep-empty-dirs --no-resave-data DrugVsDisease ### ############################################################################## ############################################################################## * checking for file ‘DrugVsDisease/DESCRIPTION’ ... OK * preparing ‘DrugVsDisease’: * checking DESCRIPTION meta-information ... OK * installing the package to build vignettes * creating vignettes ... OK * checking for LF line-endings in source and make files and shell scripts * checking for empty or unneeded directories * building ‘DrugVsDisease_2.29.0.tar.gz’