| Back to Multiple platform build/check report for BioC 3.11 |
|
This page was generated on 2020-01-16 13:50:25 -0500 (Thu, 16 Jan 2020).
| Package 1418/1818 | Hostname | OS / Arch | INSTALL | BUILD | CHECK | BUILD BIN | ||||||
| Rgin 1.7.0 Hector Climente-Gonzalez
| malbec2 | Linux (Ubuntu 18.04.3 LTS) / x86_64 | OK | OK | OK | |||||||
| tokay2 | Windows Server 2012 R2 Standard / x64 | OK | OK | OK | OK | |||||||
| celaya2 | OS X 10.11.6 El Capitan / x86_64 | OK | [ OK ] | WARNINGS | OK |
| Package: Rgin |
| Version: 1.7.0 |
| Command: /Library/Frameworks/R.framework/Versions/Current/Resources/bin/R CMD build --keep-empty-dirs --no-resave-data Rgin |
| StartedAt: 2020-01-15 23:49:06 -0500 (Wed, 15 Jan 2020) |
| EndedAt: 2020-01-15 23:56:10 -0500 (Wed, 15 Jan 2020) |
| EllapsedTime: 423.6 seconds |
| RetCode: 0 |
| Status: OK |
| PackageFile: Rgin_1.7.0.tar.gz |
| PackageFileSize: 697.7 KiB |
############################################################################## ############################################################################## ### ### Running command: ### ### /Library/Frameworks/R.framework/Versions/Current/Resources/bin/R CMD build --keep-empty-dirs --no-resave-data Rgin ### ############################################################################## ############################################################################## * checking for file ‘Rgin/DESCRIPTION’ ... OK * preparing ‘Rgin’: * checking DESCRIPTION meta-information ... OK * cleaning src * installing the package to build vignettes * creating vignettes ... OK * cleaning src * checking for LF line-endings in source and make files and shell scripts * checking for empty or unneeded directories * building ‘Rgin_1.7.0.tar.gz’