| Back to Multiple platform build/check report for BioC 3.11 |
|
This page was generated on 2020-01-16 13:36:03 -0500 (Thu, 16 Jan 2020).
| Package 485/1818 | Hostname | OS / Arch | INSTALL | BUILD | CHECK | BUILD BIN | ||||||
| DriverNet 1.27.0 Jiarui Ding
| malbec2 | Linux (Ubuntu 18.04.3 LTS) / x86_64 | OK | OK | OK | |||||||
| tokay2 | Windows Server 2012 R2 Standard / x64 | OK | OK | OK | OK | |||||||
| celaya2 | OS X 10.11.6 El Capitan / x86_64 | OK | OK | [ OK ] | OK |
| Package: DriverNet |
| Version: 1.27.0 |
| Command: /Library/Frameworks/R.framework/Versions/Current/Resources/bin/R CMD check --install=check:DriverNet.install-out.txt --library=/Library/Frameworks/R.framework/Versions/Current/Resources/library --no-vignettes --timings DriverNet_1.27.0.tar.gz |
| StartedAt: 2020-01-16 03:57:24 -0500 (Thu, 16 Jan 2020) |
| EndedAt: 2020-01-16 03:59:35 -0500 (Thu, 16 Jan 2020) |
| EllapsedTime: 130.7 seconds |
| RetCode: 0 |
| Status: OK |
| CheckDir: DriverNet.Rcheck |
| Warnings: 0 |
##############################################################################
##############################################################################
###
### Running command:
###
### /Library/Frameworks/R.framework/Versions/Current/Resources/bin/R CMD check --install=check:DriverNet.install-out.txt --library=/Library/Frameworks/R.framework/Versions/Current/Resources/library --no-vignettes --timings DriverNet_1.27.0.tar.gz
###
##############################################################################
##############################################################################
* using log directory ‘/Users/biocbuild/bbs-3.11-bioc/meat/DriverNet.Rcheck’
* using R Under development (unstable) (2019-12-14 r77572)
* using platform: x86_64-apple-darwin15.6.0 (64-bit)
* using session charset: UTF-8
* using option ‘--no-vignettes’
* checking for file ‘DriverNet/DESCRIPTION’ ... OK
* checking extension type ... Package
* this is package ‘DriverNet’ version ‘1.27.0’
* checking package namespace information ... OK
* checking package dependencies ... OK
* checking if this is a source package ... OK
* checking if there is a namespace ... OK
* checking for hidden files and directories ... OK
* checking for portable file names ... OK
* checking for sufficient/correct file permissions ... OK
* checking whether package ‘DriverNet’ can be installed ... OK
* checking installed package size ... OK
* checking package directory ... OK
* checking ‘build’ directory ... OK
* checking DESCRIPTION meta-information ... OK
* checking top-level files ... OK
* checking for left-over files ... OK
* checking index information ... OK
* checking package subdirectories ... OK
* checking R files for non-ASCII characters ... OK
* checking R files for syntax errors ... OK
* checking whether the package can be loaded ... OK
* checking whether the package can be loaded with stated dependencies ... OK
* checking whether the package can be unloaded cleanly ... OK
* checking whether the namespace can be loaded with stated dependencies ... OK
* checking whether the namespace can be unloaded cleanly ... OK
* checking dependencies in R code ... NOTE
Package in Depends field not imported from: ‘methods’
These packages need to be imported from (in the NAMESPACE file)
for when this namespace is loaded but not attached.
* checking S3 generic/method consistency ... OK
* checking replacement functions ... OK
* checking foreign function calls ... OK
* checking R code for possible problems ... NOTE
.computeDriversHelper: no visible global function definition for ‘new’
getPatientOutlierMatrix: no visible binding for global variable ‘sd’
getPatientOutlierMatrix: no visible global function definition for
‘dnorm’
resultSummary: no visible global function definition for ‘write.table’
Undefined global functions or variables:
dnorm new sd write.table
Consider adding
importFrom("methods", "new")
importFrom("stats", "dnorm", "sd")
importFrom("utils", "write.table")
to your NAMESPACE file (and ensure that your DESCRIPTION Imports field
contains 'methods').
* checking Rd files ... OK
* checking Rd metadata ... OK
* checking Rd cross-references ... OK
* checking for missing documentation entries ... OK
* checking for code/documentation mismatches ... OK
* checking Rd \usage sections ... OK
* checking Rd contents ... OK
* checking for unstated dependencies in examples ... OK
* checking contents of ‘data’ directory ... OK
* checking data for non-ASCII characters ... OK
* checking data for ASCII and uncompressed saves ... OK
* checking sizes of PDF files under ‘inst/doc’ ... OK
* checking files in ‘vignettes’ ... OK
* checking examples ... OK
Examples with CPU (user + system) or elapsed time > 5s
user system elapsed
DriverNet-package 38.318 2.170 41.157
computeDrivers 23.536 1.638 25.957
computeRandomizedResult 15.810 0.071 16.484
* checking for unstated dependencies in vignettes ... OK
* checking package vignettes in ‘inst/doc’ ... OK
* checking running R code from vignettes ... SKIPPED
* checking re-building of vignette outputs ... SKIPPED
* checking PDF version of manual ... OK
* DONE
Status: 2 NOTEs
See
‘/Users/biocbuild/bbs-3.11-bioc/meat/DriverNet.Rcheck/00check.log’
for details.
DriverNet.Rcheck/00install.out
############################################################################## ############################################################################## ### ### Running command: ### ### /Library/Frameworks/R.framework/Versions/Current/Resources/bin/R CMD INSTALL DriverNet ### ############################################################################## ############################################################################## * installing to library ‘/Library/Frameworks/R.framework/Versions/4.0/Resources/library’ * installing *source* package ‘DriverNet’ ... ** using staged installation ** R ** data ** byte-compile and prepare package for lazy loading ** help *** installing help indices ** building package indices ** installing vignettes ** testing if installed package can be loaded from temporary location ** testing if installed package can be loaded from final location ** testing if installed package keeps a record of temporary installation path * DONE (DriverNet)
DriverNet.Rcheck/DriverNet-Ex.timings
| name | user | system | elapsed | |
| DriverNet-package | 38.318 | 2.170 | 41.157 | |
| DriverNetResult-class | 0.021 | 0.003 | 0.024 | |
| actualEvents | 0.149 | 0.096 | 0.247 | |
| computeDrivers | 23.536 | 1.638 | 25.957 | |
| computeRandomizedResult | 15.810 | 0.071 | 16.484 | |
| drivers | 0.166 | 0.112 | 0.311 | |
| getPatientOutlierMatrix | 0.241 | 0.040 | 0.281 | |
| preprocessMatrices | 0.262 | 0.016 | 0.278 | |
| resultSummary | 0.302 | 0.031 | 0.333 | |
| sampleDriversList | 0.021 | 0.003 | 0.024 | |
| sampleGeneNames | 0.035 | 0.010 | 0.045 | |
| sampleInfluenceGraph | 0.222 | 0.022 | 0.244 | |
| samplePatientExpressionMatrix | 0.086 | 0.018 | 0.103 | |
| samplePatientMutationMatrix | 0.014 | 0.002 | 0.016 | |
| samplePatientOutlierMatrix | 0.016 | 0.002 | 0.018 | |
| sampleRandomDriversResult | 0.003 | 0.002 | 0.005 | |
| totalEvents | 0.021 | 0.002 | 0.023 | |