| Back to Multiple platform build/check report for BioC 3.11 |
|
This page was generated on 2020-01-16 13:29:59 -0500 (Thu, 16 Jan 2020).
| Package 693/1818 | Hostname | OS / Arch | INSTALL | BUILD | CHECK | BUILD BIN | ||||||
| GEOquery 2.55.1 Sean Davis
| malbec2 | Linux (Ubuntu 18.04.3 LTS) / x86_64 | OK | OK | OK | |||||||
| tokay2 | Windows Server 2012 R2 Standard / x64 | OK | OK | OK | OK | |||||||
| celaya2 | OS X 10.11.6 El Capitan / x86_64 | OK | OK | OK | [ OK ] |
| Package: GEOquery |
| Version: 2.55.1 |
| Command: rm -rf GEOquery.buildbin-libdir && mkdir GEOquery.buildbin-libdir && /Users/biocbuild/BBS/utils/build-universal.sh GEOquery_2.55.1.tar.gz /Library/Frameworks/R.framework/Versions/Current/Resources/bin/R GEOquery.buildbin-libdir |
| StartedAt: 2020-01-16 11:00:43 -0500 (Thu, 16 Jan 2020) |
| EndedAt: 2020-01-16 11:01:04 -0500 (Thu, 16 Jan 2020) |
| EllapsedTime: 20.2 seconds |
| RetCode: 0 |
| Status: OK |
| PackageFile: GEOquery_2.55.1.tgz |
| PackageFileSize: 13.26 MiB |
############################################################################## ############################################################################## ### ### Running command: ### ### rm -rf GEOquery.buildbin-libdir && mkdir GEOquery.buildbin-libdir && /Users/biocbuild/BBS/utils/build-universal.sh GEOquery_2.55.1.tar.gz /Library/Frameworks/R.framework/Versions/Current/Resources/bin/R GEOquery.buildbin-libdir ### ############################################################################## ############################################################################## >>>>>>> >>>>>>> INSTALLATION WITH 'R CMD INSTALL --preclean --no-multiarch --library=GEOquery.buildbin-libdir GEOquery_2.55.1.tar.gz' >>>>>>> * installing *source* package ‘GEOquery’ ... ** using staged installation ** R ** inst ** byte-compile and prepare package for lazy loading ** help *** installing help indices ** building package indices ** installing vignettes ** testing if installed package can be loaded from temporary location ** testing if installed package can be loaded from final location ** testing if installed package keeps a record of temporary installation path * DONE (GEOquery)