| Back to Multiple platform build/check report for BioC 3.11 |
|
This page was generated on 2020-01-16 13:29:32 -0500 (Thu, 16 Jan 2020).
| Package 1501/1818 | Hostname | OS / Arch | INSTALL | BUILD | CHECK | BUILD BIN | ||||||
| safe 3.27.0 William T. Barry
| malbec2 | Linux (Ubuntu 18.04.3 LTS) / x86_64 | OK | OK | OK | |||||||
| tokay2 | Windows Server 2012 R2 Standard / x64 | OK | OK | OK | OK | |||||||
| celaya2 | OS X 10.11.6 El Capitan / x86_64 | OK | [ OK ] | OK | OK |
| Package: safe |
| Version: 3.27.0 |
| Command: /Library/Frameworks/R.framework/Versions/Current/Resources/bin/R CMD build --keep-empty-dirs --no-resave-data safe |
| StartedAt: 2020-01-15 19:53:22 -0500 (Wed, 15 Jan 2020) |
| EndedAt: 2020-01-15 20:02:36 -0500 (Wed, 15 Jan 2020) |
| EllapsedTime: 553.9 seconds |
| RetCode: 0 |
| Status: OK |
| PackageFile: safe_3.27.0.tar.gz |
| PackageFileSize: 572.8 KiB |
############################################################################## ############################################################################## ### ### Running command: ### ### /Library/Frameworks/R.framework/Versions/Current/Resources/bin/R CMD build --keep-empty-dirs --no-resave-data safe ### ############################################################################## ############################################################################## * checking for file ‘safe/DESCRIPTION’ ... OK * preparing ‘safe’: * checking DESCRIPTION meta-information ... OK * installing the package to build vignettes * creating vignettes ... OK * checking for LF line-endings in source and make files and shell scripts * checking for empty or unneeded directories * looking to see if a ‘data/datalist’ file should be added * building ‘safe_3.27.0.tar.gz’