| Back to Multiple platform build/check report for BioC 3.11 |
|
This page was generated on 2020-01-16 13:29:58 -0500 (Thu, 16 Jan 2020).
| Package 1226/1818 | Hostname | OS / Arch | INSTALL | BUILD | CHECK | BUILD BIN | ||||||
| pathRender 1.55.0 Vince Carey
| malbec2 | Linux (Ubuntu 18.04.3 LTS) / x86_64 | OK | OK | OK | |||||||
| tokay2 | Windows Server 2012 R2 Standard / x64 | OK | OK | OK | OK | |||||||
| celaya2 | OS X 10.11.6 El Capitan / x86_64 | OK | OK | OK | [ OK ] |
| Package: pathRender |
| Version: 1.55.0 |
| Command: rm -rf pathRender.buildbin-libdir && mkdir pathRender.buildbin-libdir && /Users/biocbuild/BBS/utils/build-universal.sh pathRender_1.55.0.tar.gz /Library/Frameworks/R.framework/Versions/Current/Resources/bin/R pathRender.buildbin-libdir |
| StartedAt: 2020-01-16 11:28:36 -0500 (Thu, 16 Jan 2020) |
| EndedAt: 2020-01-16 11:28:56 -0500 (Thu, 16 Jan 2020) |
| EllapsedTime: 20.1 seconds |
| RetCode: 0 |
| Status: OK |
| PackageFile: pathRender_1.55.0.tgz |
| PackageFileSize: 251.1 KiB |
############################################################################## ############################################################################## ### ### Running command: ### ### rm -rf pathRender.buildbin-libdir && mkdir pathRender.buildbin-libdir && /Users/biocbuild/BBS/utils/build-universal.sh pathRender_1.55.0.tar.gz /Library/Frameworks/R.framework/Versions/Current/Resources/bin/R pathRender.buildbin-libdir ### ############################################################################## ############################################################################## >>>>>>> >>>>>>> INSTALLATION WITH 'R CMD INSTALL --preclean --no-multiarch --library=pathRender.buildbin-libdir pathRender_1.55.0.tar.gz' >>>>>>> * installing *source* package ‘pathRender’ ... ** using staged installation ** R ** inst ** byte-compile and prepare package for lazy loading ** help *** installing help indices ** building package indices ** installing vignettes ** testing if installed package can be loaded from temporary location ** testing if installed package can be loaded from final location ** testing if installed package keeps a record of temporary installation path * DONE (pathRender)