| Back to Multiple platform build/check report for BioC 3.11 |
|
This page was generated on 2020-01-16 13:52:17 -0500 (Thu, 16 Jan 2020).
| Package 1594/1818 | Hostname | OS / Arch | INSTALL | BUILD | CHECK | BUILD BIN | ||||||
| SIMD 1.5.0 Jiadi Zhu
| malbec2 | Linux (Ubuntu 18.04.3 LTS) / x86_64 | OK | OK | OK | |||||||
| tokay2 | Windows Server 2012 R2 Standard / x64 | OK | OK | OK | OK | |||||||
| celaya2 | OS X 10.11.6 El Capitan / x86_64 | OK | [ OK ] | OK | OK |
| Package: SIMD |
| Version: 1.5.0 |
| Command: /Library/Frameworks/R.framework/Versions/Current/Resources/bin/R CMD build --keep-empty-dirs --no-resave-data SIMD |
| StartedAt: 2020-01-16 00:13:23 -0500 (Thu, 16 Jan 2020) |
| EndedAt: 2020-01-16 00:13:42 -0500 (Thu, 16 Jan 2020) |
| EllapsedTime: 19.1 seconds |
| RetCode: 0 |
| Status: OK |
| PackageFile: SIMD_1.5.0.tar.gz |
| PackageFileSize: 334.4 KiB |
############################################################################## ############################################################################## ### ### Running command: ### ### /Library/Frameworks/R.framework/Versions/Current/Resources/bin/R CMD build --keep-empty-dirs --no-resave-data SIMD ### ############################################################################## ############################################################################## * checking for file ‘SIMD/DESCRIPTION’ ... OK * preparing ‘SIMD’: * checking DESCRIPTION meta-information ... OK * cleaning src * installing the package to build vignettes * creating vignettes ... OK * cleaning src * checking for LF line-endings in source and make files and shell scripts * checking for empty or unneeded directories * building ‘SIMD_1.5.0.tar.gz’