| Back to Multiple platform build/check report for BioC 3.11 |
|
This page was generated on 2020-01-16 13:53:48 -0500 (Thu, 16 Jan 2020).
| Package 544/1818 | Hostname | OS / Arch | INSTALL | BUILD | CHECK | BUILD BIN | ||||||
| evaluomeR 1.3.41 José Antonio Bernabé-Díaz
| malbec2 | Linux (Ubuntu 18.04.3 LTS) / x86_64 | OK | OK | OK | |||||||
| tokay2 | Windows Server 2012 R2 Standard / x64 | OK | OK | OK | OK | |||||||
| celaya2 | OS X 10.11.6 El Capitan / x86_64 | OK | [ OK ] | OK | OK |
| Package: evaluomeR |
| Version: 1.3.41 |
| Command: /Library/Frameworks/R.framework/Versions/Current/Resources/bin/R CMD build --keep-empty-dirs --no-resave-data evaluomeR |
| StartedAt: 2020-01-16 00:37:58 -0500 (Thu, 16 Jan 2020) |
| EndedAt: 2020-01-16 00:39:56 -0500 (Thu, 16 Jan 2020) |
| EllapsedTime: 118.2 seconds |
| RetCode: 0 |
| Status: OK |
| PackageFile: evaluomeR_1.3.41.tar.gz |
| PackageFileSize: 1.293 MiB |
############################################################################## ############################################################################## ### ### Running command: ### ### /Library/Frameworks/R.framework/Versions/Current/Resources/bin/R CMD build --keep-empty-dirs --no-resave-data evaluomeR ### ############################################################################## ############################################################################## * checking for file ‘evaluomeR/DESCRIPTION’ ... OK * preparing ‘evaluomeR’: * checking DESCRIPTION meta-information ... OK * installing the package to process help pages Loading required namespace: evaluomeR * saving partial Rd database * creating vignettes ... OK * checking for LF line-endings in source and make files and shell scripts * checking for empty or unneeded directories * building ‘evaluomeR_1.3.41.tar.gz’