Back to Multiple platform build/check report for BioC 3.11 |
|
This page was generated on 2020-01-16 13:32:22 -0500 (Thu, 16 Jan 2020).
Package 350/1818 | Hostname | OS / Arch | INSTALL | BUILD | CHECK | BUILD BIN | ||||||
ConsensusClusterPlus 1.51.0 Matt Wilkerson
| malbec2 | Linux (Ubuntu 18.04.3 LTS) / x86_64 | OK | OK | OK | |||||||
tokay2 | Windows Server 2012 R2 Standard / x64 | OK | OK | OK | OK | |||||||
celaya2 | OS X 10.11.6 El Capitan / x86_64 | OK | OK | OK | [ OK ] |
Package: ConsensusClusterPlus |
Version: 1.51.0 |
Command: rm -rf ConsensusClusterPlus.buildbin-libdir && mkdir ConsensusClusterPlus.buildbin-libdir && /Users/biocbuild/BBS/utils/build-universal.sh ConsensusClusterPlus_1.51.0.tar.gz /Library/Frameworks/R.framework/Versions/Current/Resources/bin/R ConsensusClusterPlus.buildbin-libdir |
StartedAt: 2020-01-16 10:41:25 -0500 (Thu, 16 Jan 2020) |
EndedAt: 2020-01-16 10:41:31 -0500 (Thu, 16 Jan 2020) |
EllapsedTime: 6.4 seconds |
RetCode: 0 |
Status: OK |
PackageFile: ConsensusClusterPlus_1.51.0.tgz |
PackageFileSize: 323.7 KiB |
############################################################################## ############################################################################## ### ### Running command: ### ### rm -rf ConsensusClusterPlus.buildbin-libdir && mkdir ConsensusClusterPlus.buildbin-libdir && /Users/biocbuild/BBS/utils/build-universal.sh ConsensusClusterPlus_1.51.0.tar.gz /Library/Frameworks/R.framework/Versions/Current/Resources/bin/R ConsensusClusterPlus.buildbin-libdir ### ############################################################################## ############################################################################## >>>>>>> >>>>>>> INSTALLATION WITH 'R CMD INSTALL --preclean --no-multiarch --library=ConsensusClusterPlus.buildbin-libdir ConsensusClusterPlus_1.51.0.tar.gz' >>>>>>> * installing *source* package ‘ConsensusClusterPlus’ ... ** using staged installation ** R ** inst ** byte-compile and prepare package for lazy loading ** help *** installing help indices ** building package indices ** installing vignettes ** testing if installed package can be loaded from temporary location ** testing if installed package can be loaded from final location ** testing if installed package keeps a record of temporary installation path * DONE (ConsensusClusterPlus)