| Back to Multiple platform build/check report for BioC 3.11 |
|
This page was generated on 2020-01-16 13:52:19 -0500 (Thu, 16 Jan 2020).
| Package 196/1818 | Hostname | OS / Arch | INSTALL | BUILD | CHECK | BUILD BIN | ||||||
| breakpointR 1.5.0 David Porubsky
| malbec2 | Linux (Ubuntu 18.04.3 LTS) / x86_64 | OK | OK | OK | |||||||
| tokay2 | Windows Server 2012 R2 Standard / x64 | OK | OK | OK | OK | |||||||
| celaya2 | OS X 10.11.6 El Capitan / x86_64 | OK | [ OK ] | OK | OK |
| Package: breakpointR |
| Version: 1.5.0 |
| Command: /Library/Frameworks/R.framework/Versions/Current/Resources/bin/R CMD build --keep-empty-dirs --no-resave-data breakpointR |
| StartedAt: 2020-01-16 00:13:36 -0500 (Thu, 16 Jan 2020) |
| EndedAt: 2020-01-16 00:15:23 -0500 (Thu, 16 Jan 2020) |
| EllapsedTime: 107.5 seconds |
| RetCode: 0 |
| Status: OK |
| PackageFile: breakpointR_1.5.0.tar.gz |
| PackageFileSize: 1.057 MiB |
############################################################################## ############################################################################## ### ### Running command: ### ### /Library/Frameworks/R.framework/Versions/Current/Resources/bin/R CMD build --keep-empty-dirs --no-resave-data breakpointR ### ############################################################################## ############################################################################## * checking for file ‘breakpointR/DESCRIPTION’ ... OK * preparing ‘breakpointR’: * checking DESCRIPTION meta-information ... OK * installing the package to build vignettes * creating vignettes ... OK * checking for LF line-endings in source and make files and shell scripts * checking for empty or unneeded directories * building ‘breakpointR_1.5.0.tar.gz’