Back to Multiple platform build/check report for BioC 3.11 |
|
This page was generated on 2020-01-16 13:48:02 -0500 (Thu, 16 Jan 2020).
Package 1093/1818 | Hostname | OS / Arch | INSTALL | BUILD | CHECK | BUILD BIN | ||||||
msgbsR 1.11.0 Benjamin Mayne
| malbec2 | Linux (Ubuntu 18.04.3 LTS) / x86_64 | OK | OK | WARNINGS | |||||||
tokay2 | Windows Server 2012 R2 Standard / x64 | OK | OK | WARNINGS | OK | |||||||
celaya2 | OS X 10.11.6 El Capitan / x86_64 | OK | [ OK ] | WARNINGS | OK |
Package: msgbsR |
Version: 1.11.0 |
Command: /Library/Frameworks/R.framework/Versions/Current/Resources/bin/R CMD build --keep-empty-dirs --no-resave-data msgbsR |
StartedAt: 2020-01-15 23:26:20 -0500 (Wed, 15 Jan 2020) |
EndedAt: 2020-01-15 23:28:58 -0500 (Wed, 15 Jan 2020) |
EllapsedTime: 157.8 seconds |
RetCode: 0 |
Status: OK |
PackageFile: msgbsR_1.11.0.tar.gz |
PackageFileSize: 15.54 MiB |
############################################################################## ############################################################################## ### ### Running command: ### ### /Library/Frameworks/R.framework/Versions/Current/Resources/bin/R CMD build --keep-empty-dirs --no-resave-data msgbsR ### ############################################################################## ############################################################################## * checking for file ‘msgbsR/DESCRIPTION’ ... OK * preparing ‘msgbsR’: * checking DESCRIPTION meta-information ... OK * installing the package to build vignettes * creating vignettes ... OK * checking for LF line-endings in source and make files and shell scripts * checking for empty or unneeded directories * looking to see if a ‘data/datalist’ file should be added * building ‘msgbsR_1.11.0.tar.gz’