| Back to Multiple platform build/check report for BioC 3.11 |
|
This page was generated on 2020-01-16 13:44:22 -0500 (Thu, 16 Jan 2020).
| Package 307/1818 | Hostname | OS / Arch | INSTALL | BUILD | CHECK | BUILD BIN | ||||||
| clustComp 1.15.0 Aurora Torrente
| malbec2 | Linux (Ubuntu 18.04.3 LTS) / x86_64 | OK | OK | OK | |||||||
| tokay2 | Windows Server 2012 R2 Standard / x64 | OK | OK | OK | OK | |||||||
| celaya2 | OS X 10.11.6 El Capitan / x86_64 | OK | OK | [ OK ] | OK |
| Package: clustComp |
| Version: 1.15.0 |
| Command: /Library/Frameworks/R.framework/Versions/Current/Resources/bin/R CMD check --install=check:clustComp.install-out.txt --library=/Library/Frameworks/R.framework/Versions/Current/Resources/library --no-vignettes --timings clustComp_1.15.0.tar.gz |
| StartedAt: 2020-01-16 02:58:38 -0500 (Thu, 16 Jan 2020) |
| EndedAt: 2020-01-16 02:59:40 -0500 (Thu, 16 Jan 2020) |
| EllapsedTime: 62.6 seconds |
| RetCode: 0 |
| Status: OK |
| CheckDir: clustComp.Rcheck |
| Warnings: 0 |
############################################################################## ############################################################################## ### ### Running command: ### ### /Library/Frameworks/R.framework/Versions/Current/Resources/bin/R CMD check --install=check:clustComp.install-out.txt --library=/Library/Frameworks/R.framework/Versions/Current/Resources/library --no-vignettes --timings clustComp_1.15.0.tar.gz ### ############################################################################## ############################################################################## * using log directory ‘/Users/biocbuild/bbs-3.11-bioc/meat/clustComp.Rcheck’ * using R Under development (unstable) (2019-12-14 r77572) * using platform: x86_64-apple-darwin15.6.0 (64-bit) * using session charset: UTF-8 * using option ‘--no-vignettes’ * checking for file ‘clustComp/DESCRIPTION’ ... OK * this is package ‘clustComp’ version ‘1.15.0’ * checking package namespace information ... OK * checking package dependencies ... OK * checking if this is a source package ... OK * checking if there is a namespace ... OK * checking for hidden files and directories ... OK * checking for portable file names ... OK * checking for sufficient/correct file permissions ... OK * checking whether package ‘clustComp’ can be installed ... OK * checking installed package size ... OK * checking package directory ... OK * checking ‘build’ directory ... OK * checking DESCRIPTION meta-information ... OK * checking top-level files ... OK * checking for left-over files ... OK * checking index information ... OK * checking package subdirectories ... OK * checking R files for non-ASCII characters ... OK * checking R files for syntax errors ... OK * checking whether the package can be loaded ... OK * checking whether the package can be loaded with stated dependencies ... OK * checking whether the package can be unloaded cleanly ... OK * checking whether the namespace can be loaded with stated dependencies ... OK * checking whether the namespace can be unloaded cleanly ... OK * checking dependencies in R code ... OK * checking S3 generic/method consistency ... OK * checking replacement functions ... OK * checking foreign function calls ... OK * checking R code for possible problems ... OK * checking Rd files ... OK * checking Rd metadata ... OK * checking Rd cross-references ... OK * checking for missing documentation entries ... OK * checking for code/documentation mismatches ... OK * checking Rd \usage sections ... OK * checking Rd contents ... OK * checking for unstated dependencies in examples ... OK * checking sizes of PDF files under ‘inst/doc’ ... OK * checking files in ‘vignettes’ ... OK * checking examples ... OK * checking for unstated dependencies in ‘tests’ ... OK * checking tests ... Running ‘runTests.R’ OK * checking for unstated dependencies in vignettes ... OK * checking package vignettes in ‘inst/doc’ ... OK * checking running R code from vignettes ... SKIPPED * checking re-building of vignette outputs ... SKIPPED * checking PDF version of manual ... OK * DONE Status: OK
clustComp.Rcheck/00install.out
############################################################################## ############################################################################## ### ### Running command: ### ### /Library/Frameworks/R.framework/Versions/Current/Resources/bin/R CMD INSTALL clustComp ### ############################################################################## ############################################################################## * installing to library ‘/Library/Frameworks/R.framework/Versions/4.0/Resources/library’ * installing *source* package ‘clustComp’ ... ** using staged installation ** R ** inst ** byte-compile and prepare package for lazy loading ** help *** installing help indices ** building package indices ** installing vignettes ** testing if installed package can be loaded from temporary location ** testing if installed package can be loaded from final location ** testing if installed package keeps a record of temporary installation path * DONE (clustComp)
clustComp.Rcheck/tests/runTests.Rout
R Under development (unstable) (2019-12-14 r77572) -- "Unsuffered Consequences"
Copyright (C) 2019 The R Foundation for Statistical Computing
Platform: x86_64-apple-darwin15.6.0 (64-bit)
R is free software and comes with ABSOLUTELY NO WARRANTY.
You are welcome to redistribute it under certain conditions.
Type 'license()' or 'licence()' for distribution details.
R is a collaborative project with many contributors.
Type 'contributors()' for more information and
'citation()' on how to cite R or R packages in publications.
Type 'demo()' for some demos, 'help()' for on-line help, or
'help.start()' for an HTML browser interface to help.
Type 'q()' to quit R.
> BiocGenerics:::testPackage("clustComp")
RUNIT TEST PROTOCOL -- Thu Jan 16 02:59:32 2020
***********************************************
Number of test functions: 3
Number of errors: 0
Number of failures: 0
1 Test Suite :
clustComp RUnit Tests - 3 test functions, 0 errors, 0 failures
Number of test functions: 3
Number of errors: 0
Number of failures: 0
>
> proc.time()
user system elapsed
0.966 0.248 1.165
clustComp.Rcheck/clustComp-Ex.timings
| name | user | system | elapsed | |
| SCmapping | 0.020 | 0.007 | 0.028 | |
| barycentre | 0.002 | 0.001 | 0.003 | |
| drawTreeGraph | 0.084 | 0.021 | 0.104 | |
| dyn.cross | 0.004 | 0.001 | 0.004 | |
| flatVSflat | 0.061 | 0.030 | 0.097 | |
| flatVShier | 0.649 | 0.215 | 0.868 | |
| insert | 0.001 | 0.000 | 0.002 | |
| score.crossing | 0.004 | 0.002 | 0.008 | |
| score.it | 0.009 | 0.002 | 0.010 | |