| Back to Multiple platform build/check report for BioC 3.11 |
|
This page was generated on 2020-01-16 13:55:42 -0500 (Thu, 16 Jan 2020).
| Package 1794/1818 | Hostname | OS / Arch | INSTALL | BUILD | CHECK | BUILD BIN | ||||||
| waddR 1.1.1 Julian Flesch
| malbec2 | Linux (Ubuntu 18.04.3 LTS) / x86_64 | OK | OK | OK | |||||||
| tokay2 | Windows Server 2012 R2 Standard / x64 | OK | OK | OK | NA | |||||||
| celaya2 | OS X 10.11.6 El Capitan / x86_64 | OK | OK | OK | [ OK ] |
| Package: waddR |
| Version: 1.1.1 |
| Command: rm -rf waddR.buildbin-libdir && mkdir waddR.buildbin-libdir && /Users/biocbuild/BBS/utils/build-universal.sh waddR_1.1.1.tar.gz /Library/Frameworks/R.framework/Versions/Current/Resources/bin/R waddR.buildbin-libdir |
| StartedAt: 2020-01-16 12:00:47 -0500 (Thu, 16 Jan 2020) |
| EndedAt: 2020-01-16 12:02:01 -0500 (Thu, 16 Jan 2020) |
| EllapsedTime: 74.1 seconds |
| RetCode: 0 |
| Status: OK |
| PackageFile: waddR_1.1.1.tgz |
| PackageFileSize: 190.5 KiB |
##############################################################################
##############################################################################
###
### Running command:
###
### rm -rf waddR.buildbin-libdir && mkdir waddR.buildbin-libdir && /Users/biocbuild/BBS/utils/build-universal.sh waddR_1.1.1.tar.gz /Library/Frameworks/R.framework/Versions/Current/Resources/bin/R waddR.buildbin-libdir
###
##############################################################################
##############################################################################
>>>>>>>
>>>>>>> INSTALLATION WITH 'R CMD INSTALL --preclean --no-multiarch --library=waddR.buildbin-libdir waddR_1.1.1.tar.gz'
>>>>>>>
* installing *source* package ‘waddR’ ...
** using staged installation
** libs
clang++ -std=gnu++11 -I"/Library/Frameworks/R.framework/Resources/include" -DNDEBUG -I'/Library/Frameworks/R.framework/Versions/4.0/Resources/library/Rcpp/include' -I'/Library/Frameworks/R.framework/Versions/4.0/Resources/library/RcppArmadillo/include' -isysroot /Library/Developer/CommandLineTools/SDKs/MacOSX.sdk -I/usr/local/include -fPIC -Wall -g -O2 -c RcppExports.cpp -o RcppExports.o
clang++ -std=gnu++11 -I"/Library/Frameworks/R.framework/Resources/include" -DNDEBUG -I'/Library/Frameworks/R.framework/Versions/4.0/Resources/library/Rcpp/include' -I'/Library/Frameworks/R.framework/Versions/4.0/Resources/library/RcppArmadillo/include' -isysroot /Library/Developer/CommandLineTools/SDKs/MacOSX.sdk -I/usr/local/include -fPIC -Wall -g -O2 -c wasserstein.cpp -o wasserstein.o
wasserstein.cpp:386:27: warning: unused variable 'out_it_end' [-Wunused-variable]
vector<double>::iterator out_it_end = out.end();
^
wasserstein.cpp:501:4: warning: unused variable 'max_x' [-Wunused-variable]
T max_x = x_sorted[n-1];
^
wasserstein.cpp:1168:8: note: in instantiation of function template specialization 'quantile<double>' requested here
res = quantile(x, q, type);
^
2 warnings generated.
clang++ -std=gnu++11 -dynamiclib -Wl,-headerpad_max_install_names -undefined dynamic_lookup -single_module -multiply_defined suppress -L/Library/Frameworks/R.framework/Resources/lib -L/usr/local/lib -o waddR.so RcppExports.o wasserstein.o -F/Library/Frameworks/R.framework/.. -framework R -Wl,-framework -Wl,CoreFoundation
installing to /Users/biocbuild/bbs-3.11-bioc/meat/waddR.buildbin-libdir/00LOCK-waddR/00new/waddR/libs
** R
** inst
** byte-compile and prepare package for lazy loading
** help
*** installing help indices
** building package indices
** installing vignettes
** testing if installed package can be loaded from temporary location
** checking absolute paths in shared objects and dynamic libraries
** testing if installed package can be loaded from final location
** testing if installed package keeps a record of temporary installation path
* DONE (waddR)
>>>>>>>
>>>>>>> FIXING LINKS FOR waddR.buildbin-libdir/waddR/libs//waddR.so
>>>>>>>
install_name_tool -change "/usr/local/lib/libgcc_s.1.dylib" "/Library/Frameworks/R.framework/Versions/4.0/Resources/lib/libgcc_s.1.dylib" "waddR.buildbin-libdir/waddR/libs//waddR.so"
install_name_tool -change "/usr/local/lib/libgfortran.3.dylib" "/Library/Frameworks/R.framework/Versions/4.0/Resources/lib/libgfortran.3.dylib" "waddR.buildbin-libdir/waddR/libs//waddR.so"
install_name_tool -change "/usr/local/lib/libreadline.5.2.dylib" "/Library/Frameworks/R.framework/Versions/4.0/Resources/lib/libreadline.5.2.dylib" "waddR.buildbin-libdir/waddR/libs//waddR.so"
install_name_tool -change "/usr/local/lib/libreadline.dylib" "/Library/Frameworks/R.framework/Versions/4.0/Resources/lib/libreadline.dylib" "waddR.buildbin-libdir/waddR/libs//waddR.so"
install_name_tool -change "/usr/local/lib/libquadmath.0.dylib" "/Library/Frameworks/R.framework/Versions/4.0/Resources/lib/libquadmath.0.dylib" "waddR.buildbin-libdir/waddR/libs//waddR.so"