| Back to Multiple platform build/check report for BioC 3.11 |
|
This page was generated on 2020-01-16 13:33:31 -0500 (Thu, 16 Jan 2020).
| Package 78/1818 | Hostname | OS / Arch | INSTALL | BUILD | CHECK | BUILD BIN | ||||||
| ArrayExpressHTS 1.37.0 Angela Goncalves
| malbec2 | Linux (Ubuntu 18.04.3 LTS) / x86_64 | OK | OK | WARNINGS | |||||||
| tokay2 | Windows Server 2012 R2 Standard / x64 | ...NOT SUPPORTED... | ||||||||||
| celaya2 | OS X 10.11.6 El Capitan / x86_64 | [ OK ] | OK | OK | OK | |||||||
| Package: ArrayExpressHTS |
| Version: 1.37.0 |
| Command: /Library/Frameworks/R.framework/Versions/Current/Resources/bin/R CMD INSTALL ArrayExpressHTS |
| StartedAt: 2020-01-15 19:00:41 -0500 (Wed, 15 Jan 2020) |
| EndedAt: 2020-01-15 19:01:44 -0500 (Wed, 15 Jan 2020) |
| EllapsedTime: 63.5 seconds |
| RetCode: 0 |
| Status: OK |
##############################################################################
##############################################################################
###
### Running command:
###
### /Library/Frameworks/R.framework/Versions/Current/Resources/bin/R CMD INSTALL ArrayExpressHTS
###
##############################################################################
##############################################################################
* installing to library ‘/Library/Frameworks/R.framework/Versions/4.0/Resources/library’
* installing *source* package ‘ArrayExpressHTS’ ...
** using staged installation
** libs
clang -I"/Library/Frameworks/R.framework/Resources/include" -DNDEBUG -D_FILE_OFFSET_BITS=64 -I'/Library/Frameworks/R.framework/Versions/4.0/Resources/library/Rhtslib/include' -isysroot /Library/Developer/CommandLineTools/SDKs/MacOSX.sdk -I/usr/local/include -fPIC -Wall -g -O2 -c addXS.c -o addXS.o
addXS.c:42:5: warning: implicit declaration of function 'Rprintf' is invalid in C99 [-Wimplicit-function-declaration]
Rprintf("What?\n");
^
1 warning generated.
clang -I"/Library/Frameworks/R.framework/Resources/include" -DNDEBUG -D_FILE_OFFSET_BITS=64 -I'/Library/Frameworks/R.framework/Versions/4.0/Resources/library/Rhtslib/include' -isysroot /Library/Developer/CommandLineTools/SDKs/MacOSX.sdk -I/usr/local/include -fPIC -Wall -g -O2 -c bam_plbuf.c -o bam_plbuf.o
clang -I"/Library/Frameworks/R.framework/Resources/include" -DNDEBUG -D_FILE_OFFSET_BITS=64 -I'/Library/Frameworks/R.framework/Versions/4.0/Resources/library/Rhtslib/include' -isysroot /Library/Developer/CommandLineTools/SDKs/MacOSX.sdk -I/usr/local/include -fPIC -Wall -g -O2 -c fltbam.c -o fltbam.o
fltbam.c:40:19: warning: passing 'unsigned char [50]' to parameter of type 'const char *' converts between pointers to integer types with different sign [-Wpointer-sign]
return(strcmp(k1->str, k2->str) == 0);
^~~~~~~
/Library/Developer/CommandLineTools/SDKs/MacOSX.sdk/usr/include/string.h:77:25: note: passing argument to parameter '__s1' here
int strcmp(const char *__s1, const char *__s2);
^
fltbam.c:40:28: warning: passing 'unsigned char [50]' to parameter of type 'const char *' converts between pointers to integer types with different sign [-Wpointer-sign]
return(strcmp(k1->str, k2->str) == 0);
^~~~~~~
/Library/Developer/CommandLineTools/SDKs/MacOSX.sdk/usr/include/string.h:77:43: note: passing argument to parameter '__s2' here
int strcmp(const char *__s1, const char *__s2);
^
fltbam.c:45:5: warning: implicit declaration of function 'Rprintf' is invalid in C99 [-Wimplicit-function-declaration]
Rprintf("ID: %s, %d\n", k->str, k->length);
^
fltbam.c:51:5: warning: implicit declaration of function 'Rprintf' is invalid in C99 [-Wimplicit-function-declaration]
Rprintf( "\tIndexes for %d mismatches of length %d: ", v->mm, v->length );
^
fltbam.c:70:5: warning: implicit declaration of function 'Rprintf' is invalid in C99 [-Wimplicit-function-declaration]
Rprintf( "Welcome, creating structures...\n" );
^
fltbam.c:91:9: warning: implicit declaration of function 'Rf_error' is invalid in C99 [-Wimplicit-function-declaration]
Rf_error("Fail to open BAM file %s\n", argv[1]);
^
fltbam.c:125:24: warning: passing 'unsigned char [50]' to parameter of type 'char *' converts between pointers to integer types with different sign [-Wpointer-sign]
strcpy(k->str, bam1_qname(line));
^~~~~~
/Library/Developer/CommandLineTools/SDKs/MacOSX.sdk/usr/include/secure/_string.h:83:27: note: expanded from macro 'strcpy'
__builtin___strcpy_chk (dest, src, __darwin_obsz (dest))
^~~~
fltbam.c:126:36: warning: passing 'unsigned char [50]' to parameter of type 'const char *' converts between pointers to integer types with different sign [-Wpointer-sign]
k->length = strlen(k->str);
^~~~~~
/Library/Developer/CommandLineTools/SDKs/MacOSX.sdk/usr/include/string.h:82:28: note: passing argument to parameter '__s' here
size_t strlen(const char *__s);
^
fltbam.c:215:9: warning: implicit declaration of function 'Rf_error' is invalid in C99 [-Wimplicit-function-declaration]
Rf_error("Fail to open BAM file %s\n", argv[1]);
^
fltbam.c:225:9: warning: implicit declaration of function 'Rf_error' is invalid in C99 [-Wimplicit-function-declaration]
Rf_error("Fail to open BAM file %s\n", argv[2]);
^
In file included from fltbam.c:4:
./hashtable_itr.h:32:1: warning: inline function 'hashtable_iterator_key' is not defined [-Wundefined-inline]
hashtable_iterator_key(struct hashtable_itr *i);
^
fltbam.c:189:18: note: used here
kk = hashtable_iterator_key(itr);
^
In file included from fltbam.c:4:
./hashtable_itr.h:46:1: warning: inline function 'hashtable_iterator_value' is not defined [-Wundefined-inline]
hashtable_iterator_value(struct hashtable_itr *i);
^
fltbam.c:190:17: note: used here
v = hashtable_iterator_value(itr);
^
12 warnings generated.
clang -I"/Library/Frameworks/R.framework/Resources/include" -DNDEBUG -D_FILE_OFFSET_BITS=64 -I'/Library/Frameworks/R.framework/Versions/4.0/Resources/library/Rhtslib/include' -isysroot /Library/Developer/CommandLineTools/SDKs/MacOSX.sdk -I/usr/local/include -fPIC -Wall -g -O2 -c functions.c -o functions.o
clang -I"/Library/Frameworks/R.framework/Resources/include" -DNDEBUG -D_FILE_OFFSET_BITS=64 -I'/Library/Frameworks/R.framework/Versions/4.0/Resources/library/Rhtslib/include' -isysroot /Library/Developer/CommandLineTools/SDKs/MacOSX.sdk -I/usr/local/include -fPIC -Wall -g -O2 -c hashtable.c -o hashtable.o
clang -I"/Library/Frameworks/R.framework/Resources/include" -DNDEBUG -D_FILE_OFFSET_BITS=64 -I'/Library/Frameworks/R.framework/Versions/4.0/Resources/library/Rhtslib/include' -isysroot /Library/Developer/CommandLineTools/SDKs/MacOSX.sdk -I/usr/local/include -fPIC -Wall -g -O2 -c hashtable_itr.c -o hashtable_itr.o
clang -I"/Library/Frameworks/R.framework/Resources/include" -DNDEBUG -D_FILE_OFFSET_BITS=64 -I'/Library/Frameworks/R.framework/Versions/4.0/Resources/library/Rhtslib/include' -isysroot /Library/Developer/CommandLineTools/SDKs/MacOSX.sdk -I/usr/local/include -fPIC -Wall -g -O2 -c hashtable_utility.c -o hashtable_utility.o
clang -I"/Library/Frameworks/R.framework/Resources/include" -DNDEBUG -D_FILE_OFFSET_BITS=64 -I'/Library/Frameworks/R.framework/Versions/4.0/Resources/library/Rhtslib/include' -isysroot /Library/Developer/CommandLineTools/SDKs/MacOSX.sdk -I/usr/local/include -fPIC -Wall -g -O2 -c sam.c -o sam.o
clang -dynamiclib -Wl,-headerpad_max_install_names -undefined dynamic_lookup -single_module -multiply_defined suppress -L/Library/Frameworks/R.framework/Resources/lib -L/usr/local/lib -o ArrayExpressHTS.so addXS.o bam_plbuf.o fltbam.o functions.o hashtable.o hashtable_itr.o hashtable_utility.o sam.o /Library/Frameworks/R.framework/Versions/4.0/Resources/library/Rhtslib/usrlib/libhts.a -lcurl -F/Library/Frameworks/R.framework/.. -framework R -Wl,-framework -Wl,CoreFoundation
installing to /Library/Frameworks/R.framework/Versions/4.0/Resources/library/00LOCK-ArrayExpressHTS/00new/ArrayExpressHTS/libs
** R
** inst
** byte-compile and prepare package for lazy loading
No methods found in package ‘Biobase’ for request: ‘read.AnnotatedDataFrame’ when loading ‘ArrayExpressHTS’
No methods found in package ‘IRanges’ for requests: ‘Rle’, ‘subseq’ when loading ‘ArrayExpressHTS’
** help
*** installing help indices
** building package indices
** installing vignettes
** testing if installed package can be loaded from temporary location
No methods found in package ‘Biobase’ for request: ‘read.AnnotatedDataFrame’ when loading ‘ArrayExpressHTS’
No methods found in package ‘IRanges’ for requests: ‘Rle’, ‘subseq’ when loading ‘ArrayExpressHTS’
Wed Jan 15 19:01:27 2020 [AEHTS] Setting Options Step 1
Wed Jan 15 19:01:27 2020 [AEHTS] Setting Options Step 2
Wed Jan 15 19:01:27 2020 [AEHTS] Setting Options Step 3
Wed Jan 15 19:01:27 2020 [AEHTS] *** WARNING ***
Wed Jan 15 19:01:27 2020 [AEHTS]
Wed Jan 15 19:01:27 2020 [AEHTS] fasta_formatter not found
Wed Jan 15 19:01:27 2020 [AEHTS]
Wed Jan 15 19:01:27 2020 [AEHTS] Use options('ArrayExpressHTS.fasta_formatter' = '/path/to/fasta_formatter') to define the location.
Wed Jan 15 19:01:27 2020 [AEHTS] Use .Rprofile to make options persistent.
Wed Jan 15 19:01:27 2020 [AEHTS]
Wed Jan 15 19:01:27 2020 [AEHTS] *** WARNING ***
Wed Jan 15 19:01:27 2020 [AEHTS]
Wed Jan 15 19:01:27 2020 [AEHTS] cufflinks not found
Wed Jan 15 19:01:27 2020 [AEHTS]
Wed Jan 15 19:01:27 2020 [AEHTS] Use options('ArrayExpressHTS.cufflinks' = '/path/to/cufflinks') to define the location.
Wed Jan 15 19:01:27 2020 [AEHTS] Use .Rprofile to make options persistent.
Wed Jan 15 19:01:27 2020 [AEHTS]
Wed Jan 15 19:01:27 2020 [AEHTS] *** WARNING ***
Wed Jan 15 19:01:27 2020 [AEHTS]
Wed Jan 15 19:01:27 2020 [AEHTS] samtools not found
Wed Jan 15 19:01:27 2020 [AEHTS]
Wed Jan 15 19:01:27 2020 [AEHTS] Use options('ArrayExpressHTS.samtools' = '/path/to/samtools') to define the location.
Wed Jan 15 19:01:27 2020 [AEHTS] Use .Rprofile to make options persistent.
Wed Jan 15 19:01:27 2020 [AEHTS]
Wed Jan 15 19:01:27 2020 [AEHTS] *** WARNING ***
Wed Jan 15 19:01:27 2020 [AEHTS]
Wed Jan 15 19:01:27 2020 [AEHTS] bwa not found
Wed Jan 15 19:01:27 2020 [AEHTS]
Wed Jan 15 19:01:27 2020 [AEHTS] Use options('ArrayExpressHTS.bwa' = '/path/to/bwa') to define the location.
Wed Jan 15 19:01:27 2020 [AEHTS] Use .Rprofile to make options persistent.
Wed Jan 15 19:01:27 2020 [AEHTS]
Wed Jan 15 19:01:27 2020 [AEHTS] *** WARNING ***
Wed Jan 15 19:01:27 2020 [AEHTS]
Wed Jan 15 19:01:27 2020 [AEHTS] mmseq not found
Wed Jan 15 19:01:27 2020 [AEHTS]
Wed Jan 15 19:01:27 2020 [AEHTS] Use options('ArrayExpressHTS.mmseq' = '/path/to/mmseq') to define the location.
Wed Jan 15 19:01:27 2020 [AEHTS] Use .Rprofile to make options persistent.
Wed Jan 15 19:01:27 2020 [AEHTS]
Wed Jan 15 19:01:27 2020 [AEHTS] *** WARNING ***
Wed Jan 15 19:01:27 2020 [AEHTS]
Wed Jan 15 19:01:27 2020 [AEHTS] bam2hits not found
Wed Jan 15 19:01:27 2020 [AEHTS]
Wed Jan 15 19:01:27 2020 [AEHTS] Use options('ArrayExpressHTS.bam2hits' = '/path/to/bam2hits') to define the location.
Wed Jan 15 19:01:27 2020 [AEHTS] Use .Rprofile to make options persistent.
Wed Jan 15 19:01:27 2020 [AEHTS]
Wed Jan 15 19:01:27 2020 [AEHTS] *** WARNING ***
Wed Jan 15 19:01:27 2020 [AEHTS]
Wed Jan 15 19:01:27 2020 [AEHTS] bowtie not found
Wed Jan 15 19:01:27 2020 [AEHTS]
Wed Jan 15 19:01:27 2020 [AEHTS] Use options('ArrayExpressHTS.bowtie' = '/path/to/bowtie') to define the location.
Wed Jan 15 19:01:27 2020 [AEHTS] Use .Rprofile to make options persistent.
Wed Jan 15 19:01:27 2020 [AEHTS]
Wed Jan 15 19:01:27 2020 [AEHTS] *** WARNING ***
Wed Jan 15 19:01:27 2020 [AEHTS]
Wed Jan 15 19:01:27 2020 [AEHTS] tophat not found
Wed Jan 15 19:01:27 2020 [AEHTS]
Wed Jan 15 19:01:27 2020 [AEHTS] Use options('ArrayExpressHTS.tophat' = '/path/to/tophat') to define the location.
Wed Jan 15 19:01:27 2020 [AEHTS] Use .Rprofile to make options persistent.
Wed Jan 15 19:01:27 2020 [AEHTS]
** checking absolute paths in shared objects and dynamic libraries
** testing if installed package can be loaded from final location
No methods found in package ‘Biobase’ for request: ‘read.AnnotatedDataFrame’ when loading ‘ArrayExpressHTS’
No methods found in package ‘IRanges’ for requests: ‘Rle’, ‘subseq’ when loading ‘ArrayExpressHTS’
Wed Jan 15 19:01:43 2020 [AEHTS] Setting Options Step 1
Wed Jan 15 19:01:43 2020 [AEHTS] Setting Options Step 2
Wed Jan 15 19:01:43 2020 [AEHTS] Setting Options Step 3
Wed Jan 15 19:01:43 2020 [AEHTS] *** WARNING ***
Wed Jan 15 19:01:43 2020 [AEHTS]
Wed Jan 15 19:01:43 2020 [AEHTS] fasta_formatter not found
Wed Jan 15 19:01:43 2020 [AEHTS]
Wed Jan 15 19:01:43 2020 [AEHTS] Use options('ArrayExpressHTS.fasta_formatter' = '/path/to/fasta_formatter') to define the location.
Wed Jan 15 19:01:43 2020 [AEHTS] Use .Rprofile to make options persistent.
Wed Jan 15 19:01:43 2020 [AEHTS]
Wed Jan 15 19:01:43 2020 [AEHTS] *** WARNING ***
Wed Jan 15 19:01:43 2020 [AEHTS]
Wed Jan 15 19:01:43 2020 [AEHTS] cufflinks not found
Wed Jan 15 19:01:43 2020 [AEHTS]
Wed Jan 15 19:01:43 2020 [AEHTS] Use options('ArrayExpressHTS.cufflinks' = '/path/to/cufflinks') to define the location.
Wed Jan 15 19:01:43 2020 [AEHTS] Use .Rprofile to make options persistent.
Wed Jan 15 19:01:43 2020 [AEHTS]
Wed Jan 15 19:01:44 2020 [AEHTS] *** WARNING ***
Wed Jan 15 19:01:44 2020 [AEHTS]
Wed Jan 15 19:01:44 2020 [AEHTS] samtools not found
Wed Jan 15 19:01:44 2020 [AEHTS]
Wed Jan 15 19:01:44 2020 [AEHTS] Use options('ArrayExpressHTS.samtools' = '/path/to/samtools') to define the location.
Wed Jan 15 19:01:44 2020 [AEHTS] Use .Rprofile to make options persistent.
Wed Jan 15 19:01:44 2020 [AEHTS]
Wed Jan 15 19:01:44 2020 [AEHTS] *** WARNING ***
Wed Jan 15 19:01:44 2020 [AEHTS]
Wed Jan 15 19:01:44 2020 [AEHTS] bwa not found
Wed Jan 15 19:01:44 2020 [AEHTS]
Wed Jan 15 19:01:44 2020 [AEHTS] Use options('ArrayExpressHTS.bwa' = '/path/to/bwa') to define the location.
Wed Jan 15 19:01:44 2020 [AEHTS] Use .Rprofile to make options persistent.
Wed Jan 15 19:01:44 2020 [AEHTS]
Wed Jan 15 19:01:44 2020 [AEHTS] *** WARNING ***
Wed Jan 15 19:01:44 2020 [AEHTS]
Wed Jan 15 19:01:44 2020 [AEHTS] mmseq not found
Wed Jan 15 19:01:44 2020 [AEHTS]
Wed Jan 15 19:01:44 2020 [AEHTS] Use options('ArrayExpressHTS.mmseq' = '/path/to/mmseq') to define the location.
Wed Jan 15 19:01:44 2020 [AEHTS] Use .Rprofile to make options persistent.
Wed Jan 15 19:01:44 2020 [AEHTS]
Wed Jan 15 19:01:44 2020 [AEHTS] *** WARNING ***
Wed Jan 15 19:01:44 2020 [AEHTS]
Wed Jan 15 19:01:44 2020 [AEHTS] bam2hits not found
Wed Jan 15 19:01:44 2020 [AEHTS]
Wed Jan 15 19:01:44 2020 [AEHTS] Use options('ArrayExpressHTS.bam2hits' = '/path/to/bam2hits') to define the location.
Wed Jan 15 19:01:44 2020 [AEHTS] Use .Rprofile to make options persistent.
Wed Jan 15 19:01:44 2020 [AEHTS]
Wed Jan 15 19:01:44 2020 [AEHTS] *** WARNING ***
Wed Jan 15 19:01:44 2020 [AEHTS]
Wed Jan 15 19:01:44 2020 [AEHTS] bowtie not found
Wed Jan 15 19:01:44 2020 [AEHTS]
Wed Jan 15 19:01:44 2020 [AEHTS] Use options('ArrayExpressHTS.bowtie' = '/path/to/bowtie') to define the location.
Wed Jan 15 19:01:44 2020 [AEHTS] Use .Rprofile to make options persistent.
Wed Jan 15 19:01:44 2020 [AEHTS]
Wed Jan 15 19:01:44 2020 [AEHTS] *** WARNING ***
Wed Jan 15 19:01:44 2020 [AEHTS]
Wed Jan 15 19:01:44 2020 [AEHTS] tophat not found
Wed Jan 15 19:01:44 2020 [AEHTS]
Wed Jan 15 19:01:44 2020 [AEHTS] Use options('ArrayExpressHTS.tophat' = '/path/to/tophat') to define the location.
Wed Jan 15 19:01:44 2020 [AEHTS] Use .Rprofile to make options persistent.
Wed Jan 15 19:01:44 2020 [AEHTS]
** testing if installed package keeps a record of temporary installation path
* DONE (ArrayExpressHTS)