| Back to Multiple platform build/check report for BioC 3.11 | 
 | 
This page was generated on 2020-01-16 13:38:15 -0500 (Thu, 16 Jan 2020).
| Package 178/1818 | Hostname | OS / Arch | INSTALL | BUILD | CHECK | BUILD BIN | ||||||
| biosvd 2.23.0 Anneleen Daemen 
 | malbec2 | Linux (Ubuntu 18.04.3 LTS) / x86_64 | OK | OK | OK |  | ||||||
| tokay2 | Windows Server 2012 R2 Standard / x64 | OK | OK | OK | OK |  | ||||||
| celaya2 | OS X 10.11.6 El Capitan / x86_64 | OK | [ OK ] | OK | OK |  | 
| Package: biosvd | 
| Version: 2.23.0 | 
| Command: /Library/Frameworks/R.framework/Versions/Current/Resources/bin/R CMD build --keep-empty-dirs --no-resave-data biosvd | 
| StartedAt: 2020-01-15 21:20:14 -0500 (Wed, 15 Jan 2020) | 
| EndedAt: 2020-01-15 21:21:15 -0500 (Wed, 15 Jan 2020) | 
| EllapsedTime: 60.6 seconds | 
| RetCode: 0 | 
| Status: OK | 
| PackageFile: biosvd_2.23.0.tar.gz | 
| PackageFileSize: 915.1 KiB | 
############################################################################## ############################################################################## ### ### Running command: ### ### /Library/Frameworks/R.framework/Versions/Current/Resources/bin/R CMD build --keep-empty-dirs --no-resave-data biosvd ### ############################################################################## ############################################################################## * checking for file ‘biosvd/DESCRIPTION’ ... OK * preparing ‘biosvd’: * checking DESCRIPTION meta-information ... OK * installing the package to build vignettes * creating vignettes ... OK * checking for LF line-endings in source and make files and shell scripts * checking for empty or unneeded directories * looking to see if a ‘data/datalist’ file should be added * building ‘biosvd_2.23.0.tar.gz’