Back to Multiple platform build/check report for BioC 3.11 |
|
This page was generated on 2020-01-16 13:55:03 -0500 (Thu, 16 Jan 2020).
Package 682/1818 | Hostname | OS / Arch | INSTALL | BUILD | CHECK | BUILD BIN | ||||||
GenomicOZone 1.1.0 Hua Zhong
| malbec2 | Linux (Ubuntu 18.04.3 LTS) / x86_64 | OK | OK | OK | |||||||
tokay2 | Windows Server 2012 R2 Standard / x64 | OK | OK | OK | OK | |||||||
celaya2 | OS X 10.11.6 El Capitan / x86_64 | OK | OK | OK | [ OK ] |
Package: GenomicOZone |
Version: 1.1.0 |
Command: rm -rf GenomicOZone.buildbin-libdir && mkdir GenomicOZone.buildbin-libdir && /Users/biocbuild/BBS/utils/build-universal.sh GenomicOZone_1.1.0.tar.gz /Library/Frameworks/R.framework/Versions/Current/Resources/bin/R GenomicOZone.buildbin-libdir |
StartedAt: 2020-01-16 10:59:43 -0500 (Thu, 16 Jan 2020) |
EndedAt: 2020-01-16 11:01:15 -0500 (Thu, 16 Jan 2020) |
EllapsedTime: 91.3 seconds |
RetCode: 0 |
Status: OK |
PackageFile: GenomicOZone_1.1.0.tgz |
PackageFileSize: 247.9 KiB |
############################################################################## ############################################################################## ### ### Running command: ### ### rm -rf GenomicOZone.buildbin-libdir && mkdir GenomicOZone.buildbin-libdir && /Users/biocbuild/BBS/utils/build-universal.sh GenomicOZone_1.1.0.tar.gz /Library/Frameworks/R.framework/Versions/Current/Resources/bin/R GenomicOZone.buildbin-libdir ### ############################################################################## ############################################################################## >>>>>>> >>>>>>> INSTALLATION WITH 'R CMD INSTALL --preclean --no-multiarch --library=GenomicOZone.buildbin-libdir GenomicOZone_1.1.0.tar.gz' >>>>>>> * installing *source* package ‘GenomicOZone’ ... ** using staged installation ** R ** inst ** byte-compile and prepare package for lazy loading ** help *** installing help indices ** building package indices ** installing vignettes ** testing if installed package can be loaded from temporary location ** testing if installed package can be loaded from final location ** testing if installed package keeps a record of temporary installation path * DONE (GenomicOZone)