| Back to Multiple platform build/check report for BioC 3.11 |
|
This page was generated on 2020-01-16 13:38:56 -0500 (Thu, 16 Jan 2020).
| Package 987/1818 | Hostname | OS / Arch | INSTALL | BUILD | CHECK | BUILD BIN | ||||||
| MeSHDbi 1.23.0 Koki Tsuyuzaki
| malbec2 | Linux (Ubuntu 18.04.3 LTS) / x86_64 | OK | OK | OK | |||||||
| tokay2 | Windows Server 2012 R2 Standard / x64 | OK | OK | OK | OK | |||||||
| celaya2 | OS X 10.11.6 El Capitan / x86_64 | OK | [ OK ] | OK | OK |
| Package: MeSHDbi |
| Version: 1.23.0 |
| Command: /Library/Frameworks/R.framework/Versions/Current/Resources/bin/R CMD build --keep-empty-dirs --no-resave-data MeSHDbi |
| StartedAt: 2020-01-15 21:28:57 -0500 (Wed, 15 Jan 2020) |
| EndedAt: 2020-01-15 21:29:27 -0500 (Wed, 15 Jan 2020) |
| EllapsedTime: 30.8 seconds |
| RetCode: 0 |
| Status: OK |
| PackageFile: MeSHDbi_1.23.0.tar.gz |
| PackageFileSize: 106.8 KiB |
############################################################################## ############################################################################## ### ### Running command: ### ### /Library/Frameworks/R.framework/Versions/Current/Resources/bin/R CMD build --keep-empty-dirs --no-resave-data MeSHDbi ### ############################################################################## ############################################################################## * checking for file ‘MeSHDbi/DESCRIPTION’ ... OK * preparing ‘MeSHDbi’: * checking DESCRIPTION meta-information ... OK * installing the package to build vignettes * creating vignettes ... OK * checking for LF line-endings in source and make files and shell scripts * checking for empty or unneeded directories * looking to see if a ‘data/datalist’ file should be added * building ‘MeSHDbi_1.23.0.tar.gz’