Back to Multiple platform build/check report for BioC 3.11 |
|
This page was generated on 2020-01-16 13:31:16 -0500 (Thu, 16 Jan 2020).
Package 698/1818 | Hostname | OS / Arch | INSTALL | BUILD | CHECK | BUILD BIN | ||||||
GGBase 3.49.0 VJ Carey
| malbec2 | Linux (Ubuntu 18.04.3 LTS) / x86_64 | OK | OK | OK | ![]() | ||||||
tokay2 | Windows Server 2012 R2 Standard / x64 | OK | OK | OK | OK | ![]() | ||||||
celaya2 | OS X 10.11.6 El Capitan / x86_64 | OK | [ OK ] | OK | OK | ![]() |
Package: GGBase |
Version: 3.49.0 |
Command: /Library/Frameworks/R.framework/Versions/Current/Resources/bin/R CMD build --keep-empty-dirs --no-resave-data GGBase |
StartedAt: 2020-01-15 20:07:04 -0500 (Wed, 15 Jan 2020) |
EndedAt: 2020-01-15 20:08:42 -0500 (Wed, 15 Jan 2020) |
EllapsedTime: 98.8 seconds |
RetCode: 0 |
Status: OK |
PackageFile: GGBase_3.49.0.tar.gz |
PackageFileSize: 505.8 KiB |
############################################################################## ############################################################################## ### ### Running command: ### ### /Library/Frameworks/R.framework/Versions/Current/Resources/bin/R CMD build --keep-empty-dirs --no-resave-data GGBase ### ############################################################################## ############################################################################## * checking for file ‘GGBase/DESCRIPTION’ ... OK * preparing ‘GGBase’: * checking DESCRIPTION meta-information ... OK * installing the package to build vignettes * creating vignettes ... OK * excluding invalid files Subdirectory 'man' contains invalid file names: ‘Rd’ * checking for LF line-endings in source and make files and shell scripts * checking for empty or unneeded directories * building ‘GGBase_3.49.0.tar.gz’