| Back to Multiple platform build/check report for BioC 3.11 |
|
This page was generated on 2020-01-16 13:38:00 -0500 (Thu, 16 Jan 2020).
| Package 1712/1818 | Hostname | OS / Arch | INSTALL | BUILD | CHECK | BUILD BIN | ||||||
| TFBSTools 1.25.1 Ge Tan
| malbec2 | Linux (Ubuntu 18.04.3 LTS) / x86_64 | OK | OK | OK | |||||||
| tokay2 | Windows Server 2012 R2 Standard / x64 | OK | OK | OK | NA | |||||||
| celaya2 | OS X 10.11.6 El Capitan / x86_64 | OK | [ OK ] | OK | OK |
| Package: TFBSTools |
| Version: 1.25.1 |
| Command: /Library/Frameworks/R.framework/Versions/Current/Resources/bin/R CMD build --keep-empty-dirs --no-resave-data TFBSTools |
| StartedAt: 2020-01-15 21:16:42 -0500 (Wed, 15 Jan 2020) |
| EndedAt: 2020-01-15 21:18:57 -0500 (Wed, 15 Jan 2020) |
| EllapsedTime: 134.7 seconds |
| RetCode: 0 |
| Status: OK |
| PackageFile: TFBSTools_1.25.1.tar.gz |
| PackageFileSize: 1.209 MiB |
############################################################################## ############################################################################## ### ### Running command: ### ### /Library/Frameworks/R.framework/Versions/Current/Resources/bin/R CMD build --keep-empty-dirs --no-resave-data TFBSTools ### ############################################################################## ############################################################################## * checking for file ‘TFBSTools/DESCRIPTION’ ... OK * preparing ‘TFBSTools’: * checking DESCRIPTION meta-information ... OK * cleaning src * installing the package to build vignettes * creating vignettes ... OK * cleaning src * checking for LF line-endings in source and make files and shell scripts * checking for empty or unneeded directories * building ‘TFBSTools_1.25.1.tar.gz’