| Back to Multiple platform build/check report for BioC 3.11 | 
 | 
This page was generated on 2020-01-16 13:30:16 -0500 (Thu, 16 Jan 2020).
| Package 623/1818 | Hostname | OS / Arch | INSTALL | BUILD | CHECK | BUILD BIN | ||||||
| gaggle 1.55.0 Christopher Bare 
 | malbec2 | Linux (Ubuntu 18.04.3 LTS) / x86_64 | OK | OK | OK |  | ||||||
| tokay2 | Windows Server 2012 R2 Standard / x64 | OK | OK | OK | OK |  | ||||||
| celaya2 | OS X 10.11.6 El Capitan / x86_64 | [ OK ] | OK | OK | OK |  | 
| Package: gaggle | 
| Version: 1.55.0 | 
| Command: /Library/Frameworks/R.framework/Versions/Current/Resources/bin/R CMD INSTALL gaggle | 
| StartedAt: 2020-01-15 18:38:18 -0500 (Wed, 15 Jan 2020) | 
| EndedAt: 2020-01-15 18:38:31 -0500 (Wed, 15 Jan 2020) | 
| EllapsedTime: 13.6 seconds | 
| RetCode: 0 | 
| Status: OK | 
##############################################################################
##############################################################################
###
### Running command:
###
###   /Library/Frameworks/R.framework/Versions/Current/Resources/bin/R CMD INSTALL gaggle
###
##############################################################################
##############################################################################
* installing to library ‘/Library/Frameworks/R.framework/Versions/4.0/Resources/library’
* installing *source* package ‘gaggle’ ...
** using staged installation
** R
** inst
** byte-compile and prepare package for lazy loading
** help
*** installing help indices
** building package indices
** installing vignettes
** testing if installed package can be loaded from temporary location
onLoad -- libname: /Library/Frameworks/R.framework/Versions/4.0/Resources/library/00LOCK-gaggle/00new pkgname: gaggle 
path to jar: /Library/Frameworks/R.framework/Versions/4.0/Resources/library/00LOCK-gaggle/00new/gaggle/jars/gaggleRShell.jar 
      script:  gaggle.R $Revision: 4499 $   $Date: 2010-08-10 17:15:03 -0700 (Tue, 10 Aug 2010) $ 
  os version:  Mac OS X 
 jvm version:  1.8.0_191 
   You are using the wrong version of Java.
   Please see http://gaggle.systemsbiology.org/docs/html/java
** testing if installed package can be loaded from final location
onLoad -- libname: /Library/Frameworks/R.framework/Versions/4.0/Resources/library pkgname: gaggle 
path to jar: /Library/Frameworks/R.framework/Versions/4.0/Resources/library/gaggle/jars/gaggleRShell.jar 
      script:  gaggle.R $Revision: 4499 $   $Date: 2010-08-10 17:15:03 -0700 (Tue, 10 Aug 2010) $ 
  os version:  Mac OS X 
 jvm version:  1.8.0_191 
   You are using the wrong version of Java.
   Please see http://gaggle.systemsbiology.org/docs/html/java
** testing if installed package keeps a record of temporary installation path
* DONE (gaggle)