Back to Multiple platform build/check report for BioC 3.11 |
|
This page was generated on 2020-01-16 13:42:53 -0500 (Thu, 16 Jan 2020).
Package 1169/1818 | Hostname | OS / Arch | INSTALL | BUILD | CHECK | BUILD BIN | ||||||
OGSA 1.17.0 Michael F. Ochs
| malbec2 | Linux (Ubuntu 18.04.3 LTS) / x86_64 | OK | OK | OK | |||||||
tokay2 | Windows Server 2012 R2 Standard / x64 | OK | OK | OK | OK | |||||||
celaya2 | OS X 10.11.6 El Capitan / x86_64 | OK | OK | [ OK ] | OK |
Package: OGSA |
Version: 1.17.0 |
Command: /Library/Frameworks/R.framework/Versions/Current/Resources/bin/R CMD check --install=check:OGSA.install-out.txt --library=/Library/Frameworks/R.framework/Versions/Current/Resources/library --no-vignettes --timings OGSA_1.17.0.tar.gz |
StartedAt: 2020-01-16 07:03:34 -0500 (Thu, 16 Jan 2020) |
EndedAt: 2020-01-16 07:07:55 -0500 (Thu, 16 Jan 2020) |
EllapsedTime: 261.3 seconds |
RetCode: 0 |
Status: OK |
CheckDir: OGSA.Rcheck |
Warnings: 0 |
############################################################################## ############################################################################## ### ### Running command: ### ### /Library/Frameworks/R.framework/Versions/Current/Resources/bin/R CMD check --install=check:OGSA.install-out.txt --library=/Library/Frameworks/R.framework/Versions/Current/Resources/library --no-vignettes --timings OGSA_1.17.0.tar.gz ### ############################################################################## ############################################################################## * using log directory ‘/Users/biocbuild/bbs-3.11-bioc/meat/OGSA.Rcheck’ * using R Under development (unstable) (2019-12-14 r77572) * using platform: x86_64-apple-darwin15.6.0 (64-bit) * using session charset: UTF-8 * using option ‘--no-vignettes’ * checking for file ‘OGSA/DESCRIPTION’ ... OK * this is package ‘OGSA’ version ‘1.17.0’ * checking package namespace information ... OK * checking package dependencies ... OK * checking if this is a source package ... OK * checking if there is a namespace ... OK * checking for hidden files and directories ... OK * checking for portable file names ... OK * checking for sufficient/correct file permissions ... OK * checking whether package ‘OGSA’ can be installed ... OK * checking installed package size ... OK * checking package directory ... OK * checking ‘build’ directory ... OK * checking DESCRIPTION meta-information ... OK * checking top-level files ... OK * checking for left-over files ... OK * checking index information ... OK * checking package subdirectories ... OK * checking R files for non-ASCII characters ... OK * checking R files for syntax errors ... OK * checking whether the package can be loaded ... OK * checking whether the package can be loaded with stated dependencies ... OK * checking whether the package can be unloaded cleanly ... OK * checking whether the namespace can be loaded with stated dependencies ... OK * checking whether the namespace can be unloaded cleanly ... OK * checking dependencies in R code ... OK * checking S3 generic/method consistency ... OK * checking replacement functions ... OK * checking foreign function calls ... OK * checking R code for possible problems ... NOTE copaStat: no visible binding for global variable ‘median’ copaStat: no visible binding for global variable ‘mad’ copaStat: no visible binding for global variable ‘IQR’ copaStat: no visible binding for global variable ‘quantile’ expressionSetPheno: no visible global function definition for ‘relevel’ outCallTib: no visible binding for global variable ‘median’ outCallTib: no visible binding for global variable ‘mad’ outCallTib: no visible binding for global variable ‘IQR’ outCallTib: no visible binding for global variable ‘quantile’ outCallTibE: no visible binding for global variable ‘median’ outCallTibE: no visible binding for global variable ‘mad’ outCallTibE: no visible binding for global variable ‘IQR’ outCallTibE: no visible binding for global variable ‘quantile’ outCount: no visible binding for global variable ‘median’ outCount: no visible binding for global variable ‘mad’ outCount: no visible binding for global variable ‘IQR’ outCount: no visible binding for global variable ‘quantile’ outMap: no visible global function definition for ‘pdf’ outMap: no visible global function definition for ‘dev.off’ Undefined global functions or variables: IQR dev.off mad median pdf quantile relevel Consider adding importFrom("grDevices", "dev.off", "pdf") importFrom("stats", "IQR", "mad", "median", "quantile", "relevel") to your NAMESPACE file. * checking Rd files ... OK * checking Rd metadata ... OK * checking Rd cross-references ... OK * checking for missing documentation entries ... OK * checking for code/documentation mismatches ... OK * checking Rd \usage sections ... OK * checking Rd contents ... OK * checking for unstated dependencies in examples ... OK * checking contents of ‘data’ directory ... OK * checking data for non-ASCII characters ... OK * checking data for ASCII and uncompressed saves ... OK * checking sizes of PDF files under ‘inst/doc’ ... OK * checking files in ‘vignettes’ ... OK * checking examples ... OK Examples with CPU (user + system) or elapsed time > 5s user system elapsed copaStat 156.667 3.781 160.450 copaIntE 5.580 0.096 5.677 outCallTibE 4.964 0.082 5.053 copaInt 4.846 0.159 5.006 * checking for unstated dependencies in vignettes ... OK * checking package vignettes in ‘inst/doc’ ... OK * checking running R code from vignettes ... SKIPPED * checking re-building of vignette outputs ... SKIPPED * checking PDF version of manual ... OK * DONE Status: 1 NOTE See ‘/Users/biocbuild/bbs-3.11-bioc/meat/OGSA.Rcheck/00check.log’ for details.
OGSA.Rcheck/00install.out
############################################################################## ############################################################################## ### ### Running command: ### ### /Library/Frameworks/R.framework/Versions/Current/Resources/bin/R CMD INSTALL OGSA ### ############################################################################## ############################################################################## * installing to library ‘/Library/Frameworks/R.framework/Versions/4.0/Resources/library’ * installing *source* package ‘OGSA’ ... ** using staged installation ** R ** data *** moving datasets to lazyload DB ** inst ** byte-compile and prepare package for lazy loading ** help *** installing help indices ** building package indices ** installing vignettes ** testing if installed package can be loaded from temporary location ** testing if installed package can be loaded from final location ** testing if installed package keeps a record of temporary installation path * DONE (OGSA)
OGSA.Rcheck/OGSA-Ex.timings
name | user | system | elapsed | |
copaInt | 4.846 | 0.159 | 5.006 | |
copaIntE | 5.580 | 0.096 | 5.677 | |
copaStat | 156.667 | 3.781 | 160.450 | |
expressionSetDataSet | 0.184 | 0.024 | 0.209 | |
expressionSetPheno | 0.129 | 0.026 | 0.154 | |
outCallRank | 2.299 | 0.074 | 2.374 | |
outCallRankE | 2.643 | 0.083 | 2.727 | |
outCallTib | 4.704 | 0.093 | 4.797 | |
outCallTibE | 4.964 | 0.082 | 5.053 | |
outCount | 4.501 | 0.087 | 4.592 | |
outMap | 4.741 | 0.109 | 4.852 | |
outRank | 2.498 | 0.101 | 2.600 | |
testGScogps | 0.000 | 0.001 | 0.000 | |