| Back to Multiple platform build/check report for BioC 3.11 |
|
This page was generated on 2020-01-16 13:51:32 -0500 (Thu, 16 Jan 2020).
| Package 1444/1818 | Hostname | OS / Arch | INSTALL | BUILD | CHECK | BUILD BIN | ||||||
| Rmmquant 1.5.0 Zytnicki Matthias
| malbec2 | Linux (Ubuntu 18.04.3 LTS) / x86_64 | OK | OK | OK | |||||||
| tokay2 | Windows Server 2012 R2 Standard / x64 | OK | OK | OK | OK | |||||||
| celaya2 | OS X 10.11.6 El Capitan / x86_64 | OK | [ TIMEOUT ] | skipped | skipped |
| Package: Rmmquant |
| Version: 1.5.0 |
| Command: /Library/Frameworks/R.framework/Versions/Current/Resources/bin/R CMD build --keep-empty-dirs --no-resave-data Rmmquant |
| StartedAt: 2020-01-16 00:03:31 -0500 (Thu, 16 Jan 2020) |
| EndedAt: 2020-01-16 00:43:32 -0500 (Thu, 16 Jan 2020) |
| EllapsedTime: 2400.4 seconds |
| RetCode: None |
| Status: TIMEOUT |
| PackageFile: None |
| PackageFileSize: NA |
############################################################################## ############################################################################## ### ### Running command: ### ### /Library/Frameworks/R.framework/Versions/Current/Resources/bin/R CMD build --keep-empty-dirs --no-resave-data Rmmquant ### ############################################################################## ############################################################################## * checking for file ‘Rmmquant/DESCRIPTION’ ... OK * preparing ‘Rmmquant’: * checking DESCRIPTION meta-information ... OK * cleaning src * installing the package to build vignettes * creating vignettes ...