| Back to Multiple platform build/check report for BioC 3.11 |
|
This page was generated on 2020-01-16 13:51:43 -0500 (Thu, 16 Jan 2020).
| Package 154/1818 | Hostname | OS / Arch | INSTALL | BUILD | CHECK | BUILD BIN | ||||||
| BiocNeighbors 1.5.1 Aaron Lun
| malbec2 | Linux (Ubuntu 18.04.3 LTS) / x86_64 | OK | OK | WARNINGS | |||||||
| tokay2 | Windows Server 2012 R2 Standard / x64 | OK | OK | WARNINGS | OK | |||||||
| celaya2 | OS X 10.11.6 El Capitan / x86_64 | OK | [ OK ] | WARNINGS | OK |
| Package: BiocNeighbors |
| Version: 1.5.1 |
| Command: /Library/Frameworks/R.framework/Versions/Current/Resources/bin/R CMD build --keep-empty-dirs --no-resave-data BiocNeighbors |
| StartedAt: 2020-01-16 00:05:27 -0500 (Thu, 16 Jan 2020) |
| EndedAt: 2020-01-16 00:10:03 -0500 (Thu, 16 Jan 2020) |
| EllapsedTime: 275.8 seconds |
| RetCode: 0 |
| Status: OK |
| PackageFile: BiocNeighbors_1.5.1.tar.gz |
| PackageFileSize: 881.2 KiB |
############################################################################## ############################################################################## ### ### Running command: ### ### /Library/Frameworks/R.framework/Versions/Current/Resources/bin/R CMD build --keep-empty-dirs --no-resave-data BiocNeighbors ### ############################################################################## ############################################################################## * checking for file ‘BiocNeighbors/DESCRIPTION’ ... OK * preparing ‘BiocNeighbors’: * checking DESCRIPTION meta-information ... OK * cleaning src * installing the package to build vignettes * creating vignettes ... OK * cleaning src * checking for LF line-endings in source and make files and shell scripts * checking for empty or unneeded directories * building ‘BiocNeighbors_1.5.1.tar.gz’