| Back to Multiple platform build/check report for BioC 3.11 |
|
This page was generated on 2020-01-16 13:45:48 -0500 (Thu, 16 Jan 2020).
| Package 391/1818 | Hostname | OS / Arch | INSTALL | BUILD | CHECK | BUILD BIN | ||||||
| ctsGE 1.13.0 Michal Sharabi-Schwager
| malbec2 | Linux (Ubuntu 18.04.3 LTS) / x86_64 | OK | OK | OK | |||||||
| tokay2 | Windows Server 2012 R2 Standard / x64 | OK | OK | OK | OK | |||||||
| celaya2 | OS X 10.11.6 El Capitan / x86_64 | OK | [ OK ] | OK | OK |
| Package: ctsGE |
| Version: 1.13.0 |
| Command: /Library/Frameworks/R.framework/Versions/Current/Resources/bin/R CMD build --keep-empty-dirs --no-resave-data ctsGE |
| StartedAt: 2020-01-15 22:57:04 -0500 (Wed, 15 Jan 2020) |
| EndedAt: 2020-01-15 22:57:31 -0500 (Wed, 15 Jan 2020) |
| EllapsedTime: 27.1 seconds |
| RetCode: 0 |
| Status: OK |
| PackageFile: ctsGE_1.13.0.tar.gz |
| PackageFileSize: 1.246 MiB |
##############################################################################
##############################################################################
###
### Running command:
###
### /Library/Frameworks/R.framework/Versions/Current/Resources/bin/R CMD build --keep-empty-dirs --no-resave-data ctsGE
###
##############################################################################
##############################################################################
* checking for file ‘ctsGE/DESCRIPTION’ ... OK
* preparing ‘ctsGE’:
* checking DESCRIPTION meta-information ... OK
* installing the package to build vignettes
* creating vignettes ... OK
Warning: ‘inst/doc’ file
‘ctsGE.html’
ignored as vignettes have been rebuilt.
Run R CMD build with --no-build-vignettes to prevent rebuilding.
* checking for LF line-endings in source and make files and shell scripts
* checking for empty or unneeded directories
* building ‘ctsGE_1.13.0.tar.gz’