| Back to Multiple platform build/check report for BioC 3.11 |
|
This page was generated on 2020-01-16 13:41:39 -0500 (Thu, 16 Jan 2020).
| Package 1592/1818 | Hostname | OS / Arch | INSTALL | BUILD | CHECK | BUILD BIN | ||||||
| SIMAT 1.19.0 M. R. Nezami Ranjbar
| malbec2 | Linux (Ubuntu 18.04.3 LTS) / x86_64 | OK | OK | OK | |||||||
| tokay2 | Windows Server 2012 R2 Standard / x64 | OK | OK | OK | OK | |||||||
| celaya2 | OS X 10.11.6 El Capitan / x86_64 | OK | OK | [ OK ] | OK |
| Package: SIMAT |
| Version: 1.19.0 |
| Command: /Library/Frameworks/R.framework/Versions/Current/Resources/bin/R CMD check --install=check:SIMAT.install-out.txt --library=/Library/Frameworks/R.framework/Versions/Current/Resources/library --no-vignettes --timings SIMAT_1.19.0.tar.gz |
| StartedAt: 2020-01-16 08:57:24 -0500 (Thu, 16 Jan 2020) |
| EndedAt: 2020-01-16 08:59:24 -0500 (Thu, 16 Jan 2020) |
| EllapsedTime: 120.0 seconds |
| RetCode: 0 |
| Status: OK |
| CheckDir: SIMAT.Rcheck |
| Warnings: 0 |
##############################################################################
##############################################################################
###
### Running command:
###
### /Library/Frameworks/R.framework/Versions/Current/Resources/bin/R CMD check --install=check:SIMAT.install-out.txt --library=/Library/Frameworks/R.framework/Versions/Current/Resources/library --no-vignettes --timings SIMAT_1.19.0.tar.gz
###
##############################################################################
##############################################################################
* using log directory ‘/Users/biocbuild/bbs-3.11-bioc/meat/SIMAT.Rcheck’
* using R Under development (unstable) (2019-12-14 r77572)
* using platform: x86_64-apple-darwin15.6.0 (64-bit)
* using session charset: UTF-8
* using option ‘--no-vignettes’
* checking for file ‘SIMAT/DESCRIPTION’ ... OK
* checking extension type ... Package
* this is package ‘SIMAT’ version ‘1.19.0’
* checking package namespace information ... OK
* checking package dependencies ... OK
* checking if this is a source package ... OK
* checking if there is a namespace ... OK
* checking for hidden files and directories ... OK
* checking for portable file names ... OK
* checking for sufficient/correct file permissions ... OK
* checking whether package ‘SIMAT’ can be installed ... OK
* checking installed package size ... OK
* checking package directory ... OK
* checking ‘build’ directory ... OK
* checking DESCRIPTION meta-information ... OK
* checking top-level files ... OK
* checking for left-over files ... OK
* checking index information ... OK
* checking package subdirectories ... OK
* checking R files for non-ASCII characters ... OK
* checking R files for syntax errors ... OK
* checking whether the package can be loaded ... OK
* checking whether the package can be loaded with stated dependencies ... OK
* checking whether the package can be unloaded cleanly ... OK
* checking whether the namespace can be loaded with stated dependencies ... OK
* checking whether the namespace can be unloaded cleanly ... OK
* checking dependencies in R code ... OK
* checking S3 generic/method consistency ... OK
* checking replacement functions ... OK
* checking foreign function calls ... OK
* checking R code for possible problems ... OK
* checking Rd files ... OK
* checking Rd metadata ... OK
* checking Rd cross-references ... OK
* checking for missing documentation entries ... OK
* checking for code/documentation mismatches ... OK
* checking Rd \usage sections ... OK
* checking Rd contents ... OK
* checking for unstated dependencies in examples ... OK
* checking contents of ‘data’ directory ... OK
* checking data for non-ASCII characters ... OK
* checking data for ASCII and uncompressed saves ... OK
* checking sizes of PDF files under ‘inst/doc’ ... OK
* checking files in ‘vignettes’ ... OK
* checking examples ... OK
Examples with CPU (user + system) or elapsed time > 5s
user system elapsed
getTarget 4.039 1.343 5.48
* checking for unstated dependencies in ‘tests’ ... OK
* checking tests ...
Running ‘runTests.R’
OK
* checking for unstated dependencies in vignettes ... OK
* checking package vignettes in ‘inst/doc’ ... OK
* checking running R code from vignettes ... SKIPPED
* checking re-building of vignette outputs ... SKIPPED
* checking PDF version of manual ... OK
* DONE
Status: OK
SIMAT.Rcheck/00install.out
############################################################################## ############################################################################## ### ### Running command: ### ### /Library/Frameworks/R.framework/Versions/Current/Resources/bin/R CMD INSTALL SIMAT ### ############################################################################## ############################################################################## * installing to library ‘/Library/Frameworks/R.framework/Versions/4.0/Resources/library’ * installing *source* package ‘SIMAT’ ... ** using staged installation ** R ** data ** inst ** byte-compile and prepare package for lazy loading ** help *** installing help indices ** building package indices ** installing vignettes ** testing if installed package can be loaded from temporary location ** testing if installed package can be loaded from final location ** testing if installed package keeps a record of temporary installation path * DONE (SIMAT)
SIMAT.Rcheck/tests/runTests.Rout
R Under development (unstable) (2019-12-14 r77572) -- "Unsuffered Consequences"
Copyright (C) 2019 The R Foundation for Statistical Computing
Platform: x86_64-apple-darwin15.6.0 (64-bit)
R is free software and comes with ABSOLUTELY NO WARRANTY.
You are welcome to redistribute it under certain conditions.
Type 'license()' or 'licence()' for distribution details.
R is a collaborative project with many contributors.
Type 'contributors()' for more information and
'citation()' on how to cite R or R packages in publications.
Type 'demo()' for some demos, 'help()' for on-line help, or
'help.start()' for an HTML browser interface to help.
Type 'q()' to quit R.
> ## function for RUnit tests
>
> BiocGenerics:::testPackage("SIMAT")
RUNIT TEST PROTOCOL -- Thu Jan 16 08:59:16 2020
***********************************************
Number of test functions: 16
Number of errors: 0
Number of failures: 0
1 Test Suite :
SIMAT RUnit Tests - 16 test functions, 0 errors, 0 failures
Number of test functions: 16
Number of errors: 0
Number of failures: 0
>
> proc.time()
user system elapsed
3.457 0.401 3.842
SIMAT.Rcheck/SIMAT-Ex.timings
| name | user | system | elapsed | |
| Library | 0.008 | 0.005 | 0.013 | |
| RItable | 0.003 | 0.006 | 0.008 | |
| Run | 0.087 | 0.014 | 0.102 | |
| Targets | 0.002 | 0.004 | 0.006 | |
| getEIC | 0.159 | 0.025 | 0.184 | |
| getPeak | 0.933 | 0.100 | 1.032 | |
| getPeakScore | 0.684 | 0.031 | 0.715 | |
| getRI | 0.003 | 0.006 | 0.009 | |
| getRIStandard | 0.006 | 0.001 | 0.008 | |
| getScore | 0.000 | 0.000 | 0.001 | |
| getTarget | 4.039 | 1.343 | 5.480 | |
| getTargetTable | 0.004 | 0.001 | 0.005 | |
| optFrag | 3.309 | 1.039 | 4.426 | |
| plotEIC | 1.595 | 0.052 | 1.730 | |
| plotTIC | 0.499 | 0.038 | 0.538 | |
| putTargetTable | 0.003 | 0.007 | 0.011 | |
| readCDF | 3.620 | 0.042 | 3.741 | |
| readMSL | 0.027 | 0.001 | 0.047 | |
| target.table | 0.002 | 0.005 | 0.007 | |
| writeMSL | 0.004 | 0.006 | 0.009 | |
| writeResult | 0.639 | 0.018 | 0.656 | |